BEGIN:VCALENDAR
VERSION:2.0
PRODID:-//Moorabbin–Dandenong Lutheran Church, Vic - ECPv6.8.1//NONSGML v1.0//EN
CALSCALE:GREGORIAN
METHOD:PUBLISH
X-WR-CALNAME:Moorabbin–Dandenong Lutheran Church, Vic
X-ORIGINAL-URL:https://mdlc.lca.org.au
X-WR-CALDESC:Events for Moorabbin–Dandenong Lutheran Church, Vic
REFRESH-INTERVAL;VALUE=DURATION:PT1H
X-Robots-Tag:noindex
X-PUBLISHED-TTL:PT1H
BEGIN:VTIMEZONE
TZID:Australia/Melbourne
BEGIN:STANDARD
TZOFFSETFROM:+1100
TZOFFSETTO:+1000
TZNAME:AEST
DTSTART:20250405T160000
END:STANDARD
BEGIN:DAYLIGHT
TZOFFSETFROM:+1000
TZOFFSETTO:+1100
TZNAME:AEDT
DTSTART:20251004T160000
END:DAYLIGHT
BEGIN:STANDARD
TZOFFSETFROM:+1100
TZOFFSETTO:+1000
TZNAME:AEST
DTSTART:20260404T160000
END:STANDARD
BEGIN:DAYLIGHT
TZOFFSETFROM:+1000
TZOFFSETTO:+1100
TZNAME:AEDT
DTSTART:20261003T160000
END:DAYLIGHT
TZID:Australia/Adelaide
BEGIN:STANDARD
TZOFFSETFROM:+1030
TZOFFSETTO:+0930
TZNAME:ACST
DTSTART:20250405T163000
END:STANDARD
BEGIN:DAYLIGHT
TZOFFSETFROM:+0930
TZOFFSETTO:+1030
TZNAME:ACDT
DTSTART:20251004T163000
END:DAYLIGHT
BEGIN:STANDARD
TZOFFSETFROM:+1030
TZOFFSETTO:+0930
TZNAME:ACST
DTSTART:20260404T163000
END:STANDARD
BEGIN:DAYLIGHT
TZOFFSETFROM:+0930
TZOFFSETTO:+1030
TZNAME:ACDT
DTSTART:20261003T163000
END:DAYLIGHT
END:VTIMEZONE
BEGIN:VEVENT
DTSTART;TZID=Australia/Melbourne:20260318T093000
DTEND;TZID=Australia/Melbourne:20260318T113000
DTSTAMP:20260422T071531
CREATED:20251223T003436Z
LAST-MODIFIED:20251223T003436Z
UID:10000843-1773826200-1773833400@mdlc.lca.org.au
SUMMARY:Crafty Chat
DESCRIPTION:Please pop in for a cuppa\, a chat and maybe even some craft. All are welcome and so are your craft ideas.
URL:https://mdlc.lca.org.au/event/crafty-chat-2-2-2/2026-03-18/
LOCATION:St James\, Moorabbin\, 416 South Road\, Moorabbin\, Victoria\, Australia
CATEGORIES:Crafty Chat
ATTACH;FMTTYPE=image/jpeg:https://mdlc.lca.org.au/wp-content/uploads/sites/2422/2023/02/crafty-chat-ducks.jpg
GEO:-37.9343841;145.0412199
X-APPLE-STRUCTURED-LOCATION;VALUE=URI;X-ADDRESS=St James Moorabbin 416 South Road Moorabbin Victoria Australia;X-APPLE-RADIUS=500;X-TITLE=416 South Road:geo:145.0412199,-37.9343841
END:VEVENT
BEGIN:VEVENT
DTSTART;TZID=Australia/Melbourne:20260315T170000
DTEND;TZID=Australia/Melbourne:20260315T193000
DTSTAMP:20260422T071531
CREATED:20260310T022917Z
LAST-MODIFIED:20260310T022917Z
UID:10001819-1773594000-1773603000@mdlc.lca.org.au
SUMMARY:Evening Worship Service
DESCRIPTION:Come and join us for an evening service replacing the usual 9 am for this day. To be followed by fellowship with a BBQ.
URL:https://mdlc.lca.org.au/event/evening-worship-service/
LOCATION:St James\, Moorabbin\, 416 South Road\, Moorabbin\, Victoria\, Australia
CATEGORIES:Worship
GEO:-37.9343841;145.0412199
X-APPLE-STRUCTURED-LOCATION;VALUE=URI;X-ADDRESS=St James Moorabbin 416 South Road Moorabbin Victoria Australia;X-APPLE-RADIUS=500;X-TITLE=416 South Road:geo:145.0412199,-37.9343841
END:VEVENT
BEGIN:VEVENT
DTSTART;TZID=Australia/Melbourne:20260315T090000
DTEND;TZID=Australia/Melbourne:20260315T110000
DTSTAMP:20260422T071531
CREATED:20260310T022730Z
LAST-MODIFIED:20260310T022730Z
UID:10000745-1773565200-1773572400@mdlc.lca.org.au
SUMMARY:Worship with St James\, Moorabbin
DESCRIPTION:9.00am
URL:https://mdlc.lca.org.au/event/worship-with-st-james-moorabbin-6/2026-03-15/
LOCATION:St James\, Moorabbin\, 416 South Road\, Moorabbin\, Victoria\, Australia
CATEGORIES:Worship
GEO:-37.9343841;145.0412199
X-APPLE-STRUCTURED-LOCATION;VALUE=URI;X-ADDRESS=St James Moorabbin 416 South Road Moorabbin Victoria Australia;X-APPLE-RADIUS=500;X-TITLE=416 South Road:geo:145.0412199,-37.9343841
END:VEVENT
BEGIN:VEVENT
DTSTART;TZID=Australia/Melbourne:20260311T093000
DTEND;TZID=Australia/Melbourne:20260311T113000
DTSTAMP:20260422T071531
CREATED:20251223T003436Z
LAST-MODIFIED:20251223T003436Z
UID:10000842-1773221400-1773228600@mdlc.lca.org.au
SUMMARY:Crafty Chat
DESCRIPTION:Please pop in for a cuppa\, a chat and maybe even some craft. All are welcome and so are your craft ideas.
URL:https://mdlc.lca.org.au/event/crafty-chat-2-2-2/2026-03-11/
LOCATION:St James\, Moorabbin\, 416 South Road\, Moorabbin\, Victoria\, Australia
CATEGORIES:Crafty Chat
ATTACH;FMTTYPE=image/jpeg:https://mdlc.lca.org.au/wp-content/uploads/sites/2422/2023/02/crafty-chat-ducks.jpg
GEO:-37.9343841;145.0412199
X-APPLE-STRUCTURED-LOCATION;VALUE=URI;X-ADDRESS=St James Moorabbin 416 South Road Moorabbin Victoria Australia;X-APPLE-RADIUS=500;X-TITLE=416 South Road:geo:145.0412199,-37.9343841
END:VEVENT
BEGIN:VEVENT
DTSTART;TZID=Australia/Melbourne:20260308T100000
DTEND;TZID=Australia/Melbourne:20260308T120000
DTSTAMP:20260422T071531
CREATED:20220222T031333Z
LAST-MODIFIED:20231212T045700Z
UID:10000647-1772964000-1772971200@mdlc.lca.org.au
SUMMARY:Worship with St James\, Moorabbin
DESCRIPTION:10.00am
URL:https://mdlc.lca.org.au/event/worship-with-st-james-moorabbin-2-2/2026-03-08/
LOCATION:St James\, Moorabbin\, 416 South Road\, Moorabbin\, Victoria\, Australia
CATEGORIES:Worship
GEO:-37.9343841;145.0412199
X-APPLE-STRUCTURED-LOCATION;VALUE=URI;X-ADDRESS=St James Moorabbin 416 South Road Moorabbin Victoria Australia;X-APPLE-RADIUS=500;X-TITLE=416 South Road:geo:145.0412199,-37.9343841
END:VEVENT
BEGIN:VEVENT
DTSTART;TZID=Australia/Melbourne:20260304T093000
DTEND;TZID=Australia/Melbourne:20260304T113000
DTSTAMP:20260422T071531
CREATED:20251223T003436Z
LAST-MODIFIED:20251223T003436Z
UID:10000841-1772616600-1772623800@mdlc.lca.org.au
SUMMARY:Crafty Chat
DESCRIPTION:Please pop in for a cuppa\, a chat and maybe even some craft. All are welcome and so are your craft ideas.
URL:https://mdlc.lca.org.au/event/crafty-chat-2-2-2/2026-03-04/
LOCATION:St James\, Moorabbin\, 416 South Road\, Moorabbin\, Victoria\, Australia
CATEGORIES:Crafty Chat
ATTACH;FMTTYPE=image/jpeg:https://mdlc.lca.org.au/wp-content/uploads/sites/2422/2023/02/crafty-chat-ducks.jpg
GEO:-37.9343841;145.0412199
X-APPLE-STRUCTURED-LOCATION;VALUE=URI;X-ADDRESS=St James Moorabbin 416 South Road Moorabbin Victoria Australia;X-APPLE-RADIUS=500;X-TITLE=416 South Road:geo:145.0412199,-37.9343841
END:VEVENT
BEGIN:VEVENT
DTSTART;TZID=Australia/Adelaide:20260301T090000
DTEND;TZID=Australia/Adelaide:20260301T110000
DTSTAMP:20260422T071531
CREATED:20220121T032405Z
LAST-MODIFIED:20231212T045512Z
UID:10000695-1772355600-1772362800@mdlc.lca.org.au
SUMMARY:Worship with St James\, Moorabbin
DESCRIPTION:9.00am
URL:https://mdlc.lca.org.au/event/st-james-moorabbin-2/2026-03-01/
LOCATION:St James\, Moorabbin\, 416 South Road\, Moorabbin\, Victoria\, Australia
CATEGORIES:Worship
GEO:-37.9343841;145.0412199
X-APPLE-STRUCTURED-LOCATION;VALUE=URI;X-ADDRESS=St James Moorabbin 416 South Road Moorabbin Victoria Australia;X-APPLE-RADIUS=500;X-TITLE=416 South Road:geo:145.0412199,-37.9343841
END:VEVENT
BEGIN:VEVENT
DTSTART;TZID=Australia/Melbourne:20260225T093000
DTEND;TZID=Australia/Melbourne:20260225T113000
DTSTAMP:20260422T071531
CREATED:20251223T003436Z
LAST-MODIFIED:20251223T003436Z
UID:10000840-1772011800-1772019000@mdlc.lca.org.au
SUMMARY:Crafty Chat
DESCRIPTION:Please pop in for a cuppa\, a chat and maybe even some craft. All are welcome and so are your craft ideas.
URL:https://mdlc.lca.org.au/event/crafty-chat-2-2-2/2026-02-25/
LOCATION:St James\, Moorabbin\, 416 South Road\, Moorabbin\, Victoria\, Australia
CATEGORIES:Crafty Chat
ATTACH;FMTTYPE=image/jpeg:https://mdlc.lca.org.au/wp-content/uploads/sites/2422/2023/02/crafty-chat-ducks.jpg
GEO:-37.9343841;145.0412199
X-APPLE-STRUCTURED-LOCATION;VALUE=URI;X-ADDRESS=St James Moorabbin 416 South Road Moorabbin Victoria Australia;X-APPLE-RADIUS=500;X-TITLE=416 South Road:geo:145.0412199,-37.9343841
END:VEVENT
BEGIN:VEVENT
DTSTART;TZID=Australia/Melbourne:20260222T100000
DTEND;TZID=Australia/Melbourne:20260222T120000
DTSTAMP:20260422T071531
CREATED:20231212T040940Z
LAST-MODIFIED:20241204T042009Z
UID:10001589-1771754400-1771761600@mdlc.lca.org.au
SUMMARY:Worship with St James\, Moorabbin
DESCRIPTION:10.00am
URL:https://mdlc.lca.org.au/event/worship-with-st-james-moorabbin-2/2026-02-22/
LOCATION:St James\, Moorabbin\, 416 South Road\, Moorabbin\, Victoria\, Australia
CATEGORIES:Worship
GEO:-37.9343841;145.0412199
X-APPLE-STRUCTURED-LOCATION;VALUE=URI;X-ADDRESS=St James Moorabbin 416 South Road Moorabbin Victoria Australia;X-APPLE-RADIUS=500;X-TITLE=416 South Road:geo:145.0412199,-37.9343841
END:VEVENT
BEGIN:VEVENT
DTSTART;TZID=Australia/Melbourne:20260218T093000
DTEND;TZID=Australia/Melbourne:20260218T113000
DTSTAMP:20260422T071531
CREATED:20251223T003436Z
LAST-MODIFIED:20251223T003436Z
UID:10000839-1771407000-1771414200@mdlc.lca.org.au
SUMMARY:Crafty Chat
DESCRIPTION:Please pop in for a cuppa\, a chat and maybe even some craft. All are welcome and so are your craft ideas.
URL:https://mdlc.lca.org.au/event/crafty-chat-2-2-2/2026-02-18/
LOCATION:St James\, Moorabbin\, 416 South Road\, Moorabbin\, Victoria\, Australia
CATEGORIES:Crafty Chat
ATTACH;FMTTYPE=image/jpeg:https://mdlc.lca.org.au/wp-content/uploads/sites/2422/2023/02/crafty-chat-ducks.jpg
GEO:-37.9343841;145.0412199
X-APPLE-STRUCTURED-LOCATION;VALUE=URI;X-ADDRESS=St James Moorabbin 416 South Road Moorabbin Victoria Australia;X-APPLE-RADIUS=500;X-TITLE=416 South Road:geo:145.0412199,-37.9343841
END:VEVENT
BEGIN:VEVENT
DTSTART;TZID=Australia/Melbourne:20260215T090000
DTEND;TZID=Australia/Melbourne:20260215T110000
DTSTAMP:20260422T071531
CREATED:20220222T031117Z
LAST-MODIFIED:20231212T050026Z
UID:10000744-1771146000-1771153200@mdlc.lca.org.au
SUMMARY:Worship with St James\, Moorabbin
DESCRIPTION:9.00am
URL:https://mdlc.lca.org.au/event/worship-with-st-james-moorabbin/2026-02-15/
LOCATION:St James\, Moorabbin\, 416 South Road\, Moorabbin\, Victoria\, Australia
CATEGORIES:Worship
GEO:-37.9343841;145.0412199
X-APPLE-STRUCTURED-LOCATION;VALUE=URI;X-ADDRESS=St James Moorabbin 416 South Road Moorabbin Victoria Australia;X-APPLE-RADIUS=500;X-TITLE=416 South Road:geo:145.0412199,-37.9343841
END:VEVENT
BEGIN:VEVENT
DTSTART;TZID=Australia/Melbourne:20260211T093000
DTEND;TZID=Australia/Melbourne:20260211T113000
DTSTAMP:20260422T071531
CREATED:20251223T003436Z
LAST-MODIFIED:20251223T003436Z
UID:10000838-1770802200-1770809400@mdlc.lca.org.au
SUMMARY:Crafty Chat
DESCRIPTION:Please pop in for a cuppa\, a chat and maybe even some craft. All are welcome and so are your craft ideas.
URL:https://mdlc.lca.org.au/event/crafty-chat-2-2-2/2026-02-11/
LOCATION:St James\, Moorabbin\, 416 South Road\, Moorabbin\, Victoria\, Australia
CATEGORIES:Crafty Chat
ATTACH;FMTTYPE=image/jpeg:https://mdlc.lca.org.au/wp-content/uploads/sites/2422/2023/02/crafty-chat-ducks.jpg
GEO:-37.9343841;145.0412199
X-APPLE-STRUCTURED-LOCATION;VALUE=URI;X-ADDRESS=St James Moorabbin 416 South Road Moorabbin Victoria Australia;X-APPLE-RADIUS=500;X-TITLE=416 South Road:geo:145.0412199,-37.9343841
END:VEVENT
BEGIN:VEVENT
DTSTART;TZID=Australia/Melbourne:20260208T100000
DTEND;TZID=Australia/Melbourne:20260208T120000
DTSTAMP:20260422T071531
CREATED:20220222T031333Z
LAST-MODIFIED:20231212T045700Z
UID:10000646-1770544800-1770552000@mdlc.lca.org.au
SUMMARY:Worship with St James\, Moorabbin
DESCRIPTION:10.00am
URL:https://mdlc.lca.org.au/event/worship-with-st-james-moorabbin-2-2/2026-02-08/
LOCATION:St James\, Moorabbin\, 416 South Road\, Moorabbin\, Victoria\, Australia
CATEGORIES:Worship
GEO:-37.9343841;145.0412199
X-APPLE-STRUCTURED-LOCATION;VALUE=URI;X-ADDRESS=St James Moorabbin 416 South Road Moorabbin Victoria Australia;X-APPLE-RADIUS=500;X-TITLE=416 South Road:geo:145.0412199,-37.9343841
END:VEVENT
BEGIN:VEVENT
DTSTART;TZID=Australia/Melbourne:20260204T093000
DTEND;TZID=Australia/Melbourne:20260204T113000
DTSTAMP:20260422T071531
CREATED:20251223T003436Z
LAST-MODIFIED:20251223T003436Z
UID:10000837-1770197400-1770204600@mdlc.lca.org.au
SUMMARY:Crafty Chat
DESCRIPTION:Please pop in for a cuppa\, a chat and maybe even some craft. All are welcome and so are your craft ideas.
URL:https://mdlc.lca.org.au/event/crafty-chat-2-2-2/2026-02-04/
LOCATION:St James\, Moorabbin\, 416 South Road\, Moorabbin\, Victoria\, Australia
CATEGORIES:Crafty Chat
ATTACH;FMTTYPE=image/jpeg:https://mdlc.lca.org.au/wp-content/uploads/sites/2422/2023/02/crafty-chat-ducks.jpg
GEO:-37.9343841;145.0412199
X-APPLE-STRUCTURED-LOCATION;VALUE=URI;X-ADDRESS=St James Moorabbin 416 South Road Moorabbin Victoria Australia;X-APPLE-RADIUS=500;X-TITLE=416 South Road:geo:145.0412199,-37.9343841
END:VEVENT
BEGIN:VEVENT
DTSTART;TZID=Australia/Adelaide:20260201T090000
DTEND;TZID=Australia/Adelaide:20260201T110000
DTSTAMP:20260422T071531
CREATED:20220121T032405Z
LAST-MODIFIED:20231212T045512Z
UID:10000694-1769936400-1769943600@mdlc.lca.org.au
SUMMARY:Worship with St James\, Moorabbin
DESCRIPTION:9.00am
URL:https://mdlc.lca.org.au/event/st-james-moorabbin-2/2026-02-01/
LOCATION:St James\, Moorabbin\, 416 South Road\, Moorabbin\, Victoria\, Australia
CATEGORIES:Worship
GEO:-37.9343841;145.0412199
X-APPLE-STRUCTURED-LOCATION;VALUE=URI;X-ADDRESS=St James Moorabbin 416 South Road Moorabbin Victoria Australia;X-APPLE-RADIUS=500;X-TITLE=416 South Road:geo:145.0412199,-37.9343841
END:VEVENT
BEGIN:VEVENT
DTSTART;TZID=Australia/Melbourne:20260128T093000
DTEND;TZID=Australia/Melbourne:20260128T113000
DTSTAMP:20260422T071531
CREATED:20251223T003436Z
LAST-MODIFIED:20251223T003436Z
UID:10000836-1769592600-1769599800@mdlc.lca.org.au
SUMMARY:Crafty Chat
DESCRIPTION:Please pop in for a cuppa\, a chat and maybe even some craft. All are welcome and so are your craft ideas.
URL:https://mdlc.lca.org.au/event/crafty-chat-2-2-2/2026-01-28/
LOCATION:St James\, Moorabbin\, 416 South Road\, Moorabbin\, Victoria\, Australia
CATEGORIES:Crafty Chat
ATTACH;FMTTYPE=image/jpeg:https://mdlc.lca.org.au/wp-content/uploads/sites/2422/2023/02/crafty-chat-ducks.jpg
GEO:-37.9343841;145.0412199
X-APPLE-STRUCTURED-LOCATION;VALUE=URI;X-ADDRESS=St James Moorabbin 416 South Road Moorabbin Victoria Australia;X-APPLE-RADIUS=500;X-TITLE=416 South Road:geo:145.0412199,-37.9343841
END:VEVENT
BEGIN:VEVENT
DTSTART;TZID=Australia/Melbourne:20260125T100000
DTEND;TZID=Australia/Melbourne:20260125T120000
DTSTAMP:20260422T071531
CREATED:20231212T040940Z
LAST-MODIFIED:20241204T042009Z
UID:10001588-1769335200-1769342400@mdlc.lca.org.au
SUMMARY:Worship with St James\, Moorabbin
DESCRIPTION:10.00am
URL:https://mdlc.lca.org.au/event/worship-with-st-james-moorabbin-2/2026-01-25/
LOCATION:St James\, Moorabbin\, 416 South Road\, Moorabbin\, Victoria\, Australia
CATEGORIES:Worship
GEO:-37.9343841;145.0412199
X-APPLE-STRUCTURED-LOCATION;VALUE=URI;X-ADDRESS=St James Moorabbin 416 South Road Moorabbin Victoria Australia;X-APPLE-RADIUS=500;X-TITLE=416 South Road:geo:145.0412199,-37.9343841
END:VEVENT
BEGIN:VEVENT
DTSTART;TZID=Australia/Melbourne:20260118T090000
DTEND;TZID=Australia/Melbourne:20260118T110000
DTSTAMP:20260422T071531
CREATED:20220222T031117Z
LAST-MODIFIED:20231212T050026Z
UID:10000743-1768726800-1768734000@mdlc.lca.org.au
SUMMARY:Worship with St James\, Moorabbin
DESCRIPTION:9.00am
URL:https://mdlc.lca.org.au/event/worship-with-st-james-moorabbin/2026-01-18/
LOCATION:St James\, Moorabbin\, 416 South Road\, Moorabbin\, Victoria\, Australia
CATEGORIES:Worship
GEO:-37.9343841;145.0412199
X-APPLE-STRUCTURED-LOCATION;VALUE=URI;X-ADDRESS=St James Moorabbin 416 South Road Moorabbin Victoria Australia;X-APPLE-RADIUS=500;X-TITLE=416 South Road:geo:145.0412199,-37.9343841
END:VEVENT
BEGIN:VEVENT
DTSTART;TZID=Australia/Melbourne:20260111T100000
DTEND;TZID=Australia/Melbourne:20260111T120000
DTSTAMP:20260422T071531
CREATED:20220222T031333Z
LAST-MODIFIED:20231212T045700Z
UID:10000645-1768125600-1768132800@mdlc.lca.org.au
SUMMARY:Worship with St James\, Moorabbin
DESCRIPTION:10.00am
URL:https://mdlc.lca.org.au/event/worship-with-st-james-moorabbin-2-2/2026-01-11/
LOCATION:St James\, Moorabbin\, 416 South Road\, Moorabbin\, Victoria\, Australia
CATEGORIES:Worship
GEO:-37.9343841;145.0412199
X-APPLE-STRUCTURED-LOCATION;VALUE=URI;X-ADDRESS=St James Moorabbin 416 South Road Moorabbin Victoria Australia;X-APPLE-RADIUS=500;X-TITLE=416 South Road:geo:145.0412199,-37.9343841
END:VEVENT
BEGIN:VEVENT
DTSTART;TZID=Australia/Adelaide:20260104T090000
DTEND;TZID=Australia/Adelaide:20260104T110000
DTSTAMP:20260422T071531
CREATED:20220121T032405Z
LAST-MODIFIED:20231212T045512Z
UID:10000693-1767517200-1767524400@mdlc.lca.org.au
SUMMARY:Worship with St James\, Moorabbin
DESCRIPTION:9.00am
URL:https://mdlc.lca.org.au/event/st-james-moorabbin-2/2026-01-04/
LOCATION:St James\, Moorabbin\, 416 South Road\, Moorabbin\, Victoria\, Australia
CATEGORIES:Worship
GEO:-37.9343841;145.0412199
X-APPLE-STRUCTURED-LOCATION;VALUE=URI;X-ADDRESS=St James Moorabbin 416 South Road Moorabbin Victoria Australia;X-APPLE-RADIUS=500;X-TITLE=416 South Road:geo:145.0412199,-37.9343841
END:VEVENT
BEGIN:VEVENT
DTSTART;TZID=Australia/Melbourne:20251228T100000
DTEND;TZID=Australia/Melbourne:20251228T120000
DTSTAMP:20260422T071531
CREATED:20231212T040940Z
LAST-MODIFIED:20241204T042009Z
UID:10001587-1766916000-1766923200@mdlc.lca.org.au
SUMMARY:Worship with St James\, Moorabbin
DESCRIPTION:10.00am
URL:https://mdlc.lca.org.au/event/worship-with-st-james-moorabbin-2/2025-12-28/
LOCATION:St James\, Moorabbin\, 416 South Road\, Moorabbin\, Victoria\, Australia
CATEGORIES:Worship
GEO:-37.9343841;145.0412199
X-APPLE-STRUCTURED-LOCATION;VALUE=URI;X-ADDRESS=St James Moorabbin 416 South Road Moorabbin Victoria Australia;X-APPLE-RADIUS=500;X-TITLE=416 South Road:geo:145.0412199,-37.9343841
END:VEVENT
BEGIN:VEVENT
DTSTART;TZID=Australia/Melbourne:20251225T090000
DTEND;TZID=Australia/Melbourne:20251225T223000
DTSTAMP:20260422T071531
CREATED:20251223T004321Z
LAST-MODIFIED:20251223T004730Z
UID:10001761-1766653200-1766701800@mdlc.lca.org.au
SUMMARY:Christmas Day Service
DESCRIPTION:
URL:https://mdlc.lca.org.au/event/christmas-day-service/
LOCATION:St James\, Moorabbin\, 416 South Road\, Moorabbin\, Victoria\, Australia
CATEGORIES:Worship
ATTACH;FMTTYPE=image/png:https://mdlc.lca.org.au/wp-content/uploads/sites/2422/2024/12/baby-in-manger.png
GEO:-37.9343841;145.0412199
X-APPLE-STRUCTURED-LOCATION;VALUE=URI;X-ADDRESS=St James Moorabbin 416 South Road Moorabbin Victoria Australia;X-APPLE-RADIUS=500;X-TITLE=416 South Road:geo:145.0412199,-37.9343841
END:VEVENT
BEGIN:VEVENT
DTSTART;TZID=Australia/Melbourne:20251224T193000
DTEND;TZID=Australia/Melbourne:20251224T210000
DTSTAMP:20260422T071531
CREATED:20251223T004129Z
LAST-MODIFIED:20251223T004129Z
UID:10001760-1766604600-1766610000@mdlc.lca.org.au
SUMMARY:Christmas Eve Combined Service
DESCRIPTION:Please join us for a combined Christmas Eve service as we celebrate the birth of Christ.
URL:https://mdlc.lca.org.au/event/christmas-eve-combined-service/
LOCATION:St James\, Moorabbin\, 416 South Road\, Moorabbin\, Victoria\, Australia
CATEGORIES:Worship
ATTACH;FMTTYPE=image/jpeg:https://mdlc.lca.org.au/wp-content/uploads/sites/2422/2025/12/image0.jpeg
GEO:-37.9343841;145.0412199
X-APPLE-STRUCTURED-LOCATION;VALUE=URI;X-ADDRESS=St James Moorabbin 416 South Road Moorabbin Victoria Australia;X-APPLE-RADIUS=500;X-TITLE=416 South Road:geo:145.0412199,-37.9343841
END:VEVENT
BEGIN:VEVENT
DTSTART;TZID=Australia/Melbourne:20251224T093000
DTEND;TZID=Australia/Melbourne:20251224T113000
DTSTAMP:20260422T071531
CREATED:20251223T003436Z
LAST-MODIFIED:20251223T003436Z
UID:10000831-1766568600-1766575800@mdlc.lca.org.au
SUMMARY:Crafty Chat
DESCRIPTION:Please pop in for a cuppa\, a chat and maybe even some craft. All are welcome and so are your craft ideas.
URL:https://mdlc.lca.org.au/event/crafty-chat-2-2-2/2025-12-24/
LOCATION:St James\, Moorabbin\, 416 South Road\, Moorabbin\, Victoria\, Australia
CATEGORIES:Crafty Chat
ATTACH;FMTTYPE=image/jpeg:https://mdlc.lca.org.au/wp-content/uploads/sites/2422/2023/02/crafty-chat-ducks.jpg
GEO:-37.9343841;145.0412199
X-APPLE-STRUCTURED-LOCATION;VALUE=URI;X-ADDRESS=St James Moorabbin 416 South Road Moorabbin Victoria Australia;X-APPLE-RADIUS=500;X-TITLE=416 South Road:geo:145.0412199,-37.9343841
END:VEVENT
BEGIN:VEVENT
DTSTART;TZID=Australia/Melbourne:20251221T090000
DTEND;TZID=Australia/Melbourne:20251221T110000
DTSTAMP:20260422T071531
CREATED:20220222T031117Z
LAST-MODIFIED:20231212T050026Z
UID:10000742-1766307600-1766314800@mdlc.lca.org.au
SUMMARY:Worship with St James\, Moorabbin
DESCRIPTION:9.00am
URL:https://mdlc.lca.org.au/event/worship-with-st-james-moorabbin/2025-12-21/
LOCATION:St James\, Moorabbin\, 416 South Road\, Moorabbin\, Victoria\, Australia
CATEGORIES:Worship
GEO:-37.9343841;145.0412199
X-APPLE-STRUCTURED-LOCATION;VALUE=URI;X-ADDRESS=St James Moorabbin 416 South Road Moorabbin Victoria Australia;X-APPLE-RADIUS=500;X-TITLE=416 South Road:geo:145.0412199,-37.9343841
END:VEVENT
BEGIN:VEVENT
DTSTART;TZID=Australia/Melbourne:20251217T093000
DTEND;TZID=Australia/Melbourne:20251217T113000
DTSTAMP:20260422T071531
CREATED:20250410T013849Z
LAST-MODIFIED:20250410T013849Z
UID:10000830-1765963800-1765971000@mdlc.lca.org.au
SUMMARY:Crafty Chat
DESCRIPTION:Please pop in for a cuppa\, a chat and maybe even some craft. All are welcome and so are your craft ideas.
URL:https://mdlc.lca.org.au/event/crafty-chat-2-2/2025-12-17/
LOCATION:St James\, Moorabbin\, 416 South Road\, Moorabbin\, Victoria\, Australia
CATEGORIES:Crafty Chat
ATTACH;FMTTYPE=image/jpeg:https://mdlc.lca.org.au/wp-content/uploads/sites/2422/2023/02/crafty-chat-ducks.jpg
GEO:-37.9343841;145.0412199
X-APPLE-STRUCTURED-LOCATION;VALUE=URI;X-ADDRESS=St James Moorabbin 416 South Road Moorabbin Victoria Australia;X-APPLE-RADIUS=500;X-TITLE=416 South Road:geo:145.0412199,-37.9343841
END:VEVENT
BEGIN:VEVENT
DTSTART;TZID=Australia/Melbourne:20251214T100000
DTEND;TZID=Australia/Melbourne:20251214T120000
DTSTAMP:20260422T071531
CREATED:20220222T031333Z
LAST-MODIFIED:20231212T045700Z
UID:10000644-1765706400-1765713600@mdlc.lca.org.au
SUMMARY:Worship with St James\, Moorabbin
DESCRIPTION:10.00am
URL:https://mdlc.lca.org.au/event/worship-with-st-james-moorabbin-2-2/2025-12-14/
LOCATION:St James\, Moorabbin\, 416 South Road\, Moorabbin\, Victoria\, Australia
CATEGORIES:Worship
GEO:-37.9343841;145.0412199
X-APPLE-STRUCTURED-LOCATION;VALUE=URI;X-ADDRESS=St James Moorabbin 416 South Road Moorabbin Victoria Australia;X-APPLE-RADIUS=500;X-TITLE=416 South Road:geo:145.0412199,-37.9343841
END:VEVENT
BEGIN:VEVENT
DTSTART;TZID=Australia/Melbourne:20251210T093000
DTEND;TZID=Australia/Melbourne:20251210T113000
DTSTAMP:20260422T071531
CREATED:20250410T013849Z
LAST-MODIFIED:20250410T013849Z
UID:10000829-1765359000-1765366200@mdlc.lca.org.au
SUMMARY:Crafty Chat
DESCRIPTION:Please pop in for a cuppa\, a chat and maybe even some craft. All are welcome and so are your craft ideas.
URL:https://mdlc.lca.org.au/event/crafty-chat-2-2/2025-12-10/
LOCATION:St James\, Moorabbin\, 416 South Road\, Moorabbin\, Victoria\, Australia
CATEGORIES:Crafty Chat
ATTACH;FMTTYPE=image/jpeg:https://mdlc.lca.org.au/wp-content/uploads/sites/2422/2023/02/crafty-chat-ducks.jpg
GEO:-37.9343841;145.0412199
X-APPLE-STRUCTURED-LOCATION;VALUE=URI;X-ADDRESS=St James Moorabbin 416 South Road Moorabbin Victoria Australia;X-APPLE-RADIUS=500;X-TITLE=416 South Road:geo:145.0412199,-37.9343841
END:VEVENT
BEGIN:VEVENT
DTSTART;TZID=Australia/Adelaide:20251207T090000
DTEND;TZID=Australia/Adelaide:20251207T110000
DTSTAMP:20260422T071531
CREATED:20220121T032405Z
LAST-MODIFIED:20231212T045512Z
UID:10000692-1765098000-1765105200@mdlc.lca.org.au
SUMMARY:Worship with St James\, Moorabbin
DESCRIPTION:9.00am
URL:https://mdlc.lca.org.au/event/st-james-moorabbin-2/2025-12-07/
LOCATION:St James\, Moorabbin\, 416 South Road\, Moorabbin\, Victoria\, Australia
CATEGORIES:Worship
GEO:-37.9343841;145.0412199
X-APPLE-STRUCTURED-LOCATION;VALUE=URI;X-ADDRESS=St James Moorabbin 416 South Road Moorabbin Victoria Australia;X-APPLE-RADIUS=500;X-TITLE=416 South Road:geo:145.0412199,-37.9343841
END:VEVENT
BEGIN:VEVENT
DTSTART;TZID=Australia/Melbourne:20251203T093000
DTEND;TZID=Australia/Melbourne:20251203T113000
DTSTAMP:20260422T071531
CREATED:20250410T013849Z
LAST-MODIFIED:20250410T013849Z
UID:10000828-1764754200-1764761400@mdlc.lca.org.au
SUMMARY:Crafty Chat
DESCRIPTION:Please pop in for a cuppa\, a chat and maybe even some craft. All are welcome and so are your craft ideas.
URL:https://mdlc.lca.org.au/event/crafty-chat-2-2/2025-12-03/
LOCATION:St James\, Moorabbin\, 416 South Road\, Moorabbin\, Victoria\, Australia
CATEGORIES:Crafty Chat
ATTACH;FMTTYPE=image/jpeg:https://mdlc.lca.org.au/wp-content/uploads/sites/2422/2023/02/crafty-chat-ducks.jpg
GEO:-37.9343841;145.0412199
X-APPLE-STRUCTURED-LOCATION;VALUE=URI;X-ADDRESS=St James Moorabbin 416 South Road Moorabbin Victoria Australia;X-APPLE-RADIUS=500;X-TITLE=416 South Road:geo:145.0412199,-37.9343841
END:VEVENT
END:VCALENDAR