BEGIN:VCALENDAR
VERSION:2.0
PRODID:-//Moorabbin–Dandenong Lutheran Church, Vic - ECPv6.8.1//NONSGML v1.0//EN
CALSCALE:GREGORIAN
METHOD:PUBLISH
X-WR-CALNAME:Moorabbin–Dandenong Lutheran Church, Vic
X-ORIGINAL-URL:https://mdlc.lca.org.au
X-WR-CALDESC:Events for Moorabbin–Dandenong Lutheran Church, Vic
REFRESH-INTERVAL;VALUE=DURATION:PT1H
X-Robots-Tag:noindex
X-PUBLISHED-TTL:PT1H
BEGIN:VTIMEZONE
TZID:Australia/Melbourne
BEGIN:STANDARD
TZOFFSETFROM:+1100
TZOFFSETTO:+1000
TZNAME:AEST
DTSTART:20280401T160000
END:STANDARD
BEGIN:DAYLIGHT
TZOFFSETFROM:+1000
TZOFFSETTO:+1100
TZNAME:AEDT
DTSTART:20280930T160000
END:DAYLIGHT
TZID:Australia/Adelaide
BEGIN:STANDARD
TZOFFSETFROM:+1030
TZOFFSETTO:+0930
TZNAME:ACST
DTSTART:20280401T163000
END:STANDARD
BEGIN:DAYLIGHT
TZOFFSETFROM:+0930
TZOFFSETTO:+1030
TZNAME:ACDT
DTSTART:20280930T163000
END:DAYLIGHT
END:VTIMEZONE
BEGIN:VEVENT
DTSTART;TZID=Australia/Melbourne:20280615T090000
DTEND;TZID=Australia/Melbourne:20280615T110000
DTSTAMP:20260422T035908
CREATED:20260310T022730Z
LAST-MODIFIED:20260310T022730Z
UID:10001787-1844672400-1844679600@mdlc.lca.org.au
SUMMARY:Worship with St James\, Moorabbin
DESCRIPTION:9.00am
URL:https://mdlc.lca.org.au/event/worship-with-st-james-moorabbin-6/2028-06-15/
LOCATION:St James\, Moorabbin\, 416 South Road\, Moorabbin\, Victoria\, Australia
CATEGORIES:Worship
GEO:-37.9343841;145.0412199
X-APPLE-STRUCTURED-LOCATION;VALUE=URI;X-ADDRESS=St James Moorabbin 416 South Road Moorabbin Victoria Australia;X-APPLE-RADIUS=500;X-TITLE=416 South Road:geo:145.0412199,-37.9343841
END:VEVENT
BEGIN:VEVENT
DTSTART;TZID=Australia/Adelaide:20280618T103000
DTEND;TZID=Australia/Adelaide:20280618T123000
DTSTAMP:20260422T035908
CREATED:20220121T032619Z
LAST-MODIFIED:20241204T040728Z
UID:10001504-1844937000-1844944200@mdlc.lca.org.au
SUMMARY:Worship with Holy Trinity\, Dandenong
DESCRIPTION:10.30am (except fifth Sunday of the month)
URL:https://mdlc.lca.org.au/event/holy-trinity-dandenong-2022-12-25/2028-06-18/
LOCATION:The Marian Room\, 24 New Street\, Dandenong\, Victoria\, Australia
CATEGORIES:Worship
GEO:-37.9903107;145.2214213
X-APPLE-STRUCTURED-LOCATION;VALUE=URI;X-ADDRESS=The Marian Room 24 New Street Dandenong Victoria Australia;X-APPLE-RADIUS=500;X-TITLE=24 New Street:geo:145.2214213,-37.9903107
END:VEVENT
BEGIN:VEVENT
DTSTART;TZID=Australia/Adelaide:20280618T140000
DTEND;TZID=Australia/Adelaide:20280618T160000
DTSTAMP:20260422T035908
CREATED:20241204T035201Z
LAST-MODIFIED:20241204T040301Z
UID:10001171-1844949600-1844956800@mdlc.lca.org.au
SUMMARY:Worship with South Sudanese Fellowship
DESCRIPTION:2.00pm (except fifth Sunday of the month)
URL:https://mdlc.lca.org.au/event/worship-at-south-sudanese-fellowship-2/2028-06-18/
LOCATION:The Marian Room\, 24 New Street\, Dandenong\, Victoria\, Australia
CATEGORIES:Worship
GEO:-37.9903107;145.2214213
X-APPLE-STRUCTURED-LOCATION;VALUE=URI;X-ADDRESS=The Marian Room 24 New Street Dandenong Victoria Australia;X-APPLE-RADIUS=500;X-TITLE=24 New Street:geo:145.2214213,-37.9903107
END:VEVENT
BEGIN:VEVENT
DTSTART;TZID=Australia/Melbourne:20280621T093000
DTEND;TZID=Australia/Melbourne:20280621T113000
DTSTAMP:20260422T035908
CREATED:20251223T003436Z
LAST-MODIFIED:20251223T003436Z
UID:10000961-1845192600-1845199800@mdlc.lca.org.au
SUMMARY:Crafty Chat
DESCRIPTION:Please pop in for a cuppa\, a chat and maybe even some craft. All are welcome and so are your craft ideas.
URL:https://mdlc.lca.org.au/event/crafty-chat-2-2-2/2028-06-21/
LOCATION:St James\, Moorabbin\, 416 South Road\, Moorabbin\, Victoria\, Australia
CATEGORIES:Crafty Chat
ATTACH;FMTTYPE=image/jpeg:https://mdlc.lca.org.au/wp-content/uploads/sites/2422/2023/02/crafty-chat-ducks.jpg
GEO:-37.9343841;145.0412199
X-APPLE-STRUCTURED-LOCATION;VALUE=URI;X-ADDRESS=St James Moorabbin 416 South Road Moorabbin Victoria Australia;X-APPLE-RADIUS=500;X-TITLE=416 South Road:geo:145.0412199,-37.9343841
END:VEVENT
BEGIN:VEVENT
DTSTART;TZID=Australia/Melbourne:20280625T100000
DTEND;TZID=Australia/Melbourne:20280625T120000
DTSTAMP:20260422T035908
CREATED:20231212T040940Z
LAST-MODIFIED:20241204T042009Z
UID:10001617-1845540000-1845547200@mdlc.lca.org.au
SUMMARY:Worship with St James\, Moorabbin
DESCRIPTION:10.00am
URL:https://mdlc.lca.org.au/event/worship-with-st-james-moorabbin-2/2028-06-25/
LOCATION:St James\, Moorabbin\, 416 South Road\, Moorabbin\, Victoria\, Australia
CATEGORIES:Worship
GEO:-37.9343841;145.0412199
X-APPLE-STRUCTURED-LOCATION;VALUE=URI;X-ADDRESS=St James Moorabbin 416 South Road Moorabbin Victoria Australia;X-APPLE-RADIUS=500;X-TITLE=416 South Road:geo:145.0412199,-37.9343841
END:VEVENT
BEGIN:VEVENT
DTSTART;TZID=Australia/Adelaide:20280625T103000
DTEND;TZID=Australia/Adelaide:20280625T123000
DTSTAMP:20260422T035908
CREATED:20220121T032619Z
LAST-MODIFIED:20241204T040728Z
UID:10001505-1845541800-1845549000@mdlc.lca.org.au
SUMMARY:Worship with Holy Trinity\, Dandenong
DESCRIPTION:10.30am (except fifth Sunday of the month)
URL:https://mdlc.lca.org.au/event/holy-trinity-dandenong-2022-12-25/2028-06-25/
LOCATION:The Marian Room\, 24 New Street\, Dandenong\, Victoria\, Australia
CATEGORIES:Worship
GEO:-37.9903107;145.2214213
X-APPLE-STRUCTURED-LOCATION;VALUE=URI;X-ADDRESS=The Marian Room 24 New Street Dandenong Victoria Australia;X-APPLE-RADIUS=500;X-TITLE=24 New Street:geo:145.2214213,-37.9903107
END:VEVENT
BEGIN:VEVENT
DTSTART;TZID=Australia/Adelaide:20280625T140000
DTEND;TZID=Australia/Adelaide:20280625T160000
DTSTAMP:20260422T035908
CREATED:20241204T035201Z
LAST-MODIFIED:20241204T040301Z
UID:10001172-1845554400-1845561600@mdlc.lca.org.au
SUMMARY:Worship with South Sudanese Fellowship
DESCRIPTION:2.00pm (except fifth Sunday of the month)
URL:https://mdlc.lca.org.au/event/worship-at-south-sudanese-fellowship-2/2028-06-25/
LOCATION:The Marian Room\, 24 New Street\, Dandenong\, Victoria\, Australia
CATEGORIES:Worship
GEO:-37.9903107;145.2214213
X-APPLE-STRUCTURED-LOCATION;VALUE=URI;X-ADDRESS=The Marian Room 24 New Street Dandenong Victoria Australia;X-APPLE-RADIUS=500;X-TITLE=24 New Street:geo:145.2214213,-37.9903107
END:VEVENT
BEGIN:VEVENT
DTSTART;TZID=Australia/Melbourne:20280628T093000
DTEND;TZID=Australia/Melbourne:20280628T113000
DTSTAMP:20260422T035908
CREATED:20251223T003436Z
LAST-MODIFIED:20251223T003436Z
UID:10000962-1845797400-1845804600@mdlc.lca.org.au
SUMMARY:Crafty Chat
DESCRIPTION:Please pop in for a cuppa\, a chat and maybe even some craft. All are welcome and so are your craft ideas.
URL:https://mdlc.lca.org.au/event/crafty-chat-2-2-2/2028-06-28/
LOCATION:St James\, Moorabbin\, 416 South Road\, Moorabbin\, Victoria\, Australia
CATEGORIES:Crafty Chat
ATTACH;FMTTYPE=image/jpeg:https://mdlc.lca.org.au/wp-content/uploads/sites/2422/2023/02/crafty-chat-ducks.jpg
GEO:-37.9343841;145.0412199
X-APPLE-STRUCTURED-LOCATION;VALUE=URI;X-ADDRESS=St James Moorabbin 416 South Road Moorabbin Victoria Australia;X-APPLE-RADIUS=500;X-TITLE=416 South Road:geo:145.0412199,-37.9343841
END:VEVENT
BEGIN:VEVENT
DTSTART;TZID=Australia/Adelaide:20280702T090000
DTEND;TZID=Australia/Adelaide:20280702T110000
DTSTAMP:20260422T035908
CREATED:20220121T032405Z
LAST-MODIFIED:20231212T045512Z
UID:10000723-1846141200-1846148400@mdlc.lca.org.au
SUMMARY:Worship with St James\, Moorabbin
DESCRIPTION:9.00am
URL:https://mdlc.lca.org.au/event/st-james-moorabbin-2/2028-07-02/
LOCATION:St James\, Moorabbin\, 416 South Road\, Moorabbin\, Victoria\, Australia
CATEGORIES:Worship
GEO:-37.9343841;145.0412199
X-APPLE-STRUCTURED-LOCATION;VALUE=URI;X-ADDRESS=St James Moorabbin 416 South Road Moorabbin Victoria Australia;X-APPLE-RADIUS=500;X-TITLE=416 South Road:geo:145.0412199,-37.9343841
END:VEVENT
BEGIN:VEVENT
DTSTART;TZID=Australia/Adelaide:20280702T103000
DTEND;TZID=Australia/Adelaide:20280702T123000
DTSTAMP:20260422T035908
CREATED:20220121T032619Z
LAST-MODIFIED:20241204T040728Z
UID:10001506-1846146600-1846153800@mdlc.lca.org.au
SUMMARY:Worship with Holy Trinity\, Dandenong
DESCRIPTION:10.30am (except fifth Sunday of the month)
URL:https://mdlc.lca.org.au/event/holy-trinity-dandenong-2022-12-25/2028-07-02/
LOCATION:The Marian Room\, 24 New Street\, Dandenong\, Victoria\, Australia
CATEGORIES:Worship
GEO:-37.9903107;145.2214213
X-APPLE-STRUCTURED-LOCATION;VALUE=URI;X-ADDRESS=The Marian Room 24 New Street Dandenong Victoria Australia;X-APPLE-RADIUS=500;X-TITLE=24 New Street:geo:145.2214213,-37.9903107
END:VEVENT
BEGIN:VEVENT
DTSTART;TZID=Australia/Adelaide:20280702T140000
DTEND;TZID=Australia/Adelaide:20280702T160000
DTSTAMP:20260422T035908
CREATED:20241204T035201Z
LAST-MODIFIED:20241204T040301Z
UID:10001173-1846159200-1846166400@mdlc.lca.org.au
SUMMARY:Worship with South Sudanese Fellowship
DESCRIPTION:2.00pm (except fifth Sunday of the month)
URL:https://mdlc.lca.org.au/event/worship-at-south-sudanese-fellowship-2/2028-07-02/
LOCATION:The Marian Room\, 24 New Street\, Dandenong\, Victoria\, Australia
CATEGORIES:Worship
GEO:-37.9903107;145.2214213
X-APPLE-STRUCTURED-LOCATION;VALUE=URI;X-ADDRESS=The Marian Room 24 New Street Dandenong Victoria Australia;X-APPLE-RADIUS=500;X-TITLE=24 New Street:geo:145.2214213,-37.9903107
END:VEVENT
BEGIN:VEVENT
DTSTART;TZID=Australia/Melbourne:20280705T093000
DTEND;TZID=Australia/Melbourne:20280705T113000
DTSTAMP:20260422T035908
CREATED:20251223T003436Z
LAST-MODIFIED:20251223T003436Z
UID:10000963-1846402200-1846409400@mdlc.lca.org.au
SUMMARY:Crafty Chat
DESCRIPTION:Please pop in for a cuppa\, a chat and maybe even some craft. All are welcome and so are your craft ideas.
URL:https://mdlc.lca.org.au/event/crafty-chat-2-2-2/2028-07-05/
LOCATION:St James\, Moorabbin\, 416 South Road\, Moorabbin\, Victoria\, Australia
CATEGORIES:Crafty Chat
ATTACH;FMTTYPE=image/jpeg:https://mdlc.lca.org.au/wp-content/uploads/sites/2422/2023/02/crafty-chat-ducks.jpg
GEO:-37.9343841;145.0412199
X-APPLE-STRUCTURED-LOCATION;VALUE=URI;X-ADDRESS=St James Moorabbin 416 South Road Moorabbin Victoria Australia;X-APPLE-RADIUS=500;X-TITLE=416 South Road:geo:145.0412199,-37.9343841
END:VEVENT
BEGIN:VEVENT
DTSTART;TZID=Australia/Melbourne:20280709T100000
DTEND;TZID=Australia/Melbourne:20280709T120000
DTSTAMP:20260422T035908
CREATED:20220222T031333Z
LAST-MODIFIED:20231212T045700Z
UID:10000675-1846749600-1846756800@mdlc.lca.org.au
SUMMARY:Worship with St James\, Moorabbin
DESCRIPTION:10.00am
URL:https://mdlc.lca.org.au/event/worship-with-st-james-moorabbin-2-2/2028-07-09/
LOCATION:St James\, Moorabbin\, 416 South Road\, Moorabbin\, Victoria\, Australia
CATEGORIES:Worship
GEO:-37.9343841;145.0412199
X-APPLE-STRUCTURED-LOCATION;VALUE=URI;X-ADDRESS=St James Moorabbin 416 South Road Moorabbin Victoria Australia;X-APPLE-RADIUS=500;X-TITLE=416 South Road:geo:145.0412199,-37.9343841
END:VEVENT
BEGIN:VEVENT
DTSTART;TZID=Australia/Adelaide:20280709T103000
DTEND;TZID=Australia/Adelaide:20280709T123000
DTSTAMP:20260422T035908
CREATED:20220121T032619Z
LAST-MODIFIED:20241204T040728Z
UID:10001507-1846751400-1846758600@mdlc.lca.org.au
SUMMARY:Worship with Holy Trinity\, Dandenong
DESCRIPTION:10.30am (except fifth Sunday of the month)
URL:https://mdlc.lca.org.au/event/holy-trinity-dandenong-2022-12-25/2028-07-09/
LOCATION:The Marian Room\, 24 New Street\, Dandenong\, Victoria\, Australia
CATEGORIES:Worship
GEO:-37.9903107;145.2214213
X-APPLE-STRUCTURED-LOCATION;VALUE=URI;X-ADDRESS=The Marian Room 24 New Street Dandenong Victoria Australia;X-APPLE-RADIUS=500;X-TITLE=24 New Street:geo:145.2214213,-37.9903107
END:VEVENT
BEGIN:VEVENT
DTSTART;TZID=Australia/Adelaide:20280709T140000
DTEND;TZID=Australia/Adelaide:20280709T160000
DTSTAMP:20260422T035908
CREATED:20241204T035201Z
LAST-MODIFIED:20241204T040301Z
UID:10001174-1846764000-1846771200@mdlc.lca.org.au
SUMMARY:Worship with South Sudanese Fellowship
DESCRIPTION:2.00pm (except fifth Sunday of the month)
URL:https://mdlc.lca.org.au/event/worship-at-south-sudanese-fellowship-2/2028-07-09/
LOCATION:The Marian Room\, 24 New Street\, Dandenong\, Victoria\, Australia
CATEGORIES:Worship
GEO:-37.9903107;145.2214213
X-APPLE-STRUCTURED-LOCATION;VALUE=URI;X-ADDRESS=The Marian Room 24 New Street Dandenong Victoria Australia;X-APPLE-RADIUS=500;X-TITLE=24 New Street:geo:145.2214213,-37.9903107
END:VEVENT
BEGIN:VEVENT
DTSTART;TZID=Australia/Melbourne:20280712T093000
DTEND;TZID=Australia/Melbourne:20280712T113000
DTSTAMP:20260422T035908
CREATED:20251223T003436Z
LAST-MODIFIED:20251223T003436Z
UID:10000964-1847007000-1847014200@mdlc.lca.org.au
SUMMARY:Crafty Chat
DESCRIPTION:Please pop in for a cuppa\, a chat and maybe even some craft. All are welcome and so are your craft ideas.
URL:https://mdlc.lca.org.au/event/crafty-chat-2-2-2/2028-07-12/
LOCATION:St James\, Moorabbin\, 416 South Road\, Moorabbin\, Victoria\, Australia
CATEGORIES:Crafty Chat
ATTACH;FMTTYPE=image/jpeg:https://mdlc.lca.org.au/wp-content/uploads/sites/2422/2023/02/crafty-chat-ducks.jpg
GEO:-37.9343841;145.0412199
X-APPLE-STRUCTURED-LOCATION;VALUE=URI;X-ADDRESS=St James Moorabbin 416 South Road Moorabbin Victoria Australia;X-APPLE-RADIUS=500;X-TITLE=416 South Road:geo:145.0412199,-37.9343841
END:VEVENT
BEGIN:VEVENT
DTSTART;TZID=Australia/Melbourne:20280715T090000
DTEND;TZID=Australia/Melbourne:20280715T110000
DTSTAMP:20260422T035908
CREATED:20260310T022730Z
LAST-MODIFIED:20260310T022730Z
UID:10001788-1847264400-1847271600@mdlc.lca.org.au
SUMMARY:Worship with St James\, Moorabbin
DESCRIPTION:9.00am
URL:https://mdlc.lca.org.au/event/worship-with-st-james-moorabbin-6/2028-07-15/
LOCATION:St James\, Moorabbin\, 416 South Road\, Moorabbin\, Victoria\, Australia
CATEGORIES:Worship
GEO:-37.9343841;145.0412199
X-APPLE-STRUCTURED-LOCATION;VALUE=URI;X-ADDRESS=St James Moorabbin 416 South Road Moorabbin Victoria Australia;X-APPLE-RADIUS=500;X-TITLE=416 South Road:geo:145.0412199,-37.9343841
END:VEVENT
BEGIN:VEVENT
DTSTART;TZID=Australia/Adelaide:20280716T103000
DTEND;TZID=Australia/Adelaide:20280716T123000
DTSTAMP:20260422T035908
CREATED:20220121T032619Z
LAST-MODIFIED:20241204T040728Z
UID:10001508-1847356200-1847363400@mdlc.lca.org.au
SUMMARY:Worship with Holy Trinity\, Dandenong
DESCRIPTION:10.30am (except fifth Sunday of the month)
URL:https://mdlc.lca.org.au/event/holy-trinity-dandenong-2022-12-25/2028-07-16/
LOCATION:The Marian Room\, 24 New Street\, Dandenong\, Victoria\, Australia
CATEGORIES:Worship
GEO:-37.9903107;145.2214213
X-APPLE-STRUCTURED-LOCATION;VALUE=URI;X-ADDRESS=The Marian Room 24 New Street Dandenong Victoria Australia;X-APPLE-RADIUS=500;X-TITLE=24 New Street:geo:145.2214213,-37.9903107
END:VEVENT
BEGIN:VEVENT
DTSTART;TZID=Australia/Adelaide:20280716T140000
DTEND;TZID=Australia/Adelaide:20280716T160000
DTSTAMP:20260422T035908
CREATED:20241204T035201Z
LAST-MODIFIED:20241204T040301Z
UID:10001175-1847368800-1847376000@mdlc.lca.org.au
SUMMARY:Worship with South Sudanese Fellowship
DESCRIPTION:2.00pm (except fifth Sunday of the month)
URL:https://mdlc.lca.org.au/event/worship-at-south-sudanese-fellowship-2/2028-07-16/
LOCATION:The Marian Room\, 24 New Street\, Dandenong\, Victoria\, Australia
CATEGORIES:Worship
GEO:-37.9903107;145.2214213
X-APPLE-STRUCTURED-LOCATION;VALUE=URI;X-ADDRESS=The Marian Room 24 New Street Dandenong Victoria Australia;X-APPLE-RADIUS=500;X-TITLE=24 New Street:geo:145.2214213,-37.9903107
END:VEVENT
BEGIN:VEVENT
DTSTART;TZID=Australia/Melbourne:20280719T093000
DTEND;TZID=Australia/Melbourne:20280719T113000
DTSTAMP:20260422T035908
CREATED:20251223T003436Z
LAST-MODIFIED:20251223T003436Z
UID:10000965-1847611800-1847619000@mdlc.lca.org.au
SUMMARY:Crafty Chat
DESCRIPTION:Please pop in for a cuppa\, a chat and maybe even some craft. All are welcome and so are your craft ideas.
URL:https://mdlc.lca.org.au/event/crafty-chat-2-2-2/2028-07-19/
LOCATION:St James\, Moorabbin\, 416 South Road\, Moorabbin\, Victoria\, Australia
CATEGORIES:Crafty Chat
ATTACH;FMTTYPE=image/jpeg:https://mdlc.lca.org.au/wp-content/uploads/sites/2422/2023/02/crafty-chat-ducks.jpg
GEO:-37.9343841;145.0412199
X-APPLE-STRUCTURED-LOCATION;VALUE=URI;X-ADDRESS=St James Moorabbin 416 South Road Moorabbin Victoria Australia;X-APPLE-RADIUS=500;X-TITLE=416 South Road:geo:145.0412199,-37.9343841
END:VEVENT
BEGIN:VEVENT
DTSTART;TZID=Australia/Melbourne:20280723T100000
DTEND;TZID=Australia/Melbourne:20280723T120000
DTSTAMP:20260422T035908
CREATED:20231212T040940Z
LAST-MODIFIED:20241204T042009Z
UID:10001618-1847959200-1847966400@mdlc.lca.org.au
SUMMARY:Worship with St James\, Moorabbin
DESCRIPTION:10.00am
URL:https://mdlc.lca.org.au/event/worship-with-st-james-moorabbin-2/2028-07-23/
LOCATION:St James\, Moorabbin\, 416 South Road\, Moorabbin\, Victoria\, Australia
CATEGORIES:Worship
GEO:-37.9343841;145.0412199
X-APPLE-STRUCTURED-LOCATION;VALUE=URI;X-ADDRESS=St James Moorabbin 416 South Road Moorabbin Victoria Australia;X-APPLE-RADIUS=500;X-TITLE=416 South Road:geo:145.0412199,-37.9343841
END:VEVENT
BEGIN:VEVENT
DTSTART;TZID=Australia/Adelaide:20280723T103000
DTEND;TZID=Australia/Adelaide:20280723T123000
DTSTAMP:20260422T035908
CREATED:20220121T032619Z
LAST-MODIFIED:20241204T040728Z
UID:10001509-1847961000-1847968200@mdlc.lca.org.au
SUMMARY:Worship with Holy Trinity\, Dandenong
DESCRIPTION:10.30am (except fifth Sunday of the month)
URL:https://mdlc.lca.org.au/event/holy-trinity-dandenong-2022-12-25/2028-07-23/
LOCATION:The Marian Room\, 24 New Street\, Dandenong\, Victoria\, Australia
CATEGORIES:Worship
GEO:-37.9903107;145.2214213
X-APPLE-STRUCTURED-LOCATION;VALUE=URI;X-ADDRESS=The Marian Room 24 New Street Dandenong Victoria Australia;X-APPLE-RADIUS=500;X-TITLE=24 New Street:geo:145.2214213,-37.9903107
END:VEVENT
BEGIN:VEVENT
DTSTART;TZID=Australia/Adelaide:20280723T140000
DTEND;TZID=Australia/Adelaide:20280723T160000
DTSTAMP:20260422T035908
CREATED:20241204T035201Z
LAST-MODIFIED:20241204T040301Z
UID:10001176-1847973600-1847980800@mdlc.lca.org.au
SUMMARY:Worship with South Sudanese Fellowship
DESCRIPTION:2.00pm (except fifth Sunday of the month)
URL:https://mdlc.lca.org.au/event/worship-at-south-sudanese-fellowship-2/2028-07-23/
LOCATION:The Marian Room\, 24 New Street\, Dandenong\, Victoria\, Australia
CATEGORIES:Worship
GEO:-37.9903107;145.2214213
X-APPLE-STRUCTURED-LOCATION;VALUE=URI;X-ADDRESS=The Marian Room 24 New Street Dandenong Victoria Australia;X-APPLE-RADIUS=500;X-TITLE=24 New Street:geo:145.2214213,-37.9903107
END:VEVENT
BEGIN:VEVENT
DTSTART;TZID=Australia/Melbourne:20280726T093000
DTEND;TZID=Australia/Melbourne:20280726T113000
DTSTAMP:20260422T035908
CREATED:20251223T003436Z
LAST-MODIFIED:20251223T003436Z
UID:10000966-1848216600-1848223800@mdlc.lca.org.au
SUMMARY:Crafty Chat
DESCRIPTION:Please pop in for a cuppa\, a chat and maybe even some craft. All are welcome and so are your craft ideas.
URL:https://mdlc.lca.org.au/event/crafty-chat-2-2-2/2028-07-26/
LOCATION:St James\, Moorabbin\, 416 South Road\, Moorabbin\, Victoria\, Australia
CATEGORIES:Crafty Chat
ATTACH;FMTTYPE=image/jpeg:https://mdlc.lca.org.au/wp-content/uploads/sites/2422/2023/02/crafty-chat-ducks.jpg
GEO:-37.9343841;145.0412199
X-APPLE-STRUCTURED-LOCATION;VALUE=URI;X-ADDRESS=St James Moorabbin 416 South Road Moorabbin Victoria Australia;X-APPLE-RADIUS=500;X-TITLE=416 South Road:geo:145.0412199,-37.9343841
END:VEVENT
BEGIN:VEVENT
DTSTART;TZID=Australia/Melbourne:20280802T093000
DTEND;TZID=Australia/Melbourne:20280802T113000
DTSTAMP:20260422T035908
CREATED:20251223T003436Z
LAST-MODIFIED:20251223T003436Z
UID:10000967-1848821400-1848828600@mdlc.lca.org.au
SUMMARY:Crafty Chat
DESCRIPTION:Please pop in for a cuppa\, a chat and maybe even some craft. All are welcome and so are your craft ideas.
URL:https://mdlc.lca.org.au/event/crafty-chat-2-2-2/2028-08-02/
LOCATION:St James\, Moorabbin\, 416 South Road\, Moorabbin\, Victoria\, Australia
CATEGORIES:Crafty Chat
ATTACH;FMTTYPE=image/jpeg:https://mdlc.lca.org.au/wp-content/uploads/sites/2422/2023/02/crafty-chat-ducks.jpg
GEO:-37.9343841;145.0412199
X-APPLE-STRUCTURED-LOCATION;VALUE=URI;X-ADDRESS=St James Moorabbin 416 South Road Moorabbin Victoria Australia;X-APPLE-RADIUS=500;X-TITLE=416 South Road:geo:145.0412199,-37.9343841
END:VEVENT
BEGIN:VEVENT
DTSTART;TZID=Australia/Adelaide:20280806T090000
DTEND;TZID=Australia/Adelaide:20280806T110000
DTSTAMP:20260422T035908
CREATED:20220121T032405Z
LAST-MODIFIED:20231212T045512Z
UID:10000724-1849165200-1849172400@mdlc.lca.org.au
SUMMARY:Worship with St James\, Moorabbin
DESCRIPTION:9.00am
URL:https://mdlc.lca.org.au/event/st-james-moorabbin-2/2028-08-06/
LOCATION:St James\, Moorabbin\, 416 South Road\, Moorabbin\, Victoria\, Australia
CATEGORIES:Worship
GEO:-37.9343841;145.0412199
X-APPLE-STRUCTURED-LOCATION;VALUE=URI;X-ADDRESS=St James Moorabbin 416 South Road Moorabbin Victoria Australia;X-APPLE-RADIUS=500;X-TITLE=416 South Road:geo:145.0412199,-37.9343841
END:VEVENT
BEGIN:VEVENT
DTSTART;TZID=Australia/Adelaide:20280806T103000
DTEND;TZID=Australia/Adelaide:20280806T123000
DTSTAMP:20260422T035908
CREATED:20220121T032619Z
LAST-MODIFIED:20241204T040728Z
UID:10001510-1849170600-1849177800@mdlc.lca.org.au
SUMMARY:Worship with Holy Trinity\, Dandenong
DESCRIPTION:10.30am (except fifth Sunday of the month)
URL:https://mdlc.lca.org.au/event/holy-trinity-dandenong-2022-12-25/2028-08-06/
LOCATION:The Marian Room\, 24 New Street\, Dandenong\, Victoria\, Australia
CATEGORIES:Worship
GEO:-37.9903107;145.2214213
X-APPLE-STRUCTURED-LOCATION;VALUE=URI;X-ADDRESS=The Marian Room 24 New Street Dandenong Victoria Australia;X-APPLE-RADIUS=500;X-TITLE=24 New Street:geo:145.2214213,-37.9903107
END:VEVENT
BEGIN:VEVENT
DTSTART;TZID=Australia/Adelaide:20280806T140000
DTEND;TZID=Australia/Adelaide:20280806T160000
DTSTAMP:20260422T035908
CREATED:20241204T035201Z
LAST-MODIFIED:20241204T040301Z
UID:10001177-1849183200-1849190400@mdlc.lca.org.au
SUMMARY:Worship with South Sudanese Fellowship
DESCRIPTION:2.00pm (except fifth Sunday of the month)
URL:https://mdlc.lca.org.au/event/worship-at-south-sudanese-fellowship-2/2028-08-06/
LOCATION:The Marian Room\, 24 New Street\, Dandenong\, Victoria\, Australia
CATEGORIES:Worship
GEO:-37.9903107;145.2214213
X-APPLE-STRUCTURED-LOCATION;VALUE=URI;X-ADDRESS=The Marian Room 24 New Street Dandenong Victoria Australia;X-APPLE-RADIUS=500;X-TITLE=24 New Street:geo:145.2214213,-37.9903107
END:VEVENT
BEGIN:VEVENT
DTSTART;TZID=Australia/Melbourne:20280809T093000
DTEND;TZID=Australia/Melbourne:20280809T113000
DTSTAMP:20260422T035908
CREATED:20251223T003436Z
LAST-MODIFIED:20251223T003436Z
UID:10000968-1849426200-1849433400@mdlc.lca.org.au
SUMMARY:Crafty Chat
DESCRIPTION:Please pop in for a cuppa\, a chat and maybe even some craft. All are welcome and so are your craft ideas.
URL:https://mdlc.lca.org.au/event/crafty-chat-2-2-2/2028-08-09/
LOCATION:St James\, Moorabbin\, 416 South Road\, Moorabbin\, Victoria\, Australia
CATEGORIES:Crafty Chat
ATTACH;FMTTYPE=image/jpeg:https://mdlc.lca.org.au/wp-content/uploads/sites/2422/2023/02/crafty-chat-ducks.jpg
GEO:-37.9343841;145.0412199
X-APPLE-STRUCTURED-LOCATION;VALUE=URI;X-ADDRESS=St James Moorabbin 416 South Road Moorabbin Victoria Australia;X-APPLE-RADIUS=500;X-TITLE=416 South Road:geo:145.0412199,-37.9343841
END:VEVENT
BEGIN:VEVENT
DTSTART;TZID=Australia/Melbourne:20280813T100000
DTEND;TZID=Australia/Melbourne:20280813T120000
DTSTAMP:20260422T035908
CREATED:20220222T031333Z
LAST-MODIFIED:20231212T045700Z
UID:10000676-1849773600-1849780800@mdlc.lca.org.au
SUMMARY:Worship with St James\, Moorabbin
DESCRIPTION:10.00am
URL:https://mdlc.lca.org.au/event/worship-with-st-james-moorabbin-2-2/2028-08-13/
LOCATION:St James\, Moorabbin\, 416 South Road\, Moorabbin\, Victoria\, Australia
CATEGORIES:Worship
GEO:-37.9343841;145.0412199
X-APPLE-STRUCTURED-LOCATION;VALUE=URI;X-ADDRESS=St James Moorabbin 416 South Road Moorabbin Victoria Australia;X-APPLE-RADIUS=500;X-TITLE=416 South Road:geo:145.0412199,-37.9343841
END:VEVENT
END:VCALENDAR