BEGIN:VCALENDAR
VERSION:2.0
PRODID:-//Moorabbin–Dandenong Lutheran Church, Vic - ECPv6.8.1//NONSGML v1.0//EN
CALSCALE:GREGORIAN
METHOD:PUBLISH
X-WR-CALNAME:Moorabbin–Dandenong Lutheran Church, Vic
X-ORIGINAL-URL:https://mdlc.lca.org.au
X-WR-CALDESC:Events for Moorabbin–Dandenong Lutheran Church, Vic
REFRESH-INTERVAL;VALUE=DURATION:PT1H
X-Robots-Tag:noindex
X-PUBLISHED-TTL:PT1H
BEGIN:VTIMEZONE
TZID:Australia/Melbourne
BEGIN:STANDARD
TZOFFSETFROM:+1100
TZOFFSETTO:+1000
TZNAME:AEST
DTSTART:20230401T160000
END:STANDARD
BEGIN:DAYLIGHT
TZOFFSETFROM:+1000
TZOFFSETTO:+1100
TZNAME:AEDT
DTSTART:20230930T160000
END:DAYLIGHT
TZID:Australia/Adelaide
BEGIN:STANDARD
TZOFFSETFROM:+1030
TZOFFSETTO:+0930
TZNAME:ACST
DTSTART:20230401T163000
END:STANDARD
BEGIN:DAYLIGHT
TZOFFSETFROM:+0930
TZOFFSETTO:+1030
TZNAME:ACDT
DTSTART:20230930T163000
END:DAYLIGHT
END:VTIMEZONE
BEGIN:VEVENT
DTSTART;TZID=Australia/Melbourne:20230108T100000
DTEND;TZID=Australia/Melbourne:20230108T120000
DTSTAMP:20260422T044842
CREATED:20220222T031333Z
LAST-MODIFIED:20231212T045700Z
UID:10000064-1673172000-1673179200@mdlc.lca.org.au
SUMMARY:Worship with St James\, Moorabbin
DESCRIPTION:10.00am
URL:https://mdlc.lca.org.au/event/worship-with-st-james-moorabbin-2-2/2023-01-08/
LOCATION:St James\, Moorabbin\, 416 South Road\, Moorabbin\, Victoria\, Australia
CATEGORIES:Worship
GEO:-37.9343841;145.0412199
X-APPLE-STRUCTURED-LOCATION;VALUE=URI;X-ADDRESS=St James Moorabbin 416 South Road Moorabbin Victoria Australia;X-APPLE-RADIUS=500;X-TITLE=416 South Road:geo:145.0412199,-37.9343841
END:VEVENT
BEGIN:VEVENT
DTSTART;TZID=Australia/Adelaide:20230108T103000
DTEND;TZID=Australia/Adelaide:20230108T123000
DTSTAMP:20260422T044842
CREATED:20220121T032619Z
LAST-MODIFIED:20241204T040728Z
UID:10001243-1673173800-1673181000@mdlc.lca.org.au
SUMMARY:Worship with Holy Trinity\, Dandenong
DESCRIPTION:10.30am (except fifth Sunday of the month)
URL:https://mdlc.lca.org.au/event/holy-trinity-dandenong-2022-12-25/2023-01-08/
LOCATION:The Marian Room\, 24 New Street\, Dandenong\, Victoria\, Australia
CATEGORIES:Worship
GEO:-37.9903107;145.2214213
X-APPLE-STRUCTURED-LOCATION;VALUE=URI;X-ADDRESS=The Marian Room 24 New Street Dandenong Victoria Australia;X-APPLE-RADIUS=500;X-TITLE=24 New Street:geo:145.2214213,-37.9903107
END:VEVENT
BEGIN:VEVENT
DTSTART;TZID=Australia/Adelaide:20230108T103000
DTEND;TZID=Australia/Adelaide:20230108T123000
DTSTAMP:20260422T044842
CREATED:20220121T032619Z
LAST-MODIFIED:20230223T043723Z
UID:10000406-1673173800-1673181000@mdlc.lca.org.au
SUMMARY:Worship with Holy Trinity\, Dandenong
DESCRIPTION:10.30am (except fifth Sunday of the month)
URL:https://mdlc.lca.org.au/event/holy-trinity-dandenong/2023-01-08/
LOCATION:The Marian Room\, 24 New Street\, Dandenong\, Victoria\, Australia
CATEGORIES:Worship
GEO:-37.9903107;145.2214213
X-APPLE-STRUCTURED-LOCATION;VALUE=URI;X-ADDRESS=The Marian Room 24 New Street Dandenong Victoria Australia;X-APPLE-RADIUS=500;X-TITLE=24 New Street:geo:145.2214213,-37.9903107
END:VEVENT
BEGIN:VEVENT
DTSTART;TZID=Australia/Adelaide:20230108T140000
DTEND;TZID=Australia/Adelaide:20230108T160000
DTSTAMP:20260422T044842
CREATED:20220121T033503Z
LAST-MODIFIED:20230223T044329Z
UID:10000541-1673186400-1673193600@mdlc.lca.org.au
SUMMARY:Worship with South Sudanese Fellowship
DESCRIPTION:2.00pm (except fifth Sunday of the month)
URL:https://mdlc.lca.org.au/event/worship-at-south-sudanese-fellowship/2023-01-08/
LOCATION:The Marian Room\, 24 New Street\, Dandenong\, Victoria\, Australia
CATEGORIES:Worship
GEO:-37.9903107;145.2214213
X-APPLE-STRUCTURED-LOCATION;VALUE=URI;X-ADDRESS=The Marian Room 24 New Street Dandenong Victoria Australia;X-APPLE-RADIUS=500;X-TITLE=24 New Street:geo:145.2214213,-37.9903107
END:VEVENT
BEGIN:VEVENT
DTSTART;TZID=Australia/Melbourne:20230115T090000
DTEND;TZID=Australia/Melbourne:20230115T110000
DTSTAMP:20260422T044842
CREATED:20220222T031117Z
LAST-MODIFIED:20231212T050026Z
UID:10000027-1673773200-1673780400@mdlc.lca.org.au
SUMMARY:Worship with St James\, Moorabbin
DESCRIPTION:9.00am
URL:https://mdlc.lca.org.au/event/worship-with-st-james-moorabbin/2023-01-15/
LOCATION:St James\, Moorabbin\, 416 South Road\, Moorabbin\, Victoria\, Australia
CATEGORIES:Worship
GEO:-37.9343841;145.0412199
X-APPLE-STRUCTURED-LOCATION;VALUE=URI;X-ADDRESS=St James Moorabbin 416 South Road Moorabbin Victoria Australia;X-APPLE-RADIUS=500;X-TITLE=416 South Road:geo:145.0412199,-37.9343841
END:VEVENT
BEGIN:VEVENT
DTSTART;TZID=Australia/Adelaide:20230115T103000
DTEND;TZID=Australia/Adelaide:20230115T123000
DTSTAMP:20260422T044842
CREATED:20220121T032619Z
LAST-MODIFIED:20230223T043723Z
UID:10000407-1673778600-1673785800@mdlc.lca.org.au
SUMMARY:Worship with Holy Trinity\, Dandenong
DESCRIPTION:10.30am (except fifth Sunday of the month)
URL:https://mdlc.lca.org.au/event/holy-trinity-dandenong/2023-01-15/
LOCATION:The Marian Room\, 24 New Street\, Dandenong\, Victoria\, Australia
CATEGORIES:Worship
GEO:-37.9903107;145.2214213
X-APPLE-STRUCTURED-LOCATION;VALUE=URI;X-ADDRESS=The Marian Room 24 New Street Dandenong Victoria Australia;X-APPLE-RADIUS=500;X-TITLE=24 New Street:geo:145.2214213,-37.9903107
END:VEVENT
BEGIN:VEVENT
DTSTART;TZID=Australia/Adelaide:20230115T103000
DTEND;TZID=Australia/Adelaide:20230115T123000
DTSTAMP:20260422T044842
CREATED:20220121T032619Z
LAST-MODIFIED:20241204T040728Z
UID:10001244-1673778600-1673785800@mdlc.lca.org.au
SUMMARY:Worship with Holy Trinity\, Dandenong
DESCRIPTION:10.30am (except fifth Sunday of the month)
URL:https://mdlc.lca.org.au/event/holy-trinity-dandenong-2022-12-25/2023-01-15/
LOCATION:The Marian Room\, 24 New Street\, Dandenong\, Victoria\, Australia
CATEGORIES:Worship
GEO:-37.9903107;145.2214213
X-APPLE-STRUCTURED-LOCATION;VALUE=URI;X-ADDRESS=The Marian Room 24 New Street Dandenong Victoria Australia;X-APPLE-RADIUS=500;X-TITLE=24 New Street:geo:145.2214213,-37.9903107
END:VEVENT
BEGIN:VEVENT
DTSTART;TZID=Australia/Adelaide:20230115T140000
DTEND;TZID=Australia/Adelaide:20230115T160000
DTSTAMP:20260422T044842
CREATED:20220121T033503Z
LAST-MODIFIED:20230223T044329Z
UID:10000542-1673791200-1673798400@mdlc.lca.org.au
SUMMARY:Worship with South Sudanese Fellowship
DESCRIPTION:2.00pm (except fifth Sunday of the month)
URL:https://mdlc.lca.org.au/event/worship-at-south-sudanese-fellowship/2023-01-15/
LOCATION:The Marian Room\, 24 New Street\, Dandenong\, Victoria\, Australia
CATEGORIES:Worship
GEO:-37.9903107;145.2214213
X-APPLE-STRUCTURED-LOCATION;VALUE=URI;X-ADDRESS=The Marian Room 24 New Street Dandenong Victoria Australia;X-APPLE-RADIUS=500;X-TITLE=24 New Street:geo:145.2214213,-37.9903107
END:VEVENT
BEGIN:VEVENT
DTSTART;TZID=Australia/Melbourne:20230122T100000
DTEND;TZID=Australia/Melbourne:20230122T120000
DTSTAMP:20260422T044842
CREATED:20231212T040940Z
LAST-MODIFIED:20241204T042009Z
UID:10000099-1674381600-1674388800@mdlc.lca.org.au
SUMMARY:Worship with St James\, Moorabbin
DESCRIPTION:10.00am
URL:https://mdlc.lca.org.au/event/worship-with-st-james-moorabbin-2/2023-01-22/
LOCATION:St James\, Moorabbin\, 416 South Road\, Moorabbin\, Victoria\, Australia
CATEGORIES:Worship
GEO:-37.9343841;145.0412199
X-APPLE-STRUCTURED-LOCATION;VALUE=URI;X-ADDRESS=St James Moorabbin 416 South Road Moorabbin Victoria Australia;X-APPLE-RADIUS=500;X-TITLE=416 South Road:geo:145.0412199,-37.9343841
END:VEVENT
BEGIN:VEVENT
DTSTART;TZID=Australia/Adelaide:20230122T103000
DTEND;TZID=Australia/Adelaide:20230122T123000
DTSTAMP:20260422T044842
CREATED:20220121T032619Z
LAST-MODIFIED:20241204T040728Z
UID:10001245-1674383400-1674390600@mdlc.lca.org.au
SUMMARY:Worship with Holy Trinity\, Dandenong
DESCRIPTION:10.30am (except fifth Sunday of the month)
URL:https://mdlc.lca.org.au/event/holy-trinity-dandenong-2022-12-25/2023-01-22/
LOCATION:The Marian Room\, 24 New Street\, Dandenong\, Victoria\, Australia
CATEGORIES:Worship
GEO:-37.9903107;145.2214213
X-APPLE-STRUCTURED-LOCATION;VALUE=URI;X-ADDRESS=The Marian Room 24 New Street Dandenong Victoria Australia;X-APPLE-RADIUS=500;X-TITLE=24 New Street:geo:145.2214213,-37.9903107
END:VEVENT
BEGIN:VEVENT
DTSTART;TZID=Australia/Adelaide:20230122T103000
DTEND;TZID=Australia/Adelaide:20230122T123000
DTSTAMP:20260422T044842
CREATED:20220121T032619Z
LAST-MODIFIED:20230223T043723Z
UID:10000408-1674383400-1674390600@mdlc.lca.org.au
SUMMARY:Worship with Holy Trinity\, Dandenong
DESCRIPTION:10.30am (except fifth Sunday of the month)
URL:https://mdlc.lca.org.au/event/holy-trinity-dandenong/2023-01-22/
LOCATION:The Marian Room\, 24 New Street\, Dandenong\, Victoria\, Australia
CATEGORIES:Worship
GEO:-37.9903107;145.2214213
X-APPLE-STRUCTURED-LOCATION;VALUE=URI;X-ADDRESS=The Marian Room 24 New Street Dandenong Victoria Australia;X-APPLE-RADIUS=500;X-TITLE=24 New Street:geo:145.2214213,-37.9903107
END:VEVENT
BEGIN:VEVENT
DTSTART;TZID=Australia/Adelaide:20230122T140000
DTEND;TZID=Australia/Adelaide:20230122T160000
DTSTAMP:20260422T044842
CREATED:20220121T033503Z
LAST-MODIFIED:20230223T044329Z
UID:10000543-1674396000-1674403200@mdlc.lca.org.au
SUMMARY:Worship with South Sudanese Fellowship
DESCRIPTION:2.00pm (except fifth Sunday of the month)
URL:https://mdlc.lca.org.au/event/worship-at-south-sudanese-fellowship/2023-01-22/
LOCATION:The Marian Room\, 24 New Street\, Dandenong\, Victoria\, Australia
CATEGORIES:Worship
GEO:-37.9903107;145.2214213
X-APPLE-STRUCTURED-LOCATION;VALUE=URI;X-ADDRESS=The Marian Room 24 New Street Dandenong Victoria Australia;X-APPLE-RADIUS=500;X-TITLE=24 New Street:geo:145.2214213,-37.9903107
END:VEVENT
BEGIN:VEVENT
DTSTART;TZID=Australia/Adelaide:20230129T100000
DTEND;TZID=Australia/Adelaide:20230129T120000
DTSTAMP:20260422T044842
CREATED:20220121T033705Z
LAST-MODIFIED:20220121T033705Z
UID:10000010-1674986400-1674993600@mdlc.lca.org.au
SUMMARY:Combined congregation service
DESCRIPTION:Fifth Sunday of month – 10.00am combined congregation service at Moorabbin
URL:https://mdlc.lca.org.au/event/combined-congregation-service/2023-01-29/
LOCATION:St James\, Moorabbin\, 416 South Road\, Moorabbin\, Victoria\, Australia
CATEGORIES:Worship
GEO:-37.9343841;145.0412199
X-APPLE-STRUCTURED-LOCATION;VALUE=URI;X-ADDRESS=St James Moorabbin 416 South Road Moorabbin Victoria Australia;X-APPLE-RADIUS=500;X-TITLE=416 South Road:geo:145.0412199,-37.9343841
END:VEVENT
BEGIN:VEVENT
DTSTART;TZID=Australia/Adelaide:20230205T090000
DTEND;TZID=Australia/Adelaide:20230205T110000
DTSTAMP:20260422T044842
CREATED:20220121T032405Z
LAST-MODIFIED:20231212T045512Z
UID:10000307-1675587600-1675594800@mdlc.lca.org.au
SUMMARY:Worship with St James\, Moorabbin
DESCRIPTION:9.00am
URL:https://mdlc.lca.org.au/event/st-james-moorabbin-2/2023-02-05/
LOCATION:St James\, Moorabbin\, 416 South Road\, Moorabbin\, Victoria\, Australia
CATEGORIES:Worship
GEO:-37.9343841;145.0412199
X-APPLE-STRUCTURED-LOCATION;VALUE=URI;X-ADDRESS=St James Moorabbin 416 South Road Moorabbin Victoria Australia;X-APPLE-RADIUS=500;X-TITLE=416 South Road:geo:145.0412199,-37.9343841
END:VEVENT
BEGIN:VEVENT
DTSTART;TZID=Australia/Adelaide:20230205T103000
DTEND;TZID=Australia/Adelaide:20230205T123000
DTSTAMP:20260422T044842
CREATED:20220121T032619Z
LAST-MODIFIED:20230223T043723Z
UID:10000409-1675593000-1675600200@mdlc.lca.org.au
SUMMARY:Worship with Holy Trinity\, Dandenong
DESCRIPTION:10.30am (except fifth Sunday of the month)
URL:https://mdlc.lca.org.au/event/holy-trinity-dandenong/2023-02-05/
LOCATION:The Marian Room\, 24 New Street\, Dandenong\, Victoria\, Australia
CATEGORIES:Worship
GEO:-37.9903107;145.2214213
X-APPLE-STRUCTURED-LOCATION;VALUE=URI;X-ADDRESS=The Marian Room 24 New Street Dandenong Victoria Australia;X-APPLE-RADIUS=500;X-TITLE=24 New Street:geo:145.2214213,-37.9903107
END:VEVENT
BEGIN:VEVENT
DTSTART;TZID=Australia/Adelaide:20230205T103000
DTEND;TZID=Australia/Adelaide:20230205T123000
DTSTAMP:20260422T044842
CREATED:20220121T032619Z
LAST-MODIFIED:20241204T040728Z
UID:10001246-1675593000-1675600200@mdlc.lca.org.au
SUMMARY:Worship with Holy Trinity\, Dandenong
DESCRIPTION:10.30am (except fifth Sunday of the month)
URL:https://mdlc.lca.org.au/event/holy-trinity-dandenong-2022-12-25/2023-02-05/
LOCATION:The Marian Room\, 24 New Street\, Dandenong\, Victoria\, Australia
CATEGORIES:Worship
GEO:-37.9903107;145.2214213
X-APPLE-STRUCTURED-LOCATION;VALUE=URI;X-ADDRESS=The Marian Room 24 New Street Dandenong Victoria Australia;X-APPLE-RADIUS=500;X-TITLE=24 New Street:geo:145.2214213,-37.9903107
END:VEVENT
BEGIN:VEVENT
DTSTART;TZID=Australia/Adelaide:20230205T140000
DTEND;TZID=Australia/Adelaide:20230205T160000
DTSTAMP:20260422T044842
CREATED:20220121T033503Z
LAST-MODIFIED:20230223T044329Z
UID:10000544-1675605600-1675612800@mdlc.lca.org.au
SUMMARY:Worship with South Sudanese Fellowship
DESCRIPTION:2.00pm (except fifth Sunday of the month)
URL:https://mdlc.lca.org.au/event/worship-at-south-sudanese-fellowship/2023-02-05/
LOCATION:The Marian Room\, 24 New Street\, Dandenong\, Victoria\, Australia
CATEGORIES:Worship
GEO:-37.9903107;145.2214213
X-APPLE-STRUCTURED-LOCATION;VALUE=URI;X-ADDRESS=The Marian Room 24 New Street Dandenong Victoria Australia;X-APPLE-RADIUS=500;X-TITLE=24 New Street:geo:145.2214213,-37.9903107
END:VEVENT
BEGIN:VEVENT
DTSTART;TZID=Australia/Melbourne:20230212T100000
DTEND;TZID=Australia/Melbourne:20230212T120000
DTSTAMP:20260422T044842
CREATED:20220222T031333Z
LAST-MODIFIED:20231212T045700Z
UID:10000065-1676196000-1676203200@mdlc.lca.org.au
SUMMARY:Worship with St James\, Moorabbin
DESCRIPTION:10.00am
URL:https://mdlc.lca.org.au/event/worship-with-st-james-moorabbin-2-2/2023-02-12/
LOCATION:St James\, Moorabbin\, 416 South Road\, Moorabbin\, Victoria\, Australia
CATEGORIES:Worship
GEO:-37.9343841;145.0412199
X-APPLE-STRUCTURED-LOCATION;VALUE=URI;X-ADDRESS=St James Moorabbin 416 South Road Moorabbin Victoria Australia;X-APPLE-RADIUS=500;X-TITLE=416 South Road:geo:145.0412199,-37.9343841
END:VEVENT
BEGIN:VEVENT
DTSTART;TZID=Australia/Adelaide:20230212T103000
DTEND;TZID=Australia/Adelaide:20230212T123000
DTSTAMP:20260422T044842
CREATED:20220121T032619Z
LAST-MODIFIED:20241204T040728Z
UID:10001247-1676197800-1676205000@mdlc.lca.org.au
SUMMARY:Worship with Holy Trinity\, Dandenong
DESCRIPTION:10.30am (except fifth Sunday of the month)
URL:https://mdlc.lca.org.au/event/holy-trinity-dandenong-2022-12-25/2023-02-12/
LOCATION:The Marian Room\, 24 New Street\, Dandenong\, Victoria\, Australia
CATEGORIES:Worship
GEO:-37.9903107;145.2214213
X-APPLE-STRUCTURED-LOCATION;VALUE=URI;X-ADDRESS=The Marian Room 24 New Street Dandenong Victoria Australia;X-APPLE-RADIUS=500;X-TITLE=24 New Street:geo:145.2214213,-37.9903107
END:VEVENT
BEGIN:VEVENT
DTSTART;TZID=Australia/Adelaide:20230212T103000
DTEND;TZID=Australia/Adelaide:20230212T123000
DTSTAMP:20260422T044842
CREATED:20220121T032619Z
LAST-MODIFIED:20230223T043723Z
UID:10000410-1676197800-1676205000@mdlc.lca.org.au
SUMMARY:Worship with Holy Trinity\, Dandenong
DESCRIPTION:10.30am (except fifth Sunday of the month)
URL:https://mdlc.lca.org.au/event/holy-trinity-dandenong/2023-02-12/
LOCATION:The Marian Room\, 24 New Street\, Dandenong\, Victoria\, Australia
CATEGORIES:Worship
GEO:-37.9903107;145.2214213
X-APPLE-STRUCTURED-LOCATION;VALUE=URI;X-ADDRESS=The Marian Room 24 New Street Dandenong Victoria Australia;X-APPLE-RADIUS=500;X-TITLE=24 New Street:geo:145.2214213,-37.9903107
END:VEVENT
BEGIN:VEVENT
DTSTART;TZID=Australia/Adelaide:20230212T140000
DTEND;TZID=Australia/Adelaide:20230212T160000
DTSTAMP:20260422T044842
CREATED:20220121T033503Z
LAST-MODIFIED:20230223T044329Z
UID:10000545-1676210400-1676217600@mdlc.lca.org.au
SUMMARY:Worship with South Sudanese Fellowship
DESCRIPTION:2.00pm (except fifth Sunday of the month)
URL:https://mdlc.lca.org.au/event/worship-at-south-sudanese-fellowship/2023-02-12/
LOCATION:The Marian Room\, 24 New Street\, Dandenong\, Victoria\, Australia
CATEGORIES:Worship
GEO:-37.9903107;145.2214213
X-APPLE-STRUCTURED-LOCATION;VALUE=URI;X-ADDRESS=The Marian Room 24 New Street Dandenong Victoria Australia;X-APPLE-RADIUS=500;X-TITLE=24 New Street:geo:145.2214213,-37.9903107
END:VEVENT
BEGIN:VEVENT
DTSTART;TZID=Australia/Melbourne:20230219T090000
DTEND;TZID=Australia/Melbourne:20230219T110000
DTSTAMP:20260422T044842
CREATED:20220222T031117Z
LAST-MODIFIED:20231212T050026Z
UID:10000028-1676797200-1676804400@mdlc.lca.org.au
SUMMARY:Worship with St James\, Moorabbin
DESCRIPTION:9.00am
URL:https://mdlc.lca.org.au/event/worship-with-st-james-moorabbin/2023-02-19/
LOCATION:St James\, Moorabbin\, 416 South Road\, Moorabbin\, Victoria\, Australia
CATEGORIES:Worship
GEO:-37.9343841;145.0412199
X-APPLE-STRUCTURED-LOCATION;VALUE=URI;X-ADDRESS=St James Moorabbin 416 South Road Moorabbin Victoria Australia;X-APPLE-RADIUS=500;X-TITLE=416 South Road:geo:145.0412199,-37.9343841
END:VEVENT
BEGIN:VEVENT
DTSTART;TZID=Australia/Adelaide:20230219T103000
DTEND;TZID=Australia/Adelaide:20230219T123000
DTSTAMP:20260422T044842
CREATED:20220121T032619Z
LAST-MODIFIED:20230223T043723Z
UID:10000411-1676802600-1676809800@mdlc.lca.org.au
SUMMARY:Worship with Holy Trinity\, Dandenong
DESCRIPTION:10.30am (except fifth Sunday of the month)
URL:https://mdlc.lca.org.au/event/holy-trinity-dandenong/2023-02-19/
LOCATION:The Marian Room\, 24 New Street\, Dandenong\, Victoria\, Australia
CATEGORIES:Worship
GEO:-37.9903107;145.2214213
X-APPLE-STRUCTURED-LOCATION;VALUE=URI;X-ADDRESS=The Marian Room 24 New Street Dandenong Victoria Australia;X-APPLE-RADIUS=500;X-TITLE=24 New Street:geo:145.2214213,-37.9903107
END:VEVENT
BEGIN:VEVENT
DTSTART;TZID=Australia/Adelaide:20230219T103000
DTEND;TZID=Australia/Adelaide:20230219T123000
DTSTAMP:20260422T044842
CREATED:20220121T032619Z
LAST-MODIFIED:20241204T040728Z
UID:10001248-1676802600-1676809800@mdlc.lca.org.au
SUMMARY:Worship with Holy Trinity\, Dandenong
DESCRIPTION:10.30am (except fifth Sunday of the month)
URL:https://mdlc.lca.org.au/event/holy-trinity-dandenong-2022-12-25/2023-02-19/
LOCATION:The Marian Room\, 24 New Street\, Dandenong\, Victoria\, Australia
CATEGORIES:Worship
GEO:-37.9903107;145.2214213
X-APPLE-STRUCTURED-LOCATION;VALUE=URI;X-ADDRESS=The Marian Room 24 New Street Dandenong Victoria Australia;X-APPLE-RADIUS=500;X-TITLE=24 New Street:geo:145.2214213,-37.9903107
END:VEVENT
BEGIN:VEVENT
DTSTART;TZID=Australia/Adelaide:20230219T140000
DTEND;TZID=Australia/Adelaide:20230219T160000
DTSTAMP:20260422T044842
CREATED:20220121T033503Z
LAST-MODIFIED:20230223T044329Z
UID:10000546-1676815200-1676822400@mdlc.lca.org.au
SUMMARY:Worship with South Sudanese Fellowship
DESCRIPTION:2.00pm (except fifth Sunday of the month)
URL:https://mdlc.lca.org.au/event/worship-at-south-sudanese-fellowship/2023-02-19/
LOCATION:The Marian Room\, 24 New Street\, Dandenong\, Victoria\, Australia
CATEGORIES:Worship
GEO:-37.9903107;145.2214213
X-APPLE-STRUCTURED-LOCATION;VALUE=URI;X-ADDRESS=The Marian Room 24 New Street Dandenong Victoria Australia;X-APPLE-RADIUS=500;X-TITLE=24 New Street:geo:145.2214213,-37.9903107
END:VEVENT
BEGIN:VEVENT
DTSTART;TZID=Australia/Melbourne:20230222T100000
DTEND;TZID=Australia/Melbourne:20230222T120000
DTSTAMP:20260422T044842
CREATED:20230224T043116Z
LAST-MODIFIED:20230224T044210Z
UID:10000171-1677060000-1677067200@mdlc.lca.org.au
SUMMARY:Crafty Chat
DESCRIPTION:Come and join us for some fun\, coffee a nibble and some fun craft. The puddings were brilliant.
URL:https://mdlc.lca.org.au/event/crafty-chat/2023-02-22/
LOCATION:St James\, Moorabbin\, 416 South Road\, Moorabbin\, Victoria\, Australia
CATEGORIES:Community event
ATTACH;FMTTYPE=image/jpeg:https://mdlc.lca.org.au/wp-content/uploads/sites/2422/2023/02/crafty-chat-ducks.jpg
GEO:-37.9343841;145.0412199
X-APPLE-STRUCTURED-LOCATION;VALUE=URI;X-ADDRESS=St James Moorabbin 416 South Road Moorabbin Victoria Australia;X-APPLE-RADIUS=500;X-TITLE=416 South Road:geo:145.0412199,-37.9343841
END:VEVENT
BEGIN:VEVENT
DTSTART;TZID=Australia/Melbourne:20230226T100000
DTEND;TZID=Australia/Melbourne:20230226T120000
DTSTAMP:20260422T044842
CREATED:20231212T040940Z
LAST-MODIFIED:20241204T042009Z
UID:10000100-1677405600-1677412800@mdlc.lca.org.au
SUMMARY:Worship with St James\, Moorabbin
DESCRIPTION:10.00am
URL:https://mdlc.lca.org.au/event/worship-with-st-james-moorabbin-2/2023-02-26/
LOCATION:St James\, Moorabbin\, 416 South Road\, Moorabbin\, Victoria\, Australia
CATEGORIES:Worship
GEO:-37.9343841;145.0412199
X-APPLE-STRUCTURED-LOCATION;VALUE=URI;X-ADDRESS=St James Moorabbin 416 South Road Moorabbin Victoria Australia;X-APPLE-RADIUS=500;X-TITLE=416 South Road:geo:145.0412199,-37.9343841
END:VEVENT
BEGIN:VEVENT
DTSTART;TZID=Australia/Adelaide:20230226T103000
DTEND;TZID=Australia/Adelaide:20230226T123000
DTSTAMP:20260422T044842
CREATED:20220121T032619Z
LAST-MODIFIED:20230223T043723Z
UID:10000412-1677407400-1677414600@mdlc.lca.org.au
SUMMARY:Worship with Holy Trinity\, Dandenong
DESCRIPTION:10.30am (except fifth Sunday of the month)
URL:https://mdlc.lca.org.au/event/holy-trinity-dandenong/2023-02-26/
LOCATION:The Marian Room\, 24 New Street\, Dandenong\, Victoria\, Australia
CATEGORIES:Worship
GEO:-37.9903107;145.2214213
X-APPLE-STRUCTURED-LOCATION;VALUE=URI;X-ADDRESS=The Marian Room 24 New Street Dandenong Victoria Australia;X-APPLE-RADIUS=500;X-TITLE=24 New Street:geo:145.2214213,-37.9903107
END:VEVENT
BEGIN:VEVENT
DTSTART;TZID=Australia/Adelaide:20230226T103000
DTEND;TZID=Australia/Adelaide:20230226T123000
DTSTAMP:20260422T044842
CREATED:20220121T032619Z
LAST-MODIFIED:20241204T040728Z
UID:10001249-1677407400-1677414600@mdlc.lca.org.au
SUMMARY:Worship with Holy Trinity\, Dandenong
DESCRIPTION:10.30am (except fifth Sunday of the month)
URL:https://mdlc.lca.org.au/event/holy-trinity-dandenong-2022-12-25/2023-02-26/
LOCATION:The Marian Room\, 24 New Street\, Dandenong\, Victoria\, Australia
CATEGORIES:Worship
GEO:-37.9903107;145.2214213
X-APPLE-STRUCTURED-LOCATION;VALUE=URI;X-ADDRESS=The Marian Room 24 New Street Dandenong Victoria Australia;X-APPLE-RADIUS=500;X-TITLE=24 New Street:geo:145.2214213,-37.9903107
END:VEVENT
BEGIN:VEVENT
DTSTART;TZID=Australia/Adelaide:20230226T140000
DTEND;TZID=Australia/Adelaide:20230226T160000
DTSTAMP:20260422T044842
CREATED:20220121T033503Z
LAST-MODIFIED:20230223T044329Z
UID:10000547-1677420000-1677427200@mdlc.lca.org.au
SUMMARY:Worship with South Sudanese Fellowship
DESCRIPTION:2.00pm (except fifth Sunday of the month)
URL:https://mdlc.lca.org.au/event/worship-at-south-sudanese-fellowship/2023-02-26/
LOCATION:The Marian Room\, 24 New Street\, Dandenong\, Victoria\, Australia
CATEGORIES:Worship
GEO:-37.9903107;145.2214213
X-APPLE-STRUCTURED-LOCATION;VALUE=URI;X-ADDRESS=The Marian Room 24 New Street Dandenong Victoria Australia;X-APPLE-RADIUS=500;X-TITLE=24 New Street:geo:145.2214213,-37.9903107
END:VEVENT
END:VCALENDAR