BEGIN:VCALENDAR
VERSION:2.0
PRODID:-//Moorabbin–Dandenong Lutheran Church, Vic - ECPv6.8.1//NONSGML v1.0//EN
CALSCALE:GREGORIAN
METHOD:PUBLISH
X-WR-CALNAME:Moorabbin–Dandenong Lutheran Church, Vic
X-ORIGINAL-URL:https://mdlc.lca.org.au
X-WR-CALDESC:Events for Moorabbin–Dandenong Lutheran Church, Vic
REFRESH-INTERVAL;VALUE=DURATION:PT1H
X-Robots-Tag:noindex
X-PUBLISHED-TTL:PT1H
BEGIN:VTIMEZONE
TZID:Australia/Adelaide
BEGIN:STANDARD
TZOFFSETFROM:+1030
TZOFFSETTO:+0930
TZNAME:ACST
DTSTART:20220402T163000
END:STANDARD
BEGIN:DAYLIGHT
TZOFFSETFROM:+0930
TZOFFSETTO:+1030
TZNAME:ACDT
DTSTART:20221001T163000
END:DAYLIGHT
BEGIN:STANDARD
TZOFFSETFROM:+1030
TZOFFSETTO:+0930
TZNAME:ACST
DTSTART:20230401T163000
END:STANDARD
BEGIN:DAYLIGHT
TZOFFSETFROM:+0930
TZOFFSETTO:+1030
TZNAME:ACDT
DTSTART:20230930T163000
END:DAYLIGHT
TZID:Australia/Melbourne
BEGIN:STANDARD
TZOFFSETFROM:+1100
TZOFFSETTO:+1000
TZNAME:AEST
DTSTART:20220402T160000
END:STANDARD
BEGIN:DAYLIGHT
TZOFFSETFROM:+1000
TZOFFSETTO:+1100
TZNAME:AEDT
DTSTART:20221001T160000
END:DAYLIGHT
END:VTIMEZONE
BEGIN:VEVENT
DTSTART;TZID=Australia/Adelaide:20221106T103000
DTEND;TZID=Australia/Adelaide:20221106T123000
DTSTAMP:20260421T233631
CREATED:20220121T032619Z
LAST-MODIFIED:20230223T043723Z
UID:10000399-1667730600-1667737800@mdlc.lca.org.au
SUMMARY:Worship with Holy Trinity\, Dandenong
DESCRIPTION:10.30am (except fifth Sunday of the month)
URL:https://mdlc.lca.org.au/event/holy-trinity-dandenong/2022-11-06/
LOCATION:The Marian Room\, 24 New Street\, Dandenong\, Victoria\, Australia
CATEGORIES:Worship
GEO:-37.9903107;145.2214213
X-APPLE-STRUCTURED-LOCATION;VALUE=URI;X-ADDRESS=The Marian Room 24 New Street Dandenong Victoria Australia;X-APPLE-RADIUS=500;X-TITLE=24 New Street:geo:145.2214213,-37.9903107
END:VEVENT
BEGIN:VEVENT
DTSTART;TZID=Australia/Adelaide:20221106T140000
DTEND;TZID=Australia/Adelaide:20221106T160000
DTSTAMP:20260421T233631
CREATED:20220121T033503Z
LAST-MODIFIED:20221107T052328Z
UID:10000498-1667743200-1667750400@mdlc.lca.org.au
SUMMARY:Worship with Greater South Sudanese Fellowship
DESCRIPTION:2.00pm special service with installation of Pr Greg Pietsch as Bishops representative for South Sudanese Ministry
URL:https://mdlc.lca.org.au/event/worship-at-south-sudanese-fellowship-2022-11-06/
LOCATION:St James\, Moorabbin\, 416 South Road\, Moorabbin\, Victoria\, Australia
CATEGORIES:Worship
GEO:-37.9343841;145.0412199
X-APPLE-STRUCTURED-LOCATION;VALUE=URI;X-ADDRESS=St James Moorabbin 416 South Road Moorabbin Victoria Australia;X-APPLE-RADIUS=500;X-TITLE=416 South Road:geo:145.0412199,-37.9343841
END:VEVENT
BEGIN:VEVENT
DTSTART;TZID=Australia/Adelaide:20221106T140000
DTEND;TZID=Australia/Adelaide:20221106T160000
DTSTAMP:20260421T233631
CREATED:20220121T033503Z
LAST-MODIFIED:20230223T044329Z
UID:10000535-1667743200-1667750400@mdlc.lca.org.au
SUMMARY:Worship with South Sudanese Fellowship
DESCRIPTION:2.00pm (except fifth Sunday of the month)
URL:https://mdlc.lca.org.au/event/worship-at-south-sudanese-fellowship/2022-11-06/
LOCATION:The Marian Room\, 24 New Street\, Dandenong\, Victoria\, Australia
CATEGORIES:Worship
GEO:-37.9903107;145.2214213
X-APPLE-STRUCTURED-LOCATION;VALUE=URI;X-ADDRESS=The Marian Room 24 New Street Dandenong Victoria Australia;X-APPLE-RADIUS=500;X-TITLE=24 New Street:geo:145.2214213,-37.9903107
END:VEVENT
BEGIN:VEVENT
DTSTART;TZID=Australia/Melbourne:20221113T100000
DTEND;TZID=Australia/Melbourne:20221113T120000
DTSTAMP:20260421T233631
CREATED:20220222T031333Z
LAST-MODIFIED:20231212T045700Z
UID:10000062-1668333600-1668340800@mdlc.lca.org.au
SUMMARY:Worship with St James\, Moorabbin
DESCRIPTION:10.00am
URL:https://mdlc.lca.org.au/event/worship-with-st-james-moorabbin-2-2/2022-11-13/
LOCATION:St James\, Moorabbin\, 416 South Road\, Moorabbin\, Victoria\, Australia
CATEGORIES:Worship
GEO:-37.9343841;145.0412199
X-APPLE-STRUCTURED-LOCATION;VALUE=URI;X-ADDRESS=St James Moorabbin 416 South Road Moorabbin Victoria Australia;X-APPLE-RADIUS=500;X-TITLE=416 South Road:geo:145.0412199,-37.9343841
END:VEVENT
BEGIN:VEVENT
DTSTART;TZID=Australia/Adelaide:20221113T103000
DTEND;TZID=Australia/Adelaide:20221113T123000
DTSTAMP:20260421T233631
CREATED:20220121T032619Z
LAST-MODIFIED:20230223T043723Z
UID:10000400-1668335400-1668342600@mdlc.lca.org.au
SUMMARY:Worship with Holy Trinity\, Dandenong
DESCRIPTION:10.30am (except fifth Sunday of the month)
URL:https://mdlc.lca.org.au/event/holy-trinity-dandenong/2022-11-13/
LOCATION:The Marian Room\, 24 New Street\, Dandenong\, Victoria\, Australia
CATEGORIES:Worship
GEO:-37.9903107;145.2214213
X-APPLE-STRUCTURED-LOCATION;VALUE=URI;X-ADDRESS=The Marian Room 24 New Street Dandenong Victoria Australia;X-APPLE-RADIUS=500;X-TITLE=24 New Street:geo:145.2214213,-37.9903107
END:VEVENT
BEGIN:VEVENT
DTSTART;TZID=Australia/Adelaide:20221113T140000
DTEND;TZID=Australia/Adelaide:20221113T160000
DTSTAMP:20260421T233631
CREATED:20220121T033503Z
LAST-MODIFIED:20230223T044329Z
UID:10000536-1668348000-1668355200@mdlc.lca.org.au
SUMMARY:Worship with South Sudanese Fellowship
DESCRIPTION:2.00pm (except fifth Sunday of the month)
URL:https://mdlc.lca.org.au/event/worship-at-south-sudanese-fellowship/2022-11-13/
LOCATION:The Marian Room\, 24 New Street\, Dandenong\, Victoria\, Australia
CATEGORIES:Worship
GEO:-37.9903107;145.2214213
X-APPLE-STRUCTURED-LOCATION;VALUE=URI;X-ADDRESS=The Marian Room 24 New Street Dandenong Victoria Australia;X-APPLE-RADIUS=500;X-TITLE=24 New Street:geo:145.2214213,-37.9903107
END:VEVENT
BEGIN:VEVENT
DTSTART;TZID=Australia/Melbourne:20221120T090000
DTEND;TZID=Australia/Melbourne:20221120T110000
DTSTAMP:20260421T233631
CREATED:20220222T031117Z
LAST-MODIFIED:20231212T050026Z
UID:10000025-1668934800-1668942000@mdlc.lca.org.au
SUMMARY:Worship with St James\, Moorabbin
DESCRIPTION:9.00am
URL:https://mdlc.lca.org.au/event/worship-with-st-james-moorabbin/2022-11-20/
LOCATION:St James\, Moorabbin\, 416 South Road\, Moorabbin\, Victoria\, Australia
CATEGORIES:Worship
GEO:-37.9343841;145.0412199
X-APPLE-STRUCTURED-LOCATION;VALUE=URI;X-ADDRESS=St James Moorabbin 416 South Road Moorabbin Victoria Australia;X-APPLE-RADIUS=500;X-TITLE=416 South Road:geo:145.0412199,-37.9343841
END:VEVENT
BEGIN:VEVENT
DTSTART;TZID=Australia/Adelaide:20221120T103000
DTEND;TZID=Australia/Adelaide:20221120T123000
DTSTAMP:20260421T233631
CREATED:20220121T032619Z
LAST-MODIFIED:20230223T043723Z
UID:10000401-1668940200-1668947400@mdlc.lca.org.au
SUMMARY:Worship with Holy Trinity\, Dandenong
DESCRIPTION:10.30am (except fifth Sunday of the month)
URL:https://mdlc.lca.org.au/event/holy-trinity-dandenong/2022-11-20/
LOCATION:The Marian Room\, 24 New Street\, Dandenong\, Victoria\, Australia
CATEGORIES:Worship
GEO:-37.9903107;145.2214213
X-APPLE-STRUCTURED-LOCATION;VALUE=URI;X-ADDRESS=The Marian Room 24 New Street Dandenong Victoria Australia;X-APPLE-RADIUS=500;X-TITLE=24 New Street:geo:145.2214213,-37.9903107
END:VEVENT
BEGIN:VEVENT
DTSTART;TZID=Australia/Adelaide:20221120T140000
DTEND;TZID=Australia/Adelaide:20221120T160000
DTSTAMP:20260421T233631
CREATED:20220121T033503Z
LAST-MODIFIED:20230223T044329Z
UID:10000537-1668952800-1668960000@mdlc.lca.org.au
SUMMARY:Worship with South Sudanese Fellowship
DESCRIPTION:2.00pm (except fifth Sunday of the month)
URL:https://mdlc.lca.org.au/event/worship-at-south-sudanese-fellowship/2022-11-20/
LOCATION:The Marian Room\, 24 New Street\, Dandenong\, Victoria\, Australia
CATEGORIES:Worship
GEO:-37.9903107;145.2214213
X-APPLE-STRUCTURED-LOCATION;VALUE=URI;X-ADDRESS=The Marian Room 24 New Street Dandenong Victoria Australia;X-APPLE-RADIUS=500;X-TITLE=24 New Street:geo:145.2214213,-37.9903107
END:VEVENT
BEGIN:VEVENT
DTSTART;TZID=Australia/Melbourne:20221127T100000
DTEND;TZID=Australia/Melbourne:20221127T120000
DTSTAMP:20260421T233631
CREATED:20231212T040940Z
LAST-MODIFIED:20241204T042009Z
UID:10000097-1669543200-1669550400@mdlc.lca.org.au
SUMMARY:Worship with St James\, Moorabbin
DESCRIPTION:10.00am
URL:https://mdlc.lca.org.au/event/worship-with-st-james-moorabbin-2/2022-11-27/
LOCATION:St James\, Moorabbin\, 416 South Road\, Moorabbin\, Victoria\, Australia
CATEGORIES:Worship
GEO:-37.9343841;145.0412199
X-APPLE-STRUCTURED-LOCATION;VALUE=URI;X-ADDRESS=St James Moorabbin 416 South Road Moorabbin Victoria Australia;X-APPLE-RADIUS=500;X-TITLE=416 South Road:geo:145.0412199,-37.9343841
END:VEVENT
BEGIN:VEVENT
DTSTART;TZID=Australia/Melbourne:20221127T140000
DTEND;TZID=Australia/Melbourne:20221127T153000
DTSTAMP:20260421T233631
CREATED:20220222T031553Z
LAST-MODIFIED:20221125T005117Z
UID:10000155-1669557600-1669563000@mdlc.lca.org.au
SUMMARY:Combined Worship with installation of Pastor Matt Huckel
DESCRIPTION:2PM
URL:https://mdlc.lca.org.au/event/worship-with-st-james-moorabbin-3-2022-11-27/
LOCATION:St James\, Moorabbin\, 416 South Road\, Moorabbin\, Victoria\, Australia
CATEGORIES:Worship
ATTACH;FMTTYPE=image/jpeg:https://mdlc.lca.org.au/wp-content/uploads/sites/2422/2022/09/Huckel-family-Sept-2022.jpg
GEO:-37.9343841;145.0412199
X-APPLE-STRUCTURED-LOCATION;VALUE=URI;X-ADDRESS=St James Moorabbin 416 South Road Moorabbin Victoria Australia;X-APPLE-RADIUS=500;X-TITLE=416 South Road:geo:145.0412199,-37.9343841
END:VEVENT
BEGIN:VEVENT
DTSTART;TZID=Australia/Adelaide:20221204T090000
DTEND;TZID=Australia/Adelaide:20221204T110000
DTSTAMP:20260421T233631
CREATED:20220121T032405Z
LAST-MODIFIED:20231212T045512Z
UID:10000305-1670144400-1670151600@mdlc.lca.org.au
SUMMARY:Worship with St James\, Moorabbin
DESCRIPTION:9.00am
URL:https://mdlc.lca.org.au/event/st-james-moorabbin-2/2022-12-04/
LOCATION:St James\, Moorabbin\, 416 South Road\, Moorabbin\, Victoria\, Australia
CATEGORIES:Worship
GEO:-37.9343841;145.0412199
X-APPLE-STRUCTURED-LOCATION;VALUE=URI;X-ADDRESS=St James Moorabbin 416 South Road Moorabbin Victoria Australia;X-APPLE-RADIUS=500;X-TITLE=416 South Road:geo:145.0412199,-37.9343841
END:VEVENT
BEGIN:VEVENT
DTSTART;TZID=Australia/Adelaide:20221204T103000
DTEND;TZID=Australia/Adelaide:20221204T123000
DTSTAMP:20260421T233631
CREATED:20220121T032619Z
LAST-MODIFIED:20230223T043723Z
UID:10000402-1670149800-1670157000@mdlc.lca.org.au
SUMMARY:Worship with Holy Trinity\, Dandenong
DESCRIPTION:10.30am (except fifth Sunday of the month)
URL:https://mdlc.lca.org.au/event/holy-trinity-dandenong/2022-12-04/
LOCATION:The Marian Room\, 24 New Street\, Dandenong\, Victoria\, Australia
CATEGORIES:Worship
GEO:-37.9903107;145.2214213
X-APPLE-STRUCTURED-LOCATION;VALUE=URI;X-ADDRESS=The Marian Room 24 New Street Dandenong Victoria Australia;X-APPLE-RADIUS=500;X-TITLE=24 New Street:geo:145.2214213,-37.9903107
END:VEVENT
BEGIN:VEVENT
DTSTART;TZID=Australia/Adelaide:20221204T140000
DTEND;TZID=Australia/Adelaide:20221204T160000
DTSTAMP:20260421T233631
CREATED:20220121T033503Z
LAST-MODIFIED:20230223T044329Z
UID:10000538-1670162400-1670169600@mdlc.lca.org.au
SUMMARY:Worship with South Sudanese Fellowship
DESCRIPTION:2.00pm (except fifth Sunday of the month)
URL:https://mdlc.lca.org.au/event/worship-at-south-sudanese-fellowship/2022-12-04/
LOCATION:The Marian Room\, 24 New Street\, Dandenong\, Victoria\, Australia
CATEGORIES:Worship
GEO:-37.9903107;145.2214213
X-APPLE-STRUCTURED-LOCATION;VALUE=URI;X-ADDRESS=The Marian Room 24 New Street Dandenong Victoria Australia;X-APPLE-RADIUS=500;X-TITLE=24 New Street:geo:145.2214213,-37.9903107
END:VEVENT
BEGIN:VEVENT
DTSTART;TZID=Australia/Melbourne:20221211T100000
DTEND;TZID=Australia/Melbourne:20221211T120000
DTSTAMP:20260421T233631
CREATED:20220222T031333Z
LAST-MODIFIED:20231212T045700Z
UID:10000063-1670752800-1670760000@mdlc.lca.org.au
SUMMARY:Worship with St James\, Moorabbin
DESCRIPTION:10.00am
URL:https://mdlc.lca.org.au/event/worship-with-st-james-moorabbin-2-2/2022-12-11/
LOCATION:St James\, Moorabbin\, 416 South Road\, Moorabbin\, Victoria\, Australia
CATEGORIES:Worship
GEO:-37.9343841;145.0412199
X-APPLE-STRUCTURED-LOCATION;VALUE=URI;X-ADDRESS=St James Moorabbin 416 South Road Moorabbin Victoria Australia;X-APPLE-RADIUS=500;X-TITLE=416 South Road:geo:145.0412199,-37.9343841
END:VEVENT
BEGIN:VEVENT
DTSTART;TZID=Australia/Adelaide:20221211T103000
DTEND;TZID=Australia/Adelaide:20221211T123000
DTSTAMP:20260421T233631
CREATED:20220121T032619Z
LAST-MODIFIED:20230223T043723Z
UID:10000403-1670754600-1670761800@mdlc.lca.org.au
SUMMARY:Worship with Holy Trinity\, Dandenong
DESCRIPTION:10.30am (except fifth Sunday of the month)
URL:https://mdlc.lca.org.au/event/holy-trinity-dandenong/2022-12-11/
LOCATION:The Marian Room\, 24 New Street\, Dandenong\, Victoria\, Australia
CATEGORIES:Worship
GEO:-37.9903107;145.2214213
X-APPLE-STRUCTURED-LOCATION;VALUE=URI;X-ADDRESS=The Marian Room 24 New Street Dandenong Victoria Australia;X-APPLE-RADIUS=500;X-TITLE=24 New Street:geo:145.2214213,-37.9903107
END:VEVENT
BEGIN:VEVENT
DTSTART;TZID=Australia/Adelaide:20221211T140000
DTEND;TZID=Australia/Adelaide:20221211T160000
DTSTAMP:20260421T233631
CREATED:20220121T033503Z
LAST-MODIFIED:20230223T044329Z
UID:10000539-1670767200-1670774400@mdlc.lca.org.au
SUMMARY:Worship with South Sudanese Fellowship
DESCRIPTION:2.00pm (except fifth Sunday of the month)
URL:https://mdlc.lca.org.au/event/worship-at-south-sudanese-fellowship/2022-12-11/
LOCATION:The Marian Room\, 24 New Street\, Dandenong\, Victoria\, Australia
CATEGORIES:Worship
GEO:-37.9903107;145.2214213
X-APPLE-STRUCTURED-LOCATION;VALUE=URI;X-ADDRESS=The Marian Room 24 New Street Dandenong Victoria Australia;X-APPLE-RADIUS=500;X-TITLE=24 New Street:geo:145.2214213,-37.9903107
END:VEVENT
BEGIN:VEVENT
DTSTART;TZID=Australia/Melbourne:20221218T090000
DTEND;TZID=Australia/Melbourne:20221218T110000
DTSTAMP:20260421T233631
CREATED:20220222T031117Z
LAST-MODIFIED:20231212T050026Z
UID:10000026-1671354000-1671361200@mdlc.lca.org.au
SUMMARY:Worship with St James\, Moorabbin
DESCRIPTION:9.00am
URL:https://mdlc.lca.org.au/event/worship-with-st-james-moorabbin/2022-12-18/
LOCATION:St James\, Moorabbin\, 416 South Road\, Moorabbin\, Victoria\, Australia
CATEGORIES:Worship
GEO:-37.9343841;145.0412199
X-APPLE-STRUCTURED-LOCATION;VALUE=URI;X-ADDRESS=St James Moorabbin 416 South Road Moorabbin Victoria Australia;X-APPLE-RADIUS=500;X-TITLE=416 South Road:geo:145.0412199,-37.9343841
END:VEVENT
BEGIN:VEVENT
DTSTART;TZID=Australia/Adelaide:20221218T103000
DTEND;TZID=Australia/Adelaide:20221218T123000
DTSTAMP:20260421T233631
CREATED:20220121T032619Z
LAST-MODIFIED:20230223T043723Z
UID:10000404-1671359400-1671366600@mdlc.lca.org.au
SUMMARY:Worship with Holy Trinity\, Dandenong
DESCRIPTION:10.30am (except fifth Sunday of the month)
URL:https://mdlc.lca.org.au/event/holy-trinity-dandenong/2022-12-18/
LOCATION:The Marian Room\, 24 New Street\, Dandenong\, Victoria\, Australia
CATEGORIES:Worship
GEO:-37.9903107;145.2214213
X-APPLE-STRUCTURED-LOCATION;VALUE=URI;X-ADDRESS=The Marian Room 24 New Street Dandenong Victoria Australia;X-APPLE-RADIUS=500;X-TITLE=24 New Street:geo:145.2214213,-37.9903107
END:VEVENT
BEGIN:VEVENT
DTSTART;TZID=Australia/Adelaide:20221218T140000
DTEND;TZID=Australia/Adelaide:20221218T160000
DTSTAMP:20260421T233631
CREATED:20220121T033503Z
LAST-MODIFIED:20230223T044329Z
UID:10000540-1671372000-1671379200@mdlc.lca.org.au
SUMMARY:Worship with South Sudanese Fellowship
DESCRIPTION:2.00pm (except fifth Sunday of the month)
URL:https://mdlc.lca.org.au/event/worship-at-south-sudanese-fellowship/2022-12-18/
LOCATION:The Marian Room\, 24 New Street\, Dandenong\, Victoria\, Australia
CATEGORIES:Worship
GEO:-37.9903107;145.2214213
X-APPLE-STRUCTURED-LOCATION;VALUE=URI;X-ADDRESS=The Marian Room 24 New Street Dandenong Victoria Australia;X-APPLE-RADIUS=500;X-TITLE=24 New Street:geo:145.2214213,-37.9903107
END:VEVENT
BEGIN:VEVENT
DTSTART;TZID=Australia/Melbourne:20221224T130000
DTEND;TZID=Australia/Melbourne:20221224T150000
DTSTAMP:20260421T233631
CREATED:20221214T061811Z
LAST-MODIFIED:20221214T061811Z
UID:10000164-1671886800-1671894000@mdlc.lca.org.au
SUMMARY:DLSSF Christmas Eve Service
DESCRIPTION:DLSSF Christmas 2022 Invite
URL:https://mdlc.lca.org.au/event/dlssf-christmas-eve-service/
LOCATION:The Marian Room\, 24 New Street\, Dandenong\, Victoria\, Australia
CATEGORIES:Worship
GEO:-37.9903107;145.2214213
X-APPLE-STRUCTURED-LOCATION;VALUE=URI;X-ADDRESS=The Marian Room 24 New Street Dandenong Victoria Australia;X-APPLE-RADIUS=500;X-TITLE=24 New Street:geo:145.2214213,-37.9903107
END:VEVENT
BEGIN:VEVENT
DTSTART;TZID=Australia/Melbourne:20221224T193000
DTEND;TZID=Australia/Melbourne:20221224T203000
DTSTAMP:20260421T233631
CREATED:20221214T061218Z
LAST-MODIFIED:20221214T061218Z
UID:10000163-1671910200-1671913800@mdlc.lca.org.au
SUMMARY:Christmas Eve Service
DESCRIPTION:Christmas Eve 2022 Invite
URL:https://mdlc.lca.org.au/event/christmas-eve-service/
LOCATION:St James\, Moorabbin\, 416 South Road\, Moorabbin\, Victoria\, Australia
CATEGORIES:Worship
GEO:-37.9343841;145.0412199
X-APPLE-STRUCTURED-LOCATION;VALUE=URI;X-ADDRESS=St James Moorabbin 416 South Road Moorabbin Victoria Australia;X-APPLE-RADIUS=500;X-TITLE=416 South Road:geo:145.0412199,-37.9343841
END:VEVENT
BEGIN:VEVENT
DTSTART;TZID=Australia/Melbourne:20221225T090000
DTEND;TZID=Australia/Melbourne:20221225T103000
DTSTAMP:20260421T233631
CREATED:20220222T031553Z
LAST-MODIFIED:20221214T062021Z
UID:10000156-1671958800-1671964200@mdlc.lca.org.au
SUMMARY:Worship with St James\, Moorabbin
DESCRIPTION:09.00am
URL:https://mdlc.lca.org.au/event/worship-with-st-james-moorabbin-3-2022-12-25/
LOCATION:St James\, Moorabbin\, 416 South Road\, Moorabbin\, Victoria\, Australia
CATEGORIES:Worship
GEO:-37.9343841;145.0412199
X-APPLE-STRUCTURED-LOCATION;VALUE=URI;X-ADDRESS=St James Moorabbin 416 South Road Moorabbin Victoria Australia;X-APPLE-RADIUS=500;X-TITLE=416 South Road:geo:145.0412199,-37.9343841
END:VEVENT
BEGIN:VEVENT
DTSTART;TZID=Australia/Melbourne:20221225T100000
DTEND;TZID=Australia/Melbourne:20221225T120000
DTSTAMP:20260421T233631
CREATED:20231212T040940Z
LAST-MODIFIED:20241204T042009Z
UID:10000098-1671962400-1671969600@mdlc.lca.org.au
SUMMARY:Worship with St James\, Moorabbin
DESCRIPTION:10.00am
URL:https://mdlc.lca.org.au/event/worship-with-st-james-moorabbin-2/2022-12-25/
LOCATION:St James\, Moorabbin\, 416 South Road\, Moorabbin\, Victoria\, Australia
CATEGORIES:Worship
GEO:-37.9343841;145.0412199
X-APPLE-STRUCTURED-LOCATION;VALUE=URI;X-ADDRESS=St James Moorabbin 416 South Road Moorabbin Victoria Australia;X-APPLE-RADIUS=500;X-TITLE=416 South Road:geo:145.0412199,-37.9343841
END:VEVENT
BEGIN:VEVENT
DTSTART;TZID=Australia/Adelaide:20221225T103000
DTEND;TZID=Australia/Adelaide:20221225T123000
DTSTAMP:20260421T233631
CREATED:20220121T032619Z
LAST-MODIFIED:20241204T040728Z
UID:10000497-1671964200-1671971400@mdlc.lca.org.au
SUMMARY:Worship with Holy Trinity\, Dandenong
DESCRIPTION:10.30am (except fifth Sunday of the month)
URL:https://mdlc.lca.org.au/event/holy-trinity-dandenong-2022-12-25/2022-12-25/
LOCATION:The Marian Room\, 24 New Street\, Dandenong\, Victoria\, Australia
CATEGORIES:Worship
GEO:-37.9903107;145.2214213
X-APPLE-STRUCTURED-LOCATION;VALUE=URI;X-ADDRESS=The Marian Room 24 New Street Dandenong Victoria Australia;X-APPLE-RADIUS=500;X-TITLE=24 New Street:geo:145.2214213,-37.9903107
END:VEVENT
BEGIN:VEVENT
DTSTART;TZID=Australia/Adelaide:20221225T130000
DTEND;TZID=Australia/Adelaide:20221225T150000
DTSTAMP:20260421T233631
CREATED:20220121T033503Z
LAST-MODIFIED:20221214T062712Z
UID:10000632-1671973200-1671980400@mdlc.lca.org.au
SUMMARY:Worship with South Sudanese Fellowship
DESCRIPTION:1.00pm
URL:https://mdlc.lca.org.au/event/worship-at-south-sudanese-fellowship-2022-12-25/
LOCATION:The Marian Room\, 24 New Street\, Dandenong\, Victoria\, Australia
CATEGORIES:Worship
GEO:-37.9903107;145.2214213
X-APPLE-STRUCTURED-LOCATION;VALUE=URI;X-ADDRESS=The Marian Room 24 New Street Dandenong Victoria Australia;X-APPLE-RADIUS=500;X-TITLE=24 New Street:geo:145.2214213,-37.9903107
END:VEVENT
BEGIN:VEVENT
DTSTART;TZID=Australia/Adelaide:20230101T090000
DTEND;TZID=Australia/Adelaide:20230101T110000
DTSTAMP:20260421T233631
CREATED:20220121T032405Z
LAST-MODIFIED:20231212T045512Z
UID:10000306-1672563600-1672570800@mdlc.lca.org.au
SUMMARY:Worship with St James\, Moorabbin
DESCRIPTION:9.00am
URL:https://mdlc.lca.org.au/event/st-james-moorabbin-2/2023-01-01/
LOCATION:St James\, Moorabbin\, 416 South Road\, Moorabbin\, Victoria\, Australia
CATEGORIES:Worship
GEO:-37.9343841;145.0412199
X-APPLE-STRUCTURED-LOCATION;VALUE=URI;X-ADDRESS=St James Moorabbin 416 South Road Moorabbin Victoria Australia;X-APPLE-RADIUS=500;X-TITLE=416 South Road:geo:145.0412199,-37.9343841
END:VEVENT
BEGIN:VEVENT
DTSTART;TZID=Australia/Adelaide:20230101T103000
DTEND;TZID=Australia/Adelaide:20230101T123000
DTSTAMP:20260421T233631
CREATED:20220121T032619Z
LAST-MODIFIED:20241204T040728Z
UID:10001242-1672569000-1672576200@mdlc.lca.org.au
SUMMARY:Worship with Holy Trinity\, Dandenong
DESCRIPTION:10.30am (except fifth Sunday of the month)
URL:https://mdlc.lca.org.au/event/holy-trinity-dandenong-2022-12-25/2023-01-01/
LOCATION:The Marian Room\, 24 New Street\, Dandenong\, Victoria\, Australia
CATEGORIES:Worship
GEO:-37.9903107;145.2214213
X-APPLE-STRUCTURED-LOCATION;VALUE=URI;X-ADDRESS=The Marian Room 24 New Street Dandenong Victoria Australia;X-APPLE-RADIUS=500;X-TITLE=24 New Street:geo:145.2214213,-37.9903107
END:VEVENT
BEGIN:VEVENT
DTSTART;TZID=Australia/Adelaide:20230101T103000
DTEND;TZID=Australia/Adelaide:20230101T123000
DTSTAMP:20260421T233631
CREATED:20220121T032619Z
LAST-MODIFIED:20230223T043723Z
UID:10000405-1672569000-1672576200@mdlc.lca.org.au
SUMMARY:Worship with Holy Trinity\, Dandenong
DESCRIPTION:10.30am (except fifth Sunday of the month)
URL:https://mdlc.lca.org.au/event/holy-trinity-dandenong/2023-01-01/
LOCATION:The Marian Room\, 24 New Street\, Dandenong\, Victoria\, Australia
CATEGORIES:Worship
GEO:-37.9903107;145.2214213
X-APPLE-STRUCTURED-LOCATION;VALUE=URI;X-ADDRESS=The Marian Room 24 New Street Dandenong Victoria Australia;X-APPLE-RADIUS=500;X-TITLE=24 New Street:geo:145.2214213,-37.9903107
END:VEVENT
BEGIN:VEVENT
DTSTART;TZID=Australia/Adelaide:20230101T130000
DTEND;TZID=Australia/Adelaide:20230101T150000
DTSTAMP:20260421T233631
CREATED:20220121T033503Z
LAST-MODIFIED:20221214T062339Z
UID:10000005-1672578000-1672585200@mdlc.lca.org.au
SUMMARY:Worship with South Sudanese Fellowship
DESCRIPTION:1.00pm
URL:https://mdlc.lca.org.au/event/worship-at-south-sudanese-fellowship-2023-01-01/
LOCATION:The Marian Room\, 24 New Street\, Dandenong\, Victoria\, Australia
CATEGORIES:Worship
GEO:-37.9903107;145.2214213
X-APPLE-STRUCTURED-LOCATION;VALUE=URI;X-ADDRESS=The Marian Room 24 New Street Dandenong Victoria Australia;X-APPLE-RADIUS=500;X-TITLE=24 New Street:geo:145.2214213,-37.9903107
END:VEVENT
END:VCALENDAR