BEGIN:VCALENDAR
VERSION:2.0
PRODID:-//Moorabbin–Dandenong Lutheran Church, Vic - ECPv6.8.1//NONSGML v1.0//EN
CALSCALE:GREGORIAN
METHOD:PUBLISH
X-WR-CALNAME:Moorabbin–Dandenong Lutheran Church, Vic
X-ORIGINAL-URL:https://mdlc.lca.org.au
X-WR-CALDESC:Events for Moorabbin–Dandenong Lutheran Church, Vic
REFRESH-INTERVAL;VALUE=DURATION:PT1H
X-Robots-Tag:noindex
X-PUBLISHED-TTL:PT1H
BEGIN:VTIMEZONE
TZID:Australia/Adelaide
BEGIN:STANDARD
TZOFFSETFROM:+1030
TZOFFSETTO:+0930
TZNAME:ACST
DTSTART:20240406T163000
END:STANDARD
BEGIN:DAYLIGHT
TZOFFSETFROM:+0930
TZOFFSETTO:+1030
TZNAME:ACDT
DTSTART:20241005T163000
END:DAYLIGHT
TZID:Australia/Melbourne
BEGIN:STANDARD
TZOFFSETFROM:+1100
TZOFFSETTO:+1000
TZNAME:AEST
DTSTART:20240406T160000
END:STANDARD
BEGIN:DAYLIGHT
TZOFFSETFROM:+1000
TZOFFSETTO:+1100
TZNAME:AEDT
DTSTART:20241005T160000
END:DAYLIGHT
END:VTIMEZONE
BEGIN:VEVENT
DTSTART;TZID=Australia/Adelaide:20240512T140000
DTEND;TZID=Australia/Adelaide:20240512T160000
DTSTAMP:20260422T090228
CREATED:20220121T033503Z
LAST-MODIFIED:20230223T044329Z
UID:10000603-1715522400-1715529600@mdlc.lca.org.au
SUMMARY:Worship with South Sudanese Fellowship
DESCRIPTION:2.00pm (except fifth Sunday of the month)
URL:https://mdlc.lca.org.au/event/worship-at-south-sudanese-fellowship/2024-05-12/
LOCATION:The Marian Room\, 24 New Street\, Dandenong\, Victoria\, Australia
CATEGORIES:Worship
GEO:-37.9903107;145.2214213
X-APPLE-STRUCTURED-LOCATION;VALUE=URI;X-ADDRESS=The Marian Room 24 New Street Dandenong Victoria Australia;X-APPLE-RADIUS=500;X-TITLE=24 New Street:geo:145.2214213,-37.9903107
END:VEVENT
BEGIN:VEVENT
DTSTART;TZID=Australia/Adelaide:20240512T103000
DTEND;TZID=Australia/Adelaide:20240512T123000
DTSTAMP:20260422T090228
CREATED:20220121T032619Z
LAST-MODIFIED:20241204T040728Z
UID:10001307-1715509800-1715517000@mdlc.lca.org.au
SUMMARY:Worship with Holy Trinity\, Dandenong
DESCRIPTION:10.30am (except fifth Sunday of the month)
URL:https://mdlc.lca.org.au/event/holy-trinity-dandenong-2022-12-25/2024-05-12/
LOCATION:The Marian Room\, 24 New Street\, Dandenong\, Victoria\, Australia
CATEGORIES:Worship
GEO:-37.9903107;145.2214213
X-APPLE-STRUCTURED-LOCATION;VALUE=URI;X-ADDRESS=The Marian Room 24 New Street Dandenong Victoria Australia;X-APPLE-RADIUS=500;X-TITLE=24 New Street:geo:145.2214213,-37.9903107
END:VEVENT
BEGIN:VEVENT
DTSTART;TZID=Australia/Adelaide:20240512T103000
DTEND;TZID=Australia/Adelaide:20240512T123000
DTSTAMP:20260422T090228
CREATED:20220121T032619Z
LAST-MODIFIED:20230223T043723Z
UID:10000468-1715509800-1715517000@mdlc.lca.org.au
SUMMARY:Worship with Holy Trinity\, Dandenong
DESCRIPTION:10.30am (except fifth Sunday of the month)
URL:https://mdlc.lca.org.au/event/holy-trinity-dandenong/2024-05-12/
LOCATION:The Marian Room\, 24 New Street\, Dandenong\, Victoria\, Australia
CATEGORIES:Worship
GEO:-37.9903107;145.2214213
X-APPLE-STRUCTURED-LOCATION;VALUE=URI;X-ADDRESS=The Marian Room 24 New Street Dandenong Victoria Australia;X-APPLE-RADIUS=500;X-TITLE=24 New Street:geo:145.2214213,-37.9903107
END:VEVENT
BEGIN:VEVENT
DTSTART;TZID=Australia/Melbourne:20240512T100000
DTEND;TZID=Australia/Melbourne:20240512T120000
DTSTAMP:20260422T090228
CREATED:20220222T031333Z
LAST-MODIFIED:20231212T045700Z
UID:10000080-1715508000-1715515200@mdlc.lca.org.au
SUMMARY:Worship with St James\, Moorabbin
DESCRIPTION:10.00am
URL:https://mdlc.lca.org.au/event/worship-with-st-james-moorabbin-2-2/2024-05-12/
LOCATION:St James\, Moorabbin\, 416 South Road\, Moorabbin\, Victoria\, Australia
CATEGORIES:Worship
GEO:-37.9343841;145.0412199
X-APPLE-STRUCTURED-LOCATION;VALUE=URI;X-ADDRESS=St James Moorabbin 416 South Road Moorabbin Victoria Australia;X-APPLE-RADIUS=500;X-TITLE=416 South Road:geo:145.0412199,-37.9343841
END:VEVENT
BEGIN:VEVENT
DTSTART;TZID=Australia/Melbourne:20240508T093000
DTEND;TZID=Australia/Melbourne:20240508T113000
DTSTAMP:20260422T090228
CREATED:20230908T054112Z
LAST-MODIFIED:20231212T050836Z
UID:10000245-1715160600-1715167800@mdlc.lca.org.au
SUMMARY:Crafty Chat
DESCRIPTION:Please pop in for a cuppa\, a chat and maybe even some craft. All are welcome and so are your craft ideas.
URL:https://mdlc.lca.org.au/event/crafty-chat-2/2024-05-08/
LOCATION:St James\, Moorabbin\, 416 South Road\, Moorabbin\, Victoria\, Australia
CATEGORIES:Crafty Chat
ATTACH;FMTTYPE=image/jpeg:https://mdlc.lca.org.au/wp-content/uploads/sites/2422/2023/02/crafty-chat-ducks.jpg
GEO:-37.9343841;145.0412199
X-APPLE-STRUCTURED-LOCATION;VALUE=URI;X-ADDRESS=St James Moorabbin 416 South Road Moorabbin Victoria Australia;X-APPLE-RADIUS=500;X-TITLE=416 South Road:geo:145.0412199,-37.9343841
END:VEVENT
BEGIN:VEVENT
DTSTART;TZID=Australia/Adelaide:20240505T140000
DTEND;TZID=Australia/Adelaide:20240505T160000
DTSTAMP:20260422T090228
CREATED:20220121T033503Z
LAST-MODIFIED:20230223T044329Z
UID:10000602-1714917600-1714924800@mdlc.lca.org.au
SUMMARY:Worship with South Sudanese Fellowship
DESCRIPTION:2.00pm (except fifth Sunday of the month)
URL:https://mdlc.lca.org.au/event/worship-at-south-sudanese-fellowship/2024-05-05/
LOCATION:The Marian Room\, 24 New Street\, Dandenong\, Victoria\, Australia
CATEGORIES:Worship
GEO:-37.9903107;145.2214213
X-APPLE-STRUCTURED-LOCATION;VALUE=URI;X-ADDRESS=The Marian Room 24 New Street Dandenong Victoria Australia;X-APPLE-RADIUS=500;X-TITLE=24 New Street:geo:145.2214213,-37.9903107
END:VEVENT
BEGIN:VEVENT
DTSTART;TZID=Australia/Adelaide:20240505T103000
DTEND;TZID=Australia/Adelaide:20240505T123000
DTSTAMP:20260422T090228
CREATED:20220121T032619Z
LAST-MODIFIED:20230223T043723Z
UID:10000467-1714905000-1714912200@mdlc.lca.org.au
SUMMARY:Worship with Holy Trinity\, Dandenong
DESCRIPTION:10.30am (except fifth Sunday of the month)
URL:https://mdlc.lca.org.au/event/holy-trinity-dandenong/2024-05-05/
LOCATION:The Marian Room\, 24 New Street\, Dandenong\, Victoria\, Australia
CATEGORIES:Worship
GEO:-37.9903107;145.2214213
X-APPLE-STRUCTURED-LOCATION;VALUE=URI;X-ADDRESS=The Marian Room 24 New Street Dandenong Victoria Australia;X-APPLE-RADIUS=500;X-TITLE=24 New Street:geo:145.2214213,-37.9903107
END:VEVENT
BEGIN:VEVENT
DTSTART;TZID=Australia/Adelaide:20240505T103000
DTEND;TZID=Australia/Adelaide:20240505T123000
DTSTAMP:20260422T090228
CREATED:20220121T032619Z
LAST-MODIFIED:20241204T040728Z
UID:10001306-1714905000-1714912200@mdlc.lca.org.au
SUMMARY:Worship with Holy Trinity\, Dandenong
DESCRIPTION:10.30am (except fifth Sunday of the month)
URL:https://mdlc.lca.org.au/event/holy-trinity-dandenong-2022-12-25/2024-05-05/
LOCATION:The Marian Room\, 24 New Street\, Dandenong\, Victoria\, Australia
CATEGORIES:Worship
GEO:-37.9903107;145.2214213
X-APPLE-STRUCTURED-LOCATION;VALUE=URI;X-ADDRESS=The Marian Room 24 New Street Dandenong Victoria Australia;X-APPLE-RADIUS=500;X-TITLE=24 New Street:geo:145.2214213,-37.9903107
END:VEVENT
BEGIN:VEVENT
DTSTART;TZID=Australia/Adelaide:20240505T090000
DTEND;TZID=Australia/Adelaide:20240505T110000
DTSTAMP:20260422T090228
CREATED:20220121T032405Z
LAST-MODIFIED:20231212T045512Z
UID:10000322-1714899600-1714906800@mdlc.lca.org.au
SUMMARY:Worship with St James\, Moorabbin
DESCRIPTION:9.00am
URL:https://mdlc.lca.org.au/event/st-james-moorabbin-2/2024-05-05/
LOCATION:St James\, Moorabbin\, 416 South Road\, Moorabbin\, Victoria\, Australia
CATEGORIES:Worship
GEO:-37.9343841;145.0412199
X-APPLE-STRUCTURED-LOCATION;VALUE=URI;X-ADDRESS=St James Moorabbin 416 South Road Moorabbin Victoria Australia;X-APPLE-RADIUS=500;X-TITLE=416 South Road:geo:145.0412199,-37.9343841
END:VEVENT
BEGIN:VEVENT
DTSTART;TZID=Australia/Melbourne:20240501T093000
DTEND;TZID=Australia/Melbourne:20240501T113000
DTSTAMP:20260422T090228
CREATED:20230908T054112Z
LAST-MODIFIED:20231212T050836Z
UID:10000244-1714555800-1714563000@mdlc.lca.org.au
SUMMARY:Crafty Chat
DESCRIPTION:Please pop in for a cuppa\, a chat and maybe even some craft. All are welcome and so are your craft ideas.
URL:https://mdlc.lca.org.au/event/crafty-chat-2/2024-05-01/
LOCATION:St James\, Moorabbin\, 416 South Road\, Moorabbin\, Victoria\, Australia
CATEGORIES:Crafty Chat
ATTACH;FMTTYPE=image/jpeg:https://mdlc.lca.org.au/wp-content/uploads/sites/2422/2023/02/crafty-chat-ducks.jpg
GEO:-37.9343841;145.0412199
X-APPLE-STRUCTURED-LOCATION;VALUE=URI;X-ADDRESS=St James Moorabbin 416 South Road Moorabbin Victoria Australia;X-APPLE-RADIUS=500;X-TITLE=416 South Road:geo:145.0412199,-37.9343841
END:VEVENT
BEGIN:VEVENT
DTSTART;TZID=Australia/Adelaide:20240428T140000
DTEND;TZID=Australia/Adelaide:20240428T160000
DTSTAMP:20260422T090228
CREATED:20220121T033503Z
LAST-MODIFIED:20230223T044329Z
UID:10000601-1714312800-1714320000@mdlc.lca.org.au
SUMMARY:Worship with South Sudanese Fellowship
DESCRIPTION:2.00pm (except fifth Sunday of the month)
URL:https://mdlc.lca.org.au/event/worship-at-south-sudanese-fellowship/2024-04-28/
LOCATION:The Marian Room\, 24 New Street\, Dandenong\, Victoria\, Australia
CATEGORIES:Worship
GEO:-37.9903107;145.2214213
X-APPLE-STRUCTURED-LOCATION;VALUE=URI;X-ADDRESS=The Marian Room 24 New Street Dandenong Victoria Australia;X-APPLE-RADIUS=500;X-TITLE=24 New Street:geo:145.2214213,-37.9903107
END:VEVENT
BEGIN:VEVENT
DTSTART;TZID=Australia/Adelaide:20240428T103000
DTEND;TZID=Australia/Adelaide:20240428T123000
DTSTAMP:20260422T090228
CREATED:20220121T032619Z
LAST-MODIFIED:20241204T040728Z
UID:10001305-1714300200-1714307400@mdlc.lca.org.au
SUMMARY:Worship with Holy Trinity\, Dandenong
DESCRIPTION:10.30am (except fifth Sunday of the month)
URL:https://mdlc.lca.org.au/event/holy-trinity-dandenong-2022-12-25/2024-04-28/
LOCATION:The Marian Room\, 24 New Street\, Dandenong\, Victoria\, Australia
CATEGORIES:Worship
GEO:-37.9903107;145.2214213
X-APPLE-STRUCTURED-LOCATION;VALUE=URI;X-ADDRESS=The Marian Room 24 New Street Dandenong Victoria Australia;X-APPLE-RADIUS=500;X-TITLE=24 New Street:geo:145.2214213,-37.9903107
END:VEVENT
BEGIN:VEVENT
DTSTART;TZID=Australia/Adelaide:20240428T103000
DTEND;TZID=Australia/Adelaide:20240428T123000
DTSTAMP:20260422T090228
CREATED:20220121T032619Z
LAST-MODIFIED:20230223T043723Z
UID:10000466-1714300200-1714307400@mdlc.lca.org.au
SUMMARY:Worship with Holy Trinity\, Dandenong
DESCRIPTION:10.30am (except fifth Sunday of the month)
URL:https://mdlc.lca.org.au/event/holy-trinity-dandenong/2024-04-28/
LOCATION:The Marian Room\, 24 New Street\, Dandenong\, Victoria\, Australia
CATEGORIES:Worship
GEO:-37.9903107;145.2214213
X-APPLE-STRUCTURED-LOCATION;VALUE=URI;X-ADDRESS=The Marian Room 24 New Street Dandenong Victoria Australia;X-APPLE-RADIUS=500;X-TITLE=24 New Street:geo:145.2214213,-37.9903107
END:VEVENT
BEGIN:VEVENT
DTSTART;TZID=Australia/Melbourne:20240428T100000
DTEND;TZID=Australia/Melbourne:20240428T120000
DTSTAMP:20260422T090228
CREATED:20231212T040940Z
LAST-MODIFIED:20241204T042009Z
UID:10000113-1714298400-1714305600@mdlc.lca.org.au
SUMMARY:Worship with St James\, Moorabbin
DESCRIPTION:10.00am
URL:https://mdlc.lca.org.au/event/worship-with-st-james-moorabbin-2/2024-04-28/
LOCATION:St James\, Moorabbin\, 416 South Road\, Moorabbin\, Victoria\, Australia
CATEGORIES:Worship
GEO:-37.9343841;145.0412199
X-APPLE-STRUCTURED-LOCATION;VALUE=URI;X-ADDRESS=St James Moorabbin 416 South Road Moorabbin Victoria Australia;X-APPLE-RADIUS=500;X-TITLE=416 South Road:geo:145.0412199,-37.9343841
END:VEVENT
BEGIN:VEVENT
DTSTART;TZID=Australia/Melbourne:20240424T093000
DTEND;TZID=Australia/Melbourne:20240424T113000
DTSTAMP:20260422T090228
CREATED:20230908T054112Z
LAST-MODIFIED:20231212T050836Z
UID:10000243-1713951000-1713958200@mdlc.lca.org.au
SUMMARY:Crafty Chat
DESCRIPTION:Please pop in for a cuppa\, a chat and maybe even some craft. All are welcome and so are your craft ideas.
URL:https://mdlc.lca.org.au/event/crafty-chat-2/2024-04-24/
LOCATION:St James\, Moorabbin\, 416 South Road\, Moorabbin\, Victoria\, Australia
CATEGORIES:Crafty Chat
ATTACH;FMTTYPE=image/jpeg:https://mdlc.lca.org.au/wp-content/uploads/sites/2422/2023/02/crafty-chat-ducks.jpg
GEO:-37.9343841;145.0412199
X-APPLE-STRUCTURED-LOCATION;VALUE=URI;X-ADDRESS=St James Moorabbin 416 South Road Moorabbin Victoria Australia;X-APPLE-RADIUS=500;X-TITLE=416 South Road:geo:145.0412199,-37.9343841
END:VEVENT
BEGIN:VEVENT
DTSTART;TZID=Australia/Adelaide:20240421T140000
DTEND;TZID=Australia/Adelaide:20240421T160000
DTSTAMP:20260422T090228
CREATED:20220121T033503Z
LAST-MODIFIED:20230223T044329Z
UID:10000600-1713708000-1713715200@mdlc.lca.org.au
SUMMARY:Worship with South Sudanese Fellowship
DESCRIPTION:2.00pm (except fifth Sunday of the month)
URL:https://mdlc.lca.org.au/event/worship-at-south-sudanese-fellowship/2024-04-21/
LOCATION:The Marian Room\, 24 New Street\, Dandenong\, Victoria\, Australia
CATEGORIES:Worship
GEO:-37.9903107;145.2214213
X-APPLE-STRUCTURED-LOCATION;VALUE=URI;X-ADDRESS=The Marian Room 24 New Street Dandenong Victoria Australia;X-APPLE-RADIUS=500;X-TITLE=24 New Street:geo:145.2214213,-37.9903107
END:VEVENT
BEGIN:VEVENT
DTSTART;TZID=Australia/Adelaide:20240421T103000
DTEND;TZID=Australia/Adelaide:20240421T123000
DTSTAMP:20260422T090228
CREATED:20220121T032619Z
LAST-MODIFIED:20230223T043723Z
UID:10000465-1713695400-1713702600@mdlc.lca.org.au
SUMMARY:Worship with Holy Trinity\, Dandenong
DESCRIPTION:10.30am (except fifth Sunday of the month)
URL:https://mdlc.lca.org.au/event/holy-trinity-dandenong/2024-04-21/
LOCATION:The Marian Room\, 24 New Street\, Dandenong\, Victoria\, Australia
CATEGORIES:Worship
GEO:-37.9903107;145.2214213
X-APPLE-STRUCTURED-LOCATION;VALUE=URI;X-ADDRESS=The Marian Room 24 New Street Dandenong Victoria Australia;X-APPLE-RADIUS=500;X-TITLE=24 New Street:geo:145.2214213,-37.9903107
END:VEVENT
BEGIN:VEVENT
DTSTART;TZID=Australia/Adelaide:20240421T103000
DTEND;TZID=Australia/Adelaide:20240421T123000
DTSTAMP:20260422T090228
CREATED:20220121T032619Z
LAST-MODIFIED:20241204T040728Z
UID:10001304-1713695400-1713702600@mdlc.lca.org.au
SUMMARY:Worship with Holy Trinity\, Dandenong
DESCRIPTION:10.30am (except fifth Sunday of the month)
URL:https://mdlc.lca.org.au/event/holy-trinity-dandenong-2022-12-25/2024-04-21/
LOCATION:The Marian Room\, 24 New Street\, Dandenong\, Victoria\, Australia
CATEGORIES:Worship
GEO:-37.9903107;145.2214213
X-APPLE-STRUCTURED-LOCATION;VALUE=URI;X-ADDRESS=The Marian Room 24 New Street Dandenong Victoria Australia;X-APPLE-RADIUS=500;X-TITLE=24 New Street:geo:145.2214213,-37.9903107
END:VEVENT
BEGIN:VEVENT
DTSTART;TZID=Australia/Melbourne:20240421T090000
DTEND;TZID=Australia/Melbourne:20240421T110000
DTSTAMP:20260422T090228
CREATED:20220222T031117Z
LAST-MODIFIED:20231212T050026Z
UID:10000042-1713690000-1713697200@mdlc.lca.org.au
SUMMARY:Worship with St James\, Moorabbin
DESCRIPTION:9.00am
URL:https://mdlc.lca.org.au/event/worship-with-st-james-moorabbin/2024-04-21/
LOCATION:St James\, Moorabbin\, 416 South Road\, Moorabbin\, Victoria\, Australia
CATEGORIES:Worship
GEO:-37.9343841;145.0412199
X-APPLE-STRUCTURED-LOCATION;VALUE=URI;X-ADDRESS=St James Moorabbin 416 South Road Moorabbin Victoria Australia;X-APPLE-RADIUS=500;X-TITLE=416 South Road:geo:145.0412199,-37.9343841
END:VEVENT
BEGIN:VEVENT
DTSTART;TZID=Australia/Melbourne:20240417T093000
DTEND;TZID=Australia/Melbourne:20240417T113000
DTSTAMP:20260422T090228
CREATED:20230908T054112Z
LAST-MODIFIED:20231212T050836Z
UID:10000242-1713346200-1713353400@mdlc.lca.org.au
SUMMARY:Crafty Chat
DESCRIPTION:Please pop in for a cuppa\, a chat and maybe even some craft. All are welcome and so are your craft ideas.
URL:https://mdlc.lca.org.au/event/crafty-chat-2/2024-04-17/
LOCATION:St James\, Moorabbin\, 416 South Road\, Moorabbin\, Victoria\, Australia
CATEGORIES:Crafty Chat
ATTACH;FMTTYPE=image/jpeg:https://mdlc.lca.org.au/wp-content/uploads/sites/2422/2023/02/crafty-chat-ducks.jpg
GEO:-37.9343841;145.0412199
X-APPLE-STRUCTURED-LOCATION;VALUE=URI;X-ADDRESS=St James Moorabbin 416 South Road Moorabbin Victoria Australia;X-APPLE-RADIUS=500;X-TITLE=416 South Road:geo:145.0412199,-37.9343841
END:VEVENT
BEGIN:VEVENT
DTSTART;TZID=Australia/Adelaide:20240414T140000
DTEND;TZID=Australia/Adelaide:20240414T160000
DTSTAMP:20260422T090228
CREATED:20220121T033503Z
LAST-MODIFIED:20230223T044329Z
UID:10000599-1713103200-1713110400@mdlc.lca.org.au
SUMMARY:Worship with South Sudanese Fellowship
DESCRIPTION:2.00pm (except fifth Sunday of the month)
URL:https://mdlc.lca.org.au/event/worship-at-south-sudanese-fellowship/2024-04-14/
LOCATION:The Marian Room\, 24 New Street\, Dandenong\, Victoria\, Australia
CATEGORIES:Worship
GEO:-37.9903107;145.2214213
X-APPLE-STRUCTURED-LOCATION;VALUE=URI;X-ADDRESS=The Marian Room 24 New Street Dandenong Victoria Australia;X-APPLE-RADIUS=500;X-TITLE=24 New Street:geo:145.2214213,-37.9903107
END:VEVENT
BEGIN:VEVENT
DTSTART;TZID=Australia/Adelaide:20240414T103000
DTEND;TZID=Australia/Adelaide:20240414T123000
DTSTAMP:20260422T090228
CREATED:20220121T032619Z
LAST-MODIFIED:20230223T043723Z
UID:10000464-1713090600-1713097800@mdlc.lca.org.au
SUMMARY:Worship with Holy Trinity\, Dandenong
DESCRIPTION:10.30am (except fifth Sunday of the month)
URL:https://mdlc.lca.org.au/event/holy-trinity-dandenong/2024-04-14/
LOCATION:The Marian Room\, 24 New Street\, Dandenong\, Victoria\, Australia
CATEGORIES:Worship
GEO:-37.9903107;145.2214213
X-APPLE-STRUCTURED-LOCATION;VALUE=URI;X-ADDRESS=The Marian Room 24 New Street Dandenong Victoria Australia;X-APPLE-RADIUS=500;X-TITLE=24 New Street:geo:145.2214213,-37.9903107
END:VEVENT
BEGIN:VEVENT
DTSTART;TZID=Australia/Adelaide:20240414T103000
DTEND;TZID=Australia/Adelaide:20240414T123000
DTSTAMP:20260422T090228
CREATED:20220121T032619Z
LAST-MODIFIED:20241204T040728Z
UID:10001303-1713090600-1713097800@mdlc.lca.org.au
SUMMARY:Worship with Holy Trinity\, Dandenong
DESCRIPTION:10.30am (except fifth Sunday of the month)
URL:https://mdlc.lca.org.au/event/holy-trinity-dandenong-2022-12-25/2024-04-14/
LOCATION:The Marian Room\, 24 New Street\, Dandenong\, Victoria\, Australia
CATEGORIES:Worship
GEO:-37.9903107;145.2214213
X-APPLE-STRUCTURED-LOCATION;VALUE=URI;X-ADDRESS=The Marian Room 24 New Street Dandenong Victoria Australia;X-APPLE-RADIUS=500;X-TITLE=24 New Street:geo:145.2214213,-37.9903107
END:VEVENT
BEGIN:VEVENT
DTSTART;TZID=Australia/Melbourne:20240414T100000
DTEND;TZID=Australia/Melbourne:20240414T120000
DTSTAMP:20260422T090228
CREATED:20220222T031333Z
LAST-MODIFIED:20231212T045700Z
UID:10000079-1713088800-1713096000@mdlc.lca.org.au
SUMMARY:Worship with St James\, Moorabbin
DESCRIPTION:10.00am
URL:https://mdlc.lca.org.au/event/worship-with-st-james-moorabbin-2-2/2024-04-14/
LOCATION:St James\, Moorabbin\, 416 South Road\, Moorabbin\, Victoria\, Australia
CATEGORIES:Worship
GEO:-37.9343841;145.0412199
X-APPLE-STRUCTURED-LOCATION;VALUE=URI;X-ADDRESS=St James Moorabbin 416 South Road Moorabbin Victoria Australia;X-APPLE-RADIUS=500;X-TITLE=416 South Road:geo:145.0412199,-37.9343841
END:VEVENT
BEGIN:VEVENT
DTSTART;TZID=Australia/Melbourne:20240410T093000
DTEND;TZID=Australia/Melbourne:20240410T113000
DTSTAMP:20260422T090228
CREATED:20230908T054112Z
LAST-MODIFIED:20231212T050836Z
UID:10000241-1712741400-1712748600@mdlc.lca.org.au
SUMMARY:Crafty Chat
DESCRIPTION:Please pop in for a cuppa\, a chat and maybe even some craft. All are welcome and so are your craft ideas.
URL:https://mdlc.lca.org.au/event/crafty-chat-2/2024-04-10/
LOCATION:St James\, Moorabbin\, 416 South Road\, Moorabbin\, Victoria\, Australia
CATEGORIES:Crafty Chat
ATTACH;FMTTYPE=image/jpeg:https://mdlc.lca.org.au/wp-content/uploads/sites/2422/2023/02/crafty-chat-ducks.jpg
GEO:-37.9343841;145.0412199
X-APPLE-STRUCTURED-LOCATION;VALUE=URI;X-ADDRESS=St James Moorabbin 416 South Road Moorabbin Victoria Australia;X-APPLE-RADIUS=500;X-TITLE=416 South Road:geo:145.0412199,-37.9343841
END:VEVENT
BEGIN:VEVENT
DTSTART;TZID=Australia/Adelaide:20240407T140000
DTEND;TZID=Australia/Adelaide:20240407T160000
DTSTAMP:20260422T090228
CREATED:20220121T033503Z
LAST-MODIFIED:20230223T044329Z
UID:10000598-1712498400-1712505600@mdlc.lca.org.au
SUMMARY:Worship with South Sudanese Fellowship
DESCRIPTION:2.00pm (except fifth Sunday of the month)
URL:https://mdlc.lca.org.au/event/worship-at-south-sudanese-fellowship/2024-04-07/
LOCATION:The Marian Room\, 24 New Street\, Dandenong\, Victoria\, Australia
CATEGORIES:Worship
GEO:-37.9903107;145.2214213
X-APPLE-STRUCTURED-LOCATION;VALUE=URI;X-ADDRESS=The Marian Room 24 New Street Dandenong Victoria Australia;X-APPLE-RADIUS=500;X-TITLE=24 New Street:geo:145.2214213,-37.9903107
END:VEVENT
BEGIN:VEVENT
DTSTART;TZID=Australia/Adelaide:20240407T103000
DTEND;TZID=Australia/Adelaide:20240407T123000
DTSTAMP:20260422T090228
CREATED:20220121T032619Z
LAST-MODIFIED:20241204T040728Z
UID:10001302-1712485800-1712493000@mdlc.lca.org.au
SUMMARY:Worship with Holy Trinity\, Dandenong
DESCRIPTION:10.30am (except fifth Sunday of the month)
URL:https://mdlc.lca.org.au/event/holy-trinity-dandenong-2022-12-25/2024-04-07/
LOCATION:The Marian Room\, 24 New Street\, Dandenong\, Victoria\, Australia
CATEGORIES:Worship
GEO:-37.9903107;145.2214213
X-APPLE-STRUCTURED-LOCATION;VALUE=URI;X-ADDRESS=The Marian Room 24 New Street Dandenong Victoria Australia;X-APPLE-RADIUS=500;X-TITLE=24 New Street:geo:145.2214213,-37.9903107
END:VEVENT
BEGIN:VEVENT
DTSTART;TZID=Australia/Adelaide:20240407T103000
DTEND;TZID=Australia/Adelaide:20240407T123000
DTSTAMP:20260422T090228
CREATED:20220121T032619Z
LAST-MODIFIED:20230223T043723Z
UID:10000463-1712485800-1712493000@mdlc.lca.org.au
SUMMARY:Worship with Holy Trinity\, Dandenong
DESCRIPTION:10.30am (except fifth Sunday of the month)
URL:https://mdlc.lca.org.au/event/holy-trinity-dandenong/2024-04-07/
LOCATION:The Marian Room\, 24 New Street\, Dandenong\, Victoria\, Australia
CATEGORIES:Worship
GEO:-37.9903107;145.2214213
X-APPLE-STRUCTURED-LOCATION;VALUE=URI;X-ADDRESS=The Marian Room 24 New Street Dandenong Victoria Australia;X-APPLE-RADIUS=500;X-TITLE=24 New Street:geo:145.2214213,-37.9903107
END:VEVENT
BEGIN:VEVENT
DTSTART;TZID=Australia/Adelaide:20240407T090000
DTEND;TZID=Australia/Adelaide:20240407T110000
DTSTAMP:20260422T090228
CREATED:20220121T032405Z
LAST-MODIFIED:20231212T045512Z
UID:10000321-1712480400-1712487600@mdlc.lca.org.au
SUMMARY:Worship with St James\, Moorabbin
DESCRIPTION:9.00am
URL:https://mdlc.lca.org.au/event/st-james-moorabbin-2/2024-04-07/
LOCATION:St James\, Moorabbin\, 416 South Road\, Moorabbin\, Victoria\, Australia
CATEGORIES:Worship
GEO:-37.9343841;145.0412199
X-APPLE-STRUCTURED-LOCATION;VALUE=URI;X-ADDRESS=St James Moorabbin 416 South Road Moorabbin Victoria Australia;X-APPLE-RADIUS=500;X-TITLE=416 South Road:geo:145.0412199,-37.9343841
END:VEVENT
BEGIN:VEVENT
DTSTART;TZID=Australia/Melbourne:20240403T093000
DTEND;TZID=Australia/Melbourne:20240403T113000
DTSTAMP:20260422T090228
CREATED:20230908T054112Z
LAST-MODIFIED:20231212T050836Z
UID:10000240-1712136600-1712143800@mdlc.lca.org.au
SUMMARY:Crafty Chat
DESCRIPTION:Please pop in for a cuppa\, a chat and maybe even some craft. All are welcome and so are your craft ideas.
URL:https://mdlc.lca.org.au/event/crafty-chat-2/2024-04-03/
LOCATION:St James\, Moorabbin\, 416 South Road\, Moorabbin\, Victoria\, Australia
CATEGORIES:Crafty Chat
ATTACH;FMTTYPE=image/jpeg:https://mdlc.lca.org.au/wp-content/uploads/sites/2422/2023/02/crafty-chat-ducks.jpg
GEO:-37.9343841;145.0412199
X-APPLE-STRUCTURED-LOCATION;VALUE=URI;X-ADDRESS=St James Moorabbin 416 South Road Moorabbin Victoria Australia;X-APPLE-RADIUS=500;X-TITLE=416 South Road:geo:145.0412199,-37.9343841
END:VEVENT
END:VCALENDAR