BEGIN:VCALENDAR
VERSION:2.0
PRODID:-//Moorabbin–Dandenong Lutheran Church, Vic - ECPv6.8.1//NONSGML v1.0//EN
CALSCALE:GREGORIAN
METHOD:PUBLISH
X-WR-CALNAME:Moorabbin–Dandenong Lutheran Church, Vic
X-ORIGINAL-URL:https://mdlc.lca.org.au
X-WR-CALDESC:Events for Moorabbin–Dandenong Lutheran Church, Vic
REFRESH-INTERVAL;VALUE=DURATION:PT1H
X-Robots-Tag:noindex
X-PUBLISHED-TTL:PT1H
BEGIN:VTIMEZONE
TZID:Australia/Adelaide
BEGIN:STANDARD
TZOFFSETFROM:+1030
TZOFFSETTO:+0930
TZNAME:ACST
DTSTART:20250405T163000
END:STANDARD
BEGIN:DAYLIGHT
TZOFFSETFROM:+0930
TZOFFSETTO:+1030
TZNAME:ACDT
DTSTART:20251004T163000
END:DAYLIGHT
TZID:Australia/Melbourne
BEGIN:STANDARD
TZOFFSETFROM:+1100
TZOFFSETTO:+1000
TZNAME:AEST
DTSTART:20250405T160000
END:STANDARD
BEGIN:DAYLIGHT
TZOFFSETFROM:+1000
TZOFFSETTO:+1100
TZNAME:AEDT
DTSTART:20251004T160000
END:DAYLIGHT
END:VTIMEZONE
BEGIN:VEVENT
DTSTART;TZID=Australia/Adelaide:20250427T140000
DTEND;TZID=Australia/Adelaide:20250427T160000
DTSTAMP:20260420T084550
CREATED:20241204T035201Z
LAST-MODIFIED:20241204T040301Z
UID:10001020-1745762400-1745769600@mdlc.lca.org.au
SUMMARY:Worship with South Sudanese Fellowship
DESCRIPTION:2.00pm (except fifth Sunday of the month)
URL:https://mdlc.lca.org.au/event/worship-at-south-sudanese-fellowship-2/2025-04-27/
LOCATION:The Marian Room\, 24 New Street\, Dandenong\, Victoria\, Australia
CATEGORIES:Worship
GEO:-37.9903107;145.2214213
X-APPLE-STRUCTURED-LOCATION;VALUE=URI;X-ADDRESS=The Marian Room 24 New Street Dandenong Victoria Australia;X-APPLE-RADIUS=500;X-TITLE=24 New Street:geo:145.2214213,-37.9903107
END:VEVENT
BEGIN:VEVENT
DTSTART;TZID=Australia/Adelaide:20250427T103000
DTEND;TZID=Australia/Adelaide:20250427T123000
DTSTAMP:20260420T084550
CREATED:20220121T032619Z
LAST-MODIFIED:20241204T040728Z
UID:10001353-1745749800-1745757000@mdlc.lca.org.au
SUMMARY:Worship with Holy Trinity\, Dandenong
DESCRIPTION:10.30am (except fifth Sunday of the month)
URL:https://mdlc.lca.org.au/event/holy-trinity-dandenong-2022-12-25/2025-04-27/
LOCATION:The Marian Room\, 24 New Street\, Dandenong\, Victoria\, Australia
CATEGORIES:Worship
GEO:-37.9903107;145.2214213
X-APPLE-STRUCTURED-LOCATION;VALUE=URI;X-ADDRESS=The Marian Room 24 New Street Dandenong Victoria Australia;X-APPLE-RADIUS=500;X-TITLE=24 New Street:geo:145.2214213,-37.9903107
END:VEVENT
BEGIN:VEVENT
DTSTART;TZID=Australia/Melbourne:20250427T100000
DTEND;TZID=Australia/Melbourne:20250427T120000
DTSTAMP:20260420T084550
CREATED:20231212T040940Z
LAST-MODIFIED:20241204T042009Z
UID:10001579-1745748000-1745755200@mdlc.lca.org.au
SUMMARY:Worship with St James\, Moorabbin
DESCRIPTION:10.00am
URL:https://mdlc.lca.org.au/event/worship-with-st-james-moorabbin-2/2025-04-27/
LOCATION:St James\, Moorabbin\, 416 South Road\, Moorabbin\, Victoria\, Australia
CATEGORIES:Worship
GEO:-37.9343841;145.0412199
X-APPLE-STRUCTURED-LOCATION;VALUE=URI;X-ADDRESS=St James Moorabbin 416 South Road Moorabbin Victoria Australia;X-APPLE-RADIUS=500;X-TITLE=416 South Road:geo:145.0412199,-37.9343841
END:VEVENT
BEGIN:VEVENT
DTSTART;TZID=Australia/Melbourne:20250423T093000
DTEND;TZID=Australia/Melbourne:20250423T113000
DTSTAMP:20260420T084550
CREATED:20250410T013849Z
LAST-MODIFIED:20250410T013849Z
UID:10000796-1745400600-1745407800@mdlc.lca.org.au
SUMMARY:Crafty Chat
DESCRIPTION:Please pop in for a cuppa\, a chat and maybe even some craft. All are welcome and so are your craft ideas.
URL:https://mdlc.lca.org.au/event/crafty-chat-2-2/2025-04-23/
LOCATION:St James\, Moorabbin\, 416 South Road\, Moorabbin\, Victoria\, Australia
CATEGORIES:Crafty Chat
ATTACH;FMTTYPE=image/jpeg:https://mdlc.lca.org.au/wp-content/uploads/sites/2422/2023/02/crafty-chat-ducks.jpg
GEO:-37.9343841;145.0412199
X-APPLE-STRUCTURED-LOCATION;VALUE=URI;X-ADDRESS=St James Moorabbin 416 South Road Moorabbin Victoria Australia;X-APPLE-RADIUS=500;X-TITLE=416 South Road:geo:145.0412199,-37.9343841
END:VEVENT
BEGIN:VEVENT
DTSTART;TZID=Australia/Adelaide:20250420T140000
DTEND;TZID=Australia/Adelaide:20250420T160000
DTSTAMP:20260420T084550
CREATED:20241204T035201Z
LAST-MODIFIED:20241204T040301Z
UID:10001019-1745157600-1745164800@mdlc.lca.org.au
SUMMARY:Worship with South Sudanese Fellowship
DESCRIPTION:2.00pm (except fifth Sunday of the month)
URL:https://mdlc.lca.org.au/event/worship-at-south-sudanese-fellowship-2/2025-04-20/
LOCATION:The Marian Room\, 24 New Street\, Dandenong\, Victoria\, Australia
CATEGORIES:Worship
GEO:-37.9903107;145.2214213
X-APPLE-STRUCTURED-LOCATION;VALUE=URI;X-ADDRESS=The Marian Room 24 New Street Dandenong Victoria Australia;X-APPLE-RADIUS=500;X-TITLE=24 New Street:geo:145.2214213,-37.9903107
END:VEVENT
BEGIN:VEVENT
DTSTART;TZID=Australia/Adelaide:20250420T103000
DTEND;TZID=Australia/Adelaide:20250420T123000
DTSTAMP:20260420T084550
CREATED:20220121T032619Z
LAST-MODIFIED:20241204T040728Z
UID:10001352-1745145000-1745152200@mdlc.lca.org.au
SUMMARY:Worship with Holy Trinity\, Dandenong
DESCRIPTION:10.30am (except fifth Sunday of the month)
URL:https://mdlc.lca.org.au/event/holy-trinity-dandenong-2022-12-25/2025-04-20/
LOCATION:The Marian Room\, 24 New Street\, Dandenong\, Victoria\, Australia
CATEGORIES:Worship
GEO:-37.9903107;145.2214213
X-APPLE-STRUCTURED-LOCATION;VALUE=URI;X-ADDRESS=The Marian Room 24 New Street Dandenong Victoria Australia;X-APPLE-RADIUS=500;X-TITLE=24 New Street:geo:145.2214213,-37.9903107
END:VEVENT
BEGIN:VEVENT
DTSTART;TZID=Australia/Melbourne:20250420T090000
DTEND;TZID=Australia/Melbourne:20250420T110000
DTSTAMP:20260420T084550
CREATED:20220222T031117Z
LAST-MODIFIED:20231212T050026Z
UID:10000734-1745139600-1745146800@mdlc.lca.org.au
SUMMARY:Worship with St James\, Moorabbin
DESCRIPTION:9.00am
URL:https://mdlc.lca.org.au/event/worship-with-st-james-moorabbin/2025-04-20/
LOCATION:St James\, Moorabbin\, 416 South Road\, Moorabbin\, Victoria\, Australia
CATEGORIES:Worship
GEO:-37.9343841;145.0412199
X-APPLE-STRUCTURED-LOCATION;VALUE=URI;X-ADDRESS=St James Moorabbin 416 South Road Moorabbin Victoria Australia;X-APPLE-RADIUS=500;X-TITLE=416 South Road:geo:145.0412199,-37.9343841
END:VEVENT
BEGIN:VEVENT
DTSTART;TZID=Australia/Melbourne:20250418T103000
DTEND;TZID=Australia/Melbourne:20250418T120000
DTSTAMP:20260420T084550
CREATED:20250409T031123Z
LAST-MODIFIED:20250409T031123Z
UID:10001638-1744972200-1744977600@mdlc.lca.org.au
SUMMARY:Good Friday
DESCRIPTION:1030
URL:https://mdlc.lca.org.au/event/good-friday-4/
LOCATION:The Marian Room\, 24 New Street\, Dandenong\, Victoria\, Australia
CATEGORIES:Worship
ATTACH;FMTTYPE=image/jpeg:https://mdlc.lca.org.au/wp-content/uploads/sites/2422/2024/03/iron-cross.jpg
GEO:-37.9903107;145.2214213
X-APPLE-STRUCTURED-LOCATION;VALUE=URI;X-ADDRESS=The Marian Room 24 New Street Dandenong Victoria Australia;X-APPLE-RADIUS=500;X-TITLE=24 New Street:geo:145.2214213,-37.9903107
END:VEVENT
BEGIN:VEVENT
DTSTART;TZID=Australia/Melbourne:20250418T090000
DTEND;TZID=Australia/Melbourne:20250418T110000
DTSTAMP:20260420T084550
CREATED:20250409T031000Z
LAST-MODIFIED:20250409T031000Z
UID:10001637-1744966800-1744974000@mdlc.lca.org.au
SUMMARY:Good Friday
DESCRIPTION:0900
URL:https://mdlc.lca.org.au/event/good-friday-3/
LOCATION:St James\, Moorabbin\, 416 South Road\, Moorabbin\, Victoria\, Australia
CATEGORIES:Worship
ATTACH;FMTTYPE=image/jpeg:https://mdlc.lca.org.au/wp-content/uploads/sites/2422/2024/03/iron-cross.jpg
GEO:-37.9343841;145.0412199
X-APPLE-STRUCTURED-LOCATION;VALUE=URI;X-ADDRESS=St James Moorabbin 416 South Road Moorabbin Victoria Australia;X-APPLE-RADIUS=500;X-TITLE=416 South Road:geo:145.0412199,-37.9343841
END:VEVENT
BEGIN:VEVENT
DTSTART;TZID=Australia/Melbourne:20250417T193000
DTEND;TZID=Australia/Melbourne:20250417T210000
DTSTAMP:20260420T084550
CREATED:20250409T004623Z
LAST-MODIFIED:20250409T004623Z
UID:10001636-1744918200-1744923600@mdlc.lca.org.au
SUMMARY:Maundy Thursday
DESCRIPTION:Combined Service
URL:https://mdlc.lca.org.au/event/maundy-thursday/
LOCATION:St James\, Moorabbin\, 416 South Road\, Moorabbin\, Victoria\, Australia
CATEGORIES:Worship
ATTACH;FMTTYPE=image/jpeg:https://mdlc.lca.org.au/wp-content/uploads/sites/2422/2025/04/maundy-thursday.jpg
GEO:-37.9343841;145.0412199
X-APPLE-STRUCTURED-LOCATION;VALUE=URI;X-ADDRESS=St James Moorabbin 416 South Road Moorabbin Victoria Australia;X-APPLE-RADIUS=500;X-TITLE=416 South Road:geo:145.0412199,-37.9343841
END:VEVENT
BEGIN:VEVENT
DTSTART;TZID=Australia/Melbourne:20250416T093000
DTEND;TZID=Australia/Melbourne:20250416T113000
DTSTAMP:20260420T084550
CREATED:20250410T013849Z
LAST-MODIFIED:20250410T013849Z
UID:10000795-1744795800-1744803000@mdlc.lca.org.au
SUMMARY:Crafty Chat
DESCRIPTION:Please pop in for a cuppa\, a chat and maybe even some craft. All are welcome and so are your craft ideas.
URL:https://mdlc.lca.org.au/event/crafty-chat-2-2/2025-04-16/
LOCATION:St James\, Moorabbin\, 416 South Road\, Moorabbin\, Victoria\, Australia
CATEGORIES:Crafty Chat
ATTACH;FMTTYPE=image/jpeg:https://mdlc.lca.org.au/wp-content/uploads/sites/2422/2023/02/crafty-chat-ducks.jpg
GEO:-37.9343841;145.0412199
X-APPLE-STRUCTURED-LOCATION;VALUE=URI;X-ADDRESS=St James Moorabbin 416 South Road Moorabbin Victoria Australia;X-APPLE-RADIUS=500;X-TITLE=416 South Road:geo:145.0412199,-37.9343841
END:VEVENT
BEGIN:VEVENT
DTSTART;TZID=Australia/Adelaide:20250413T140000
DTEND;TZID=Australia/Adelaide:20250413T160000
DTSTAMP:20260420T084550
CREATED:20241204T035201Z
LAST-MODIFIED:20241204T040301Z
UID:10001018-1744552800-1744560000@mdlc.lca.org.au
SUMMARY:Worship with South Sudanese Fellowship
DESCRIPTION:2.00pm (except fifth Sunday of the month)
URL:https://mdlc.lca.org.au/event/worship-at-south-sudanese-fellowship-2/2025-04-13/
LOCATION:The Marian Room\, 24 New Street\, Dandenong\, Victoria\, Australia
CATEGORIES:Worship
GEO:-37.9903107;145.2214213
X-APPLE-STRUCTURED-LOCATION;VALUE=URI;X-ADDRESS=The Marian Room 24 New Street Dandenong Victoria Australia;X-APPLE-RADIUS=500;X-TITLE=24 New Street:geo:145.2214213,-37.9903107
END:VEVENT
BEGIN:VEVENT
DTSTART;TZID=Australia/Adelaide:20250413T103000
DTEND;TZID=Australia/Adelaide:20250413T123000
DTSTAMP:20260420T084550
CREATED:20220121T032619Z
LAST-MODIFIED:20241204T040728Z
UID:10001351-1744540200-1744547400@mdlc.lca.org.au
SUMMARY:Worship with Holy Trinity\, Dandenong
DESCRIPTION:10.30am (except fifth Sunday of the month)
URL:https://mdlc.lca.org.au/event/holy-trinity-dandenong-2022-12-25/2025-04-13/
LOCATION:The Marian Room\, 24 New Street\, Dandenong\, Victoria\, Australia
CATEGORIES:Worship
GEO:-37.9903107;145.2214213
X-APPLE-STRUCTURED-LOCATION;VALUE=URI;X-ADDRESS=The Marian Room 24 New Street Dandenong Victoria Australia;X-APPLE-RADIUS=500;X-TITLE=24 New Street:geo:145.2214213,-37.9903107
END:VEVENT
BEGIN:VEVENT
DTSTART;TZID=Australia/Melbourne:20250413T100000
DTEND;TZID=Australia/Melbourne:20250413T120000
DTSTAMP:20260420T084550
CREATED:20220222T031333Z
LAST-MODIFIED:20231212T045700Z
UID:10000636-1744538400-1744545600@mdlc.lca.org.au
SUMMARY:Worship with St James\, Moorabbin
DESCRIPTION:10.00am
URL:https://mdlc.lca.org.au/event/worship-with-st-james-moorabbin-2-2/2025-04-13/
LOCATION:St James\, Moorabbin\, 416 South Road\, Moorabbin\, Victoria\, Australia
CATEGORIES:Worship
GEO:-37.9343841;145.0412199
X-APPLE-STRUCTURED-LOCATION;VALUE=URI;X-ADDRESS=St James Moorabbin 416 South Road Moorabbin Victoria Australia;X-APPLE-RADIUS=500;X-TITLE=416 South Road:geo:145.0412199,-37.9343841
END:VEVENT
BEGIN:VEVENT
DTSTART;TZID=Australia/Melbourne:20250409T093000
DTEND;TZID=Australia/Melbourne:20250409T113000
DTSTAMP:20260420T084550
CREATED:20230908T054112Z
LAST-MODIFIED:20231212T050836Z
UID:10000794-1744191000-1744198200@mdlc.lca.org.au
SUMMARY:Crafty Chat
DESCRIPTION:Please pop in for a cuppa\, a chat and maybe even some craft. All are welcome and so are your craft ideas.
URL:https://mdlc.lca.org.au/event/crafty-chat-2/2025-04-09/
LOCATION:St James\, Moorabbin\, 416 South Road\, Moorabbin\, Victoria\, Australia
CATEGORIES:Crafty Chat
ATTACH;FMTTYPE=image/jpeg:https://mdlc.lca.org.au/wp-content/uploads/sites/2422/2023/02/crafty-chat-ducks.jpg
GEO:-37.9343841;145.0412199
X-APPLE-STRUCTURED-LOCATION;VALUE=URI;X-ADDRESS=St James Moorabbin 416 South Road Moorabbin Victoria Australia;X-APPLE-RADIUS=500;X-TITLE=416 South Road:geo:145.0412199,-37.9343841
END:VEVENT
BEGIN:VEVENT
DTSTART;TZID=Australia/Adelaide:20250406T140000
DTEND;TZID=Australia/Adelaide:20250406T160000
DTSTAMP:20260420T084550
CREATED:20241204T035201Z
LAST-MODIFIED:20241204T040301Z
UID:10001017-1743948000-1743955200@mdlc.lca.org.au
SUMMARY:Worship with South Sudanese Fellowship
DESCRIPTION:2.00pm (except fifth Sunday of the month)
URL:https://mdlc.lca.org.au/event/worship-at-south-sudanese-fellowship-2/2025-04-06/
LOCATION:The Marian Room\, 24 New Street\, Dandenong\, Victoria\, Australia
CATEGORIES:Worship
GEO:-37.9903107;145.2214213
X-APPLE-STRUCTURED-LOCATION;VALUE=URI;X-ADDRESS=The Marian Room 24 New Street Dandenong Victoria Australia;X-APPLE-RADIUS=500;X-TITLE=24 New Street:geo:145.2214213,-37.9903107
END:VEVENT
BEGIN:VEVENT
DTSTART;TZID=Australia/Adelaide:20250406T103000
DTEND;TZID=Australia/Adelaide:20250406T123000
DTSTAMP:20260420T084550
CREATED:20220121T032619Z
LAST-MODIFIED:20241204T040728Z
UID:10001350-1743935400-1743942600@mdlc.lca.org.au
SUMMARY:Worship with Holy Trinity\, Dandenong
DESCRIPTION:10.30am (except fifth Sunday of the month)
URL:https://mdlc.lca.org.au/event/holy-trinity-dandenong-2022-12-25/2025-04-06/
LOCATION:The Marian Room\, 24 New Street\, Dandenong\, Victoria\, Australia
CATEGORIES:Worship
GEO:-37.9903107;145.2214213
X-APPLE-STRUCTURED-LOCATION;VALUE=URI;X-ADDRESS=The Marian Room 24 New Street Dandenong Victoria Australia;X-APPLE-RADIUS=500;X-TITLE=24 New Street:geo:145.2214213,-37.9903107
END:VEVENT
BEGIN:VEVENT
DTSTART;TZID=Australia/Adelaide:20250406T090000
DTEND;TZID=Australia/Adelaide:20250406T110000
DTSTAMP:20260420T084550
CREATED:20220121T032405Z
LAST-MODIFIED:20231212T045512Z
UID:10000684-1743930000-1743937200@mdlc.lca.org.au
SUMMARY:Worship with St James\, Moorabbin
DESCRIPTION:9.00am
URL:https://mdlc.lca.org.au/event/st-james-moorabbin-2/2025-04-06/
LOCATION:St James\, Moorabbin\, 416 South Road\, Moorabbin\, Victoria\, Australia
CATEGORIES:Worship
GEO:-37.9343841;145.0412199
X-APPLE-STRUCTURED-LOCATION;VALUE=URI;X-ADDRESS=St James Moorabbin 416 South Road Moorabbin Victoria Australia;X-APPLE-RADIUS=500;X-TITLE=416 South Road:geo:145.0412199,-37.9343841
END:VEVENT
BEGIN:VEVENT
DTSTART;TZID=Australia/Melbourne:20250402T093000
DTEND;TZID=Australia/Melbourne:20250402T113000
DTSTAMP:20260420T084550
CREATED:20230908T054112Z
LAST-MODIFIED:20231212T050836Z
UID:10000793-1743586200-1743593400@mdlc.lca.org.au
SUMMARY:Crafty Chat
DESCRIPTION:Please pop in for a cuppa\, a chat and maybe even some craft. All are welcome and so are your craft ideas.
URL:https://mdlc.lca.org.au/event/crafty-chat-2/2025-04-02/
LOCATION:St James\, Moorabbin\, 416 South Road\, Moorabbin\, Victoria\, Australia
CATEGORIES:Crafty Chat
ATTACH;FMTTYPE=image/jpeg:https://mdlc.lca.org.au/wp-content/uploads/sites/2422/2023/02/crafty-chat-ducks.jpg
GEO:-37.9343841;145.0412199
X-APPLE-STRUCTURED-LOCATION;VALUE=URI;X-ADDRESS=St James Moorabbin 416 South Road Moorabbin Victoria Australia;X-APPLE-RADIUS=500;X-TITLE=416 South Road:geo:145.0412199,-37.9343841
END:VEVENT
BEGIN:VEVENT
DTSTART;TZID=Australia/Melbourne:20250326T093000
DTEND;TZID=Australia/Melbourne:20250326T113000
DTSTAMP:20260420T084550
CREATED:20230908T054112Z
LAST-MODIFIED:20231212T050836Z
UID:10000792-1742981400-1742988600@mdlc.lca.org.au
SUMMARY:Crafty Chat
DESCRIPTION:Please pop in for a cuppa\, a chat and maybe even some craft. All are welcome and so are your craft ideas.
URL:https://mdlc.lca.org.au/event/crafty-chat-2/2025-03-26/
LOCATION:St James\, Moorabbin\, 416 South Road\, Moorabbin\, Victoria\, Australia
CATEGORIES:Crafty Chat
ATTACH;FMTTYPE=image/jpeg:https://mdlc.lca.org.au/wp-content/uploads/sites/2422/2023/02/crafty-chat-ducks.jpg
GEO:-37.9343841;145.0412199
X-APPLE-STRUCTURED-LOCATION;VALUE=URI;X-ADDRESS=St James Moorabbin 416 South Road Moorabbin Victoria Australia;X-APPLE-RADIUS=500;X-TITLE=416 South Road:geo:145.0412199,-37.9343841
END:VEVENT
BEGIN:VEVENT
DTSTART;TZID=Australia/Adelaide:20250323T140000
DTEND;TZID=Australia/Adelaide:20250323T160000
DTSTAMP:20260420T084550
CREATED:20241204T035201Z
LAST-MODIFIED:20241204T040301Z
UID:10001016-1742738400-1742745600@mdlc.lca.org.au
SUMMARY:Worship with South Sudanese Fellowship
DESCRIPTION:2.00pm (except fifth Sunday of the month)
URL:https://mdlc.lca.org.au/event/worship-at-south-sudanese-fellowship-2/2025-03-23/
LOCATION:The Marian Room\, 24 New Street\, Dandenong\, Victoria\, Australia
CATEGORIES:Worship
GEO:-37.9903107;145.2214213
X-APPLE-STRUCTURED-LOCATION;VALUE=URI;X-ADDRESS=The Marian Room 24 New Street Dandenong Victoria Australia;X-APPLE-RADIUS=500;X-TITLE=24 New Street:geo:145.2214213,-37.9903107
END:VEVENT
BEGIN:VEVENT
DTSTART;TZID=Australia/Adelaide:20250323T103000
DTEND;TZID=Australia/Adelaide:20250323T123000
DTSTAMP:20260420T084550
CREATED:20220121T032619Z
LAST-MODIFIED:20241204T040728Z
UID:10001349-1742725800-1742733000@mdlc.lca.org.au
SUMMARY:Worship with Holy Trinity\, Dandenong
DESCRIPTION:10.30am (except fifth Sunday of the month)
URL:https://mdlc.lca.org.au/event/holy-trinity-dandenong-2022-12-25/2025-03-23/
LOCATION:The Marian Room\, 24 New Street\, Dandenong\, Victoria\, Australia
CATEGORIES:Worship
GEO:-37.9903107;145.2214213
X-APPLE-STRUCTURED-LOCATION;VALUE=URI;X-ADDRESS=The Marian Room 24 New Street Dandenong Victoria Australia;X-APPLE-RADIUS=500;X-TITLE=24 New Street:geo:145.2214213,-37.9903107
END:VEVENT
BEGIN:VEVENT
DTSTART;TZID=Australia/Melbourne:20250323T100000
DTEND;TZID=Australia/Melbourne:20250323T120000
DTSTAMP:20260420T084550
CREATED:20231212T040940Z
LAST-MODIFIED:20241204T042009Z
UID:10001578-1742724000-1742731200@mdlc.lca.org.au
SUMMARY:Worship with St James\, Moorabbin
DESCRIPTION:10.00am
URL:https://mdlc.lca.org.au/event/worship-with-st-james-moorabbin-2/2025-03-23/
LOCATION:St James\, Moorabbin\, 416 South Road\, Moorabbin\, Victoria\, Australia
CATEGORIES:Worship
GEO:-37.9343841;145.0412199
X-APPLE-STRUCTURED-LOCATION;VALUE=URI;X-ADDRESS=St James Moorabbin 416 South Road Moorabbin Victoria Australia;X-APPLE-RADIUS=500;X-TITLE=416 South Road:geo:145.0412199,-37.9343841
END:VEVENT
BEGIN:VEVENT
DTSTART;TZID=Australia/Melbourne:20250319T093000
DTEND;TZID=Australia/Melbourne:20250319T113000
DTSTAMP:20260420T084550
CREATED:20230908T054112Z
LAST-MODIFIED:20231212T050836Z
UID:10000791-1742376600-1742383800@mdlc.lca.org.au
SUMMARY:Crafty Chat
DESCRIPTION:Please pop in for a cuppa\, a chat and maybe even some craft. All are welcome and so are your craft ideas.
URL:https://mdlc.lca.org.au/event/crafty-chat-2/2025-03-19/
LOCATION:St James\, Moorabbin\, 416 South Road\, Moorabbin\, Victoria\, Australia
CATEGORIES:Crafty Chat
ATTACH;FMTTYPE=image/jpeg:https://mdlc.lca.org.au/wp-content/uploads/sites/2422/2023/02/crafty-chat-ducks.jpg
GEO:-37.9343841;145.0412199
X-APPLE-STRUCTURED-LOCATION;VALUE=URI;X-ADDRESS=St James Moorabbin 416 South Road Moorabbin Victoria Australia;X-APPLE-RADIUS=500;X-TITLE=416 South Road:geo:145.0412199,-37.9343841
END:VEVENT
BEGIN:VEVENT
DTSTART;TZID=Australia/Adelaide:20250316T140000
DTEND;TZID=Australia/Adelaide:20250316T160000
DTSTAMP:20260420T084550
CREATED:20241204T035201Z
LAST-MODIFIED:20241204T040301Z
UID:10001015-1742133600-1742140800@mdlc.lca.org.au
SUMMARY:Worship with South Sudanese Fellowship
DESCRIPTION:2.00pm (except fifth Sunday of the month)
URL:https://mdlc.lca.org.au/event/worship-at-south-sudanese-fellowship-2/2025-03-16/
LOCATION:The Marian Room\, 24 New Street\, Dandenong\, Victoria\, Australia
CATEGORIES:Worship
GEO:-37.9903107;145.2214213
X-APPLE-STRUCTURED-LOCATION;VALUE=URI;X-ADDRESS=The Marian Room 24 New Street Dandenong Victoria Australia;X-APPLE-RADIUS=500;X-TITLE=24 New Street:geo:145.2214213,-37.9903107
END:VEVENT
BEGIN:VEVENT
DTSTART;TZID=Australia/Adelaide:20250316T103000
DTEND;TZID=Australia/Adelaide:20250316T123000
DTSTAMP:20260420T084550
CREATED:20220121T032619Z
LAST-MODIFIED:20241204T040728Z
UID:10001348-1742121000-1742128200@mdlc.lca.org.au
SUMMARY:Worship with Holy Trinity\, Dandenong
DESCRIPTION:10.30am (except fifth Sunday of the month)
URL:https://mdlc.lca.org.au/event/holy-trinity-dandenong-2022-12-25/2025-03-16/
LOCATION:The Marian Room\, 24 New Street\, Dandenong\, Victoria\, Australia
CATEGORIES:Worship
GEO:-37.9903107;145.2214213
X-APPLE-STRUCTURED-LOCATION;VALUE=URI;X-ADDRESS=The Marian Room 24 New Street Dandenong Victoria Australia;X-APPLE-RADIUS=500;X-TITLE=24 New Street:geo:145.2214213,-37.9903107
END:VEVENT
BEGIN:VEVENT
DTSTART;TZID=Australia/Melbourne:20250316T090000
DTEND;TZID=Australia/Melbourne:20250316T110000
DTSTAMP:20260420T084550
CREATED:20220222T031117Z
LAST-MODIFIED:20231212T050026Z
UID:10000733-1742115600-1742122800@mdlc.lca.org.au
SUMMARY:Worship with St James\, Moorabbin
DESCRIPTION:9.00am
URL:https://mdlc.lca.org.au/event/worship-with-st-james-moorabbin/2025-03-16/
LOCATION:St James\, Moorabbin\, 416 South Road\, Moorabbin\, Victoria\, Australia
CATEGORIES:Worship
GEO:-37.9343841;145.0412199
X-APPLE-STRUCTURED-LOCATION;VALUE=URI;X-ADDRESS=St James Moorabbin 416 South Road Moorabbin Victoria Australia;X-APPLE-RADIUS=500;X-TITLE=416 South Road:geo:145.0412199,-37.9343841
END:VEVENT
BEGIN:VEVENT
DTSTART;TZID=Australia/Melbourne:20250312T093000
DTEND;TZID=Australia/Melbourne:20250312T113000
DTSTAMP:20260420T084550
CREATED:20230908T054112Z
LAST-MODIFIED:20231212T050836Z
UID:10000790-1741771800-1741779000@mdlc.lca.org.au
SUMMARY:Crafty Chat
DESCRIPTION:Please pop in for a cuppa\, a chat and maybe even some craft. All are welcome and so are your craft ideas.
URL:https://mdlc.lca.org.au/event/crafty-chat-2/2025-03-12/
LOCATION:St James\, Moorabbin\, 416 South Road\, Moorabbin\, Victoria\, Australia
CATEGORIES:Crafty Chat
ATTACH;FMTTYPE=image/jpeg:https://mdlc.lca.org.au/wp-content/uploads/sites/2422/2023/02/crafty-chat-ducks.jpg
GEO:-37.9343841;145.0412199
X-APPLE-STRUCTURED-LOCATION;VALUE=URI;X-ADDRESS=St James Moorabbin 416 South Road Moorabbin Victoria Australia;X-APPLE-RADIUS=500;X-TITLE=416 South Road:geo:145.0412199,-37.9343841
END:VEVENT
BEGIN:VEVENT
DTSTART;TZID=Australia/Adelaide:20250309T140000
DTEND;TZID=Australia/Adelaide:20250309T160000
DTSTAMP:20260420T084550
CREATED:20241204T035201Z
LAST-MODIFIED:20241204T040301Z
UID:10001014-1741528800-1741536000@mdlc.lca.org.au
SUMMARY:Worship with South Sudanese Fellowship
DESCRIPTION:2.00pm (except fifth Sunday of the month)
URL:https://mdlc.lca.org.au/event/worship-at-south-sudanese-fellowship-2/2025-03-09/
LOCATION:The Marian Room\, 24 New Street\, Dandenong\, Victoria\, Australia
CATEGORIES:Worship
GEO:-37.9903107;145.2214213
X-APPLE-STRUCTURED-LOCATION;VALUE=URI;X-ADDRESS=The Marian Room 24 New Street Dandenong Victoria Australia;X-APPLE-RADIUS=500;X-TITLE=24 New Street:geo:145.2214213,-37.9903107
END:VEVENT
BEGIN:VEVENT
DTSTART;TZID=Australia/Adelaide:20250309T103000
DTEND;TZID=Australia/Adelaide:20250309T123000
DTSTAMP:20260420T084550
CREATED:20220121T032619Z
LAST-MODIFIED:20241204T040728Z
UID:10001347-1741516200-1741523400@mdlc.lca.org.au
SUMMARY:Worship with Holy Trinity\, Dandenong
DESCRIPTION:10.30am (except fifth Sunday of the month)
URL:https://mdlc.lca.org.au/event/holy-trinity-dandenong-2022-12-25/2025-03-09/
LOCATION:The Marian Room\, 24 New Street\, Dandenong\, Victoria\, Australia
CATEGORIES:Worship
GEO:-37.9903107;145.2214213
X-APPLE-STRUCTURED-LOCATION;VALUE=URI;X-ADDRESS=The Marian Room 24 New Street Dandenong Victoria Australia;X-APPLE-RADIUS=500;X-TITLE=24 New Street:geo:145.2214213,-37.9903107
END:VEVENT
END:VCALENDAR