BEGIN:VCALENDAR
VERSION:2.0
PRODID:-//Moorabbin–Dandenong Lutheran Church, Vic - ECPv6.8.1//NONSGML v1.0//EN
CALSCALE:GREGORIAN
METHOD:PUBLISH
X-WR-CALNAME:Moorabbin–Dandenong Lutheran Church, Vic
X-ORIGINAL-URL:https://mdlc.lca.org.au
X-WR-CALDESC:Events for Moorabbin–Dandenong Lutheran Church, Vic
REFRESH-INTERVAL;VALUE=DURATION:PT1H
X-Robots-Tag:noindex
X-PUBLISHED-TTL:PT1H
BEGIN:VTIMEZONE
TZID:Australia/Melbourne
BEGIN:STANDARD
TZOFFSETFROM:+1100
TZOFFSETTO:+1000
TZNAME:AEST
DTSTART:20220402T160000
END:STANDARD
BEGIN:DAYLIGHT
TZOFFSETFROM:+1000
TZOFFSETTO:+1100
TZNAME:AEDT
DTSTART:20221001T160000
END:DAYLIGHT
BEGIN:STANDARD
TZOFFSETFROM:+1100
TZOFFSETTO:+1000
TZNAME:AEST
DTSTART:20230401T160000
END:STANDARD
BEGIN:DAYLIGHT
TZOFFSETFROM:+1000
TZOFFSETTO:+1100
TZNAME:AEDT
DTSTART:20230930T160000
END:DAYLIGHT
END:VTIMEZONE
BEGIN:VEVENT
DTSTART;TZID=Australia/Melbourne:20230419T100000
DTEND;TZID=Australia/Melbourne:20230419T120000
DTSTAMP:20260425T222103
CREATED:20230224T043116Z
LAST-MODIFIED:20230224T044210Z
UID:10000179-1681898400-1681905600@mdlc.lca.org.au
SUMMARY:Crafty Chat
DESCRIPTION:Come and join us for some fun\, coffee a nibble and some fun craft. The puddings were brilliant.
URL:https://mdlc.lca.org.au/event/crafty-chat/2023-04-19/
LOCATION:St James\, Moorabbin\, 416 South Road\, Moorabbin\, Victoria\, Australia
CATEGORIES:Community event
ATTACH;FMTTYPE=image/jpeg:https://mdlc.lca.org.au/wp-content/uploads/sites/2422/2023/02/crafty-chat-ducks.jpg
GEO:-37.9343841;145.0412199
X-APPLE-STRUCTURED-LOCATION;VALUE=URI;X-ADDRESS=St James Moorabbin 416 South Road Moorabbin Victoria Australia;X-APPLE-RADIUS=500;X-TITLE=416 South Road:geo:145.0412199,-37.9343841
END:VEVENT
BEGIN:VEVENT
DTSTART;TZID=Australia/Melbourne:20230412T100000
DTEND;TZID=Australia/Melbourne:20230412T120000
DTSTAMP:20260425T222103
CREATED:20230224T043116Z
LAST-MODIFIED:20230224T044210Z
UID:10000178-1681293600-1681300800@mdlc.lca.org.au
SUMMARY:Crafty Chat
DESCRIPTION:Come and join us for some fun\, coffee a nibble and some fun craft. The puddings were brilliant.
URL:https://mdlc.lca.org.au/event/crafty-chat/2023-04-12/
LOCATION:St James\, Moorabbin\, 416 South Road\, Moorabbin\, Victoria\, Australia
CATEGORIES:Community event
ATTACH;FMTTYPE=image/jpeg:https://mdlc.lca.org.au/wp-content/uploads/sites/2422/2023/02/crafty-chat-ducks.jpg
GEO:-37.9343841;145.0412199
X-APPLE-STRUCTURED-LOCATION;VALUE=URI;X-ADDRESS=St James Moorabbin 416 South Road Moorabbin Victoria Australia;X-APPLE-RADIUS=500;X-TITLE=416 South Road:geo:145.0412199,-37.9343841
END:VEVENT
BEGIN:VEVENT
DTSTART;TZID=Australia/Melbourne:20230405T100000
DTEND;TZID=Australia/Melbourne:20230405T120000
DTSTAMP:20260425T222103
CREATED:20230224T043116Z
LAST-MODIFIED:20230224T044210Z
UID:10000177-1680688800-1680696000@mdlc.lca.org.au
SUMMARY:Crafty Chat
DESCRIPTION:Come and join us for some fun\, coffee a nibble and some fun craft. The puddings were brilliant.
URL:https://mdlc.lca.org.au/event/crafty-chat/2023-04-05/
LOCATION:St James\, Moorabbin\, 416 South Road\, Moorabbin\, Victoria\, Australia
CATEGORIES:Community event
ATTACH;FMTTYPE=image/jpeg:https://mdlc.lca.org.au/wp-content/uploads/sites/2422/2023/02/crafty-chat-ducks.jpg
GEO:-37.9343841;145.0412199
X-APPLE-STRUCTURED-LOCATION;VALUE=URI;X-ADDRESS=St James Moorabbin 416 South Road Moorabbin Victoria Australia;X-APPLE-RADIUS=500;X-TITLE=416 South Road:geo:145.0412199,-37.9343841
END:VEVENT
BEGIN:VEVENT
DTSTART;TZID=Australia/Melbourne:20230329T193000
DTEND;TZID=Australia/Melbourne:20230329T210000
DTSTAMP:20260425T222103
CREATED:20230223T043140Z
LAST-MODIFIED:20230223T043359Z
UID:10000170-1680118200-1680123600@mdlc.lca.org.au
SUMMARY:Lenten Bible Study
DESCRIPTION:Please join us for a journey through Exodus in a series of Bible studies for Lent followed by a cuppa.
URL:https://mdlc.lca.org.au/event/lenten-bible-study/2023-03-29/
LOCATION:St James\, Moorabbin\, 416 South Road\, Moorabbin\, Victoria\, Australia
CATEGORIES:Community event
ATTACH;FMTTYPE=image/jpeg:https://mdlc.lca.org.au/wp-content/uploads/sites/2422/2023/02/003-ls-passover.jpg
GEO:-37.9343841;145.0412199
X-APPLE-STRUCTURED-LOCATION;VALUE=URI;X-ADDRESS=St James Moorabbin 416 South Road Moorabbin Victoria Australia;X-APPLE-RADIUS=500;X-TITLE=416 South Road:geo:145.0412199,-37.9343841
END:VEVENT
BEGIN:VEVENT
DTSTART;TZID=Australia/Melbourne:20230329T100000
DTEND;TZID=Australia/Melbourne:20230329T120000
DTSTAMP:20260425T222103
CREATED:20230224T043116Z
LAST-MODIFIED:20230224T044210Z
UID:10000176-1680084000-1680091200@mdlc.lca.org.au
SUMMARY:Crafty Chat
DESCRIPTION:Come and join us for some fun\, coffee a nibble and some fun craft. The puddings were brilliant.
URL:https://mdlc.lca.org.au/event/crafty-chat/2023-03-29/
LOCATION:St James\, Moorabbin\, 416 South Road\, Moorabbin\, Victoria\, Australia
CATEGORIES:Community event
ATTACH;FMTTYPE=image/jpeg:https://mdlc.lca.org.au/wp-content/uploads/sites/2422/2023/02/crafty-chat-ducks.jpg
GEO:-37.9343841;145.0412199
X-APPLE-STRUCTURED-LOCATION;VALUE=URI;X-ADDRESS=St James Moorabbin 416 South Road Moorabbin Victoria Australia;X-APPLE-RADIUS=500;X-TITLE=416 South Road:geo:145.0412199,-37.9343841
END:VEVENT
BEGIN:VEVENT
DTSTART;TZID=Australia/Melbourne:20230322T193000
DTEND;TZID=Australia/Melbourne:20230322T210000
DTSTAMP:20260425T222103
CREATED:20230223T043140Z
LAST-MODIFIED:20230223T043359Z
UID:10000169-1679513400-1679518800@mdlc.lca.org.au
SUMMARY:Lenten Bible Study
DESCRIPTION:Please join us for a journey through Exodus in a series of Bible studies for Lent followed by a cuppa.
URL:https://mdlc.lca.org.au/event/lenten-bible-study/2023-03-22/
LOCATION:St James\, Moorabbin\, 416 South Road\, Moorabbin\, Victoria\, Australia
CATEGORIES:Community event
ATTACH;FMTTYPE=image/jpeg:https://mdlc.lca.org.au/wp-content/uploads/sites/2422/2023/02/003-ls-passover.jpg
GEO:-37.9343841;145.0412199
X-APPLE-STRUCTURED-LOCATION;VALUE=URI;X-ADDRESS=St James Moorabbin 416 South Road Moorabbin Victoria Australia;X-APPLE-RADIUS=500;X-TITLE=416 South Road:geo:145.0412199,-37.9343841
END:VEVENT
BEGIN:VEVENT
DTSTART;TZID=Australia/Melbourne:20230322T100000
DTEND;TZID=Australia/Melbourne:20230322T120000
DTSTAMP:20260425T222103
CREATED:20230224T043116Z
LAST-MODIFIED:20230224T044210Z
UID:10000175-1679479200-1679486400@mdlc.lca.org.au
SUMMARY:Crafty Chat
DESCRIPTION:Come and join us for some fun\, coffee a nibble and some fun craft. The puddings were brilliant.
URL:https://mdlc.lca.org.au/event/crafty-chat/2023-03-22/
LOCATION:St James\, Moorabbin\, 416 South Road\, Moorabbin\, Victoria\, Australia
CATEGORIES:Community event
ATTACH;FMTTYPE=image/jpeg:https://mdlc.lca.org.au/wp-content/uploads/sites/2422/2023/02/crafty-chat-ducks.jpg
GEO:-37.9343841;145.0412199
X-APPLE-STRUCTURED-LOCATION;VALUE=URI;X-ADDRESS=St James Moorabbin 416 South Road Moorabbin Victoria Australia;X-APPLE-RADIUS=500;X-TITLE=416 South Road:geo:145.0412199,-37.9343841
END:VEVENT
BEGIN:VEVENT
DTSTART;TZID=Australia/Melbourne:20230319T100000
DTEND;TZID=Australia/Melbourne:20230319T140000
DTSTAMP:20260425T222103
CREATED:20230223T042111Z
LAST-MODIFIED:20230223T042111Z
UID:10000165-1679220000-1679234400@mdlc.lca.org.au
SUMMARY:Combined Service Followed by Annual General Meeting
DESCRIPTION:10:00 am
URL:https://mdlc.lca.org.au/event/combined-service-followed-by-annual-general-meeting/
LOCATION:St James\, Moorabbin\, 416 South Road\, Moorabbin\, Victoria\, Australia
CATEGORIES:Community event,Worship
GEO:-37.9343841;145.0412199
X-APPLE-STRUCTURED-LOCATION;VALUE=URI;X-ADDRESS=St James Moorabbin 416 South Road Moorabbin Victoria Australia;X-APPLE-RADIUS=500;X-TITLE=416 South Road:geo:145.0412199,-37.9343841
END:VEVENT
BEGIN:VEVENT
DTSTART;TZID=Australia/Melbourne:20230315T193000
DTEND;TZID=Australia/Melbourne:20230315T210000
DTSTAMP:20260425T222103
CREATED:20230223T043140Z
LAST-MODIFIED:20230223T043359Z
UID:10000168-1678908600-1678914000@mdlc.lca.org.au
SUMMARY:Lenten Bible Study
DESCRIPTION:Please join us for a journey through Exodus in a series of Bible studies for Lent followed by a cuppa.
URL:https://mdlc.lca.org.au/event/lenten-bible-study/2023-03-15/
LOCATION:St James\, Moorabbin\, 416 South Road\, Moorabbin\, Victoria\, Australia
CATEGORIES:Community event
ATTACH;FMTTYPE=image/jpeg:https://mdlc.lca.org.au/wp-content/uploads/sites/2422/2023/02/003-ls-passover.jpg
GEO:-37.9343841;145.0412199
X-APPLE-STRUCTURED-LOCATION;VALUE=URI;X-ADDRESS=St James Moorabbin 416 South Road Moorabbin Victoria Australia;X-APPLE-RADIUS=500;X-TITLE=416 South Road:geo:145.0412199,-37.9343841
END:VEVENT
BEGIN:VEVENT
DTSTART;TZID=Australia/Melbourne:20230315T100000
DTEND;TZID=Australia/Melbourne:20230315T120000
DTSTAMP:20260425T222103
CREATED:20230224T043116Z
LAST-MODIFIED:20230224T044210Z
UID:10000174-1678874400-1678881600@mdlc.lca.org.au
SUMMARY:Crafty Chat
DESCRIPTION:Come and join us for some fun\, coffee a nibble and some fun craft. The puddings were brilliant.
URL:https://mdlc.lca.org.au/event/crafty-chat/2023-03-15/
LOCATION:St James\, Moorabbin\, 416 South Road\, Moorabbin\, Victoria\, Australia
CATEGORIES:Community event
ATTACH;FMTTYPE=image/jpeg:https://mdlc.lca.org.au/wp-content/uploads/sites/2422/2023/02/crafty-chat-ducks.jpg
GEO:-37.9343841;145.0412199
X-APPLE-STRUCTURED-LOCATION;VALUE=URI;X-ADDRESS=St James Moorabbin 416 South Road Moorabbin Victoria Australia;X-APPLE-RADIUS=500;X-TITLE=416 South Road:geo:145.0412199,-37.9343841
END:VEVENT
BEGIN:VEVENT
DTSTART;TZID=Australia/Melbourne:20230308T193000
DTEND;TZID=Australia/Melbourne:20230308T210000
DTSTAMP:20260425T222103
CREATED:20230223T043140Z
LAST-MODIFIED:20230223T043359Z
UID:10000167-1678303800-1678309200@mdlc.lca.org.au
SUMMARY:Lenten Bible Study
DESCRIPTION:Please join us for a journey through Exodus in a series of Bible studies for Lent followed by a cuppa.
URL:https://mdlc.lca.org.au/event/lenten-bible-study/2023-03-08/
LOCATION:St James\, Moorabbin\, 416 South Road\, Moorabbin\, Victoria\, Australia
CATEGORIES:Community event
ATTACH;FMTTYPE=image/jpeg:https://mdlc.lca.org.au/wp-content/uploads/sites/2422/2023/02/003-ls-passover.jpg
GEO:-37.9343841;145.0412199
X-APPLE-STRUCTURED-LOCATION;VALUE=URI;X-ADDRESS=St James Moorabbin 416 South Road Moorabbin Victoria Australia;X-APPLE-RADIUS=500;X-TITLE=416 South Road:geo:145.0412199,-37.9343841
END:VEVENT
BEGIN:VEVENT
DTSTART;TZID=Australia/Melbourne:20230308T100000
DTEND;TZID=Australia/Melbourne:20230308T120000
DTSTAMP:20260425T222103
CREATED:20230224T043116Z
LAST-MODIFIED:20230224T044210Z
UID:10000173-1678269600-1678276800@mdlc.lca.org.au
SUMMARY:Crafty Chat
DESCRIPTION:Come and join us for some fun\, coffee a nibble and some fun craft. The puddings were brilliant.
URL:https://mdlc.lca.org.au/event/crafty-chat/2023-03-08/
LOCATION:St James\, Moorabbin\, 416 South Road\, Moorabbin\, Victoria\, Australia
CATEGORIES:Community event
ATTACH;FMTTYPE=image/jpeg:https://mdlc.lca.org.au/wp-content/uploads/sites/2422/2023/02/crafty-chat-ducks.jpg
GEO:-37.9343841;145.0412199
X-APPLE-STRUCTURED-LOCATION;VALUE=URI;X-ADDRESS=St James Moorabbin 416 South Road Moorabbin Victoria Australia;X-APPLE-RADIUS=500;X-TITLE=416 South Road:geo:145.0412199,-37.9343841
END:VEVENT
BEGIN:VEVENT
DTSTART;TZID=Australia/Melbourne:20230301T193000
DTEND;TZID=Australia/Melbourne:20230301T210000
DTSTAMP:20260425T222103
CREATED:20230223T043140Z
LAST-MODIFIED:20230223T043359Z
UID:10000166-1677699000-1677704400@mdlc.lca.org.au
SUMMARY:Lenten Bible Study
DESCRIPTION:Please join us for a journey through Exodus in a series of Bible studies for Lent followed by a cuppa.
URL:https://mdlc.lca.org.au/event/lenten-bible-study/2023-03-01/
LOCATION:St James\, Moorabbin\, 416 South Road\, Moorabbin\, Victoria\, Australia
CATEGORIES:Community event
ATTACH;FMTTYPE=image/jpeg:https://mdlc.lca.org.au/wp-content/uploads/sites/2422/2023/02/003-ls-passover.jpg
GEO:-37.9343841;145.0412199
X-APPLE-STRUCTURED-LOCATION;VALUE=URI;X-ADDRESS=St James Moorabbin 416 South Road Moorabbin Victoria Australia;X-APPLE-RADIUS=500;X-TITLE=416 South Road:geo:145.0412199,-37.9343841
END:VEVENT
BEGIN:VEVENT
DTSTART;TZID=Australia/Melbourne:20230301T100000
DTEND;TZID=Australia/Melbourne:20230301T120000
DTSTAMP:20260425T222103
CREATED:20230224T043116Z
LAST-MODIFIED:20230224T044210Z
UID:10000172-1677664800-1677672000@mdlc.lca.org.au
SUMMARY:Crafty Chat
DESCRIPTION:Come and join us for some fun\, coffee a nibble and some fun craft. The puddings were brilliant.
URL:https://mdlc.lca.org.au/event/crafty-chat/2023-03-01/
LOCATION:St James\, Moorabbin\, 416 South Road\, Moorabbin\, Victoria\, Australia
CATEGORIES:Community event
ATTACH;FMTTYPE=image/jpeg:https://mdlc.lca.org.au/wp-content/uploads/sites/2422/2023/02/crafty-chat-ducks.jpg
GEO:-37.9343841;145.0412199
X-APPLE-STRUCTURED-LOCATION;VALUE=URI;X-ADDRESS=St James Moorabbin 416 South Road Moorabbin Victoria Australia;X-APPLE-RADIUS=500;X-TITLE=416 South Road:geo:145.0412199,-37.9343841
END:VEVENT
BEGIN:VEVENT
DTSTART;TZID=Australia/Melbourne:20230222T100000
DTEND;TZID=Australia/Melbourne:20230222T120000
DTSTAMP:20260425T222103
CREATED:20230224T043116Z
LAST-MODIFIED:20230224T044210Z
UID:10000171-1677060000-1677067200@mdlc.lca.org.au
SUMMARY:Crafty Chat
DESCRIPTION:Come and join us for some fun\, coffee a nibble and some fun craft. The puddings were brilliant.
URL:https://mdlc.lca.org.au/event/crafty-chat/2023-02-22/
LOCATION:St James\, Moorabbin\, 416 South Road\, Moorabbin\, Victoria\, Australia
CATEGORIES:Community event
ATTACH;FMTTYPE=image/jpeg:https://mdlc.lca.org.au/wp-content/uploads/sites/2422/2023/02/crafty-chat-ducks.jpg
GEO:-37.9343841;145.0412199
X-APPLE-STRUCTURED-LOCATION;VALUE=URI;X-ADDRESS=St James Moorabbin 416 South Road Moorabbin Victoria Australia;X-APPLE-RADIUS=500;X-TITLE=416 South Road:geo:145.0412199,-37.9343841
END:VEVENT
BEGIN:VEVENT
DTSTART;TZID=Australia/Melbourne:20220529T100000
DTEND;TZID=Australia/Melbourne:20220529T130000
DTSTAMP:20260425T222103
CREATED:20220518T041353Z
LAST-MODIFIED:20220518T041353Z
UID:10000161-1653818400-1653829200@mdlc.lca.org.au
SUMMARY:Service of Thanksgiving
DESCRIPTION:To be held during our combined congregational service\, look forward to seeing everyone there.
URL:https://mdlc.lca.org.au/event/service-of-thanksgiving/
LOCATION:Victoria
CATEGORIES:Community event,Worship
END:VEVENT
BEGIN:VEVENT
DTSTART;TZID=Australia/Melbourne:20220320T123000
DTEND;TZID=Australia/Melbourne:20220320T140000
DTSTAMP:20260425T222103
CREATED:20220310T091151Z
LAST-MODIFIED:20220310T091151Z
UID:10000157-1647779400-1647784800@mdlc.lca.org.au
SUMMARY:Annual General Meeting
DESCRIPTION:
URL:https://mdlc.lca.org.au/event/annual-general-meeting/
LOCATION:Victoria
CATEGORIES:Community event
END:VEVENT
END:VCALENDAR