BEGIN:VCALENDAR
VERSION:2.0
PRODID:-//Moorabbin–Dandenong Lutheran Church, Vic - ECPv6.8.1//NONSGML v1.0//EN
CALSCALE:GREGORIAN
METHOD:PUBLISH
X-WR-CALNAME:Moorabbin–Dandenong Lutheran Church, Vic
X-ORIGINAL-URL:https://mdlc.lca.org.au
X-WR-CALDESC:Events for Moorabbin–Dandenong Lutheran Church, Vic
REFRESH-INTERVAL;VALUE=DURATION:PT1H
X-Robots-Tag:noindex
X-PUBLISHED-TTL:PT1H
BEGIN:VTIMEZONE
TZID:Australia/Melbourne
BEGIN:STANDARD
TZOFFSETFROM:+1100
TZOFFSETTO:+1000
TZNAME:AEST
DTSTART:20250405T160000
END:STANDARD
BEGIN:DAYLIGHT
TZOFFSETFROM:+1000
TZOFFSETTO:+1100
TZNAME:AEDT
DTSTART:20251004T160000
END:DAYLIGHT
END:VTIMEZONE
BEGIN:VEVENT
DTSTART;TZID=Australia/Melbourne:20251225T090000
DTEND;TZID=Australia/Melbourne:20251225T223000
DTSTAMP:20260425T025925
CREATED:20251223T004321Z
LAST-MODIFIED:20251223T004730Z
UID:10001761-1766653200-1766701800@mdlc.lca.org.au
SUMMARY:Christmas Day Service
DESCRIPTION:
URL:https://mdlc.lca.org.au/event/christmas-day-service/
LOCATION:St James\, Moorabbin\, 416 South Road\, Moorabbin\, Victoria\, Australia
CATEGORIES:Worship
ATTACH;FMTTYPE=image/png:https://mdlc.lca.org.au/wp-content/uploads/sites/2422/2024/12/baby-in-manger.png
GEO:-37.9343841;145.0412199
X-APPLE-STRUCTURED-LOCATION;VALUE=URI;X-ADDRESS=St James Moorabbin 416 South Road Moorabbin Victoria Australia;X-APPLE-RADIUS=500;X-TITLE=416 South Road:geo:145.0412199,-37.9343841
END:VEVENT
BEGIN:VEVENT
DTSTART;TZID=Australia/Melbourne:20251225T103000
DTEND;TZID=Australia/Melbourne:20251225T120000
DTSTAMP:20260425T025925
CREATED:20251223T004451Z
LAST-MODIFIED:20251223T004803Z
UID:10001762-1766658600-1766664000@mdlc.lca.org.au
SUMMARY:Christmas Day Service
DESCRIPTION:
URL:https://mdlc.lca.org.au/event/christmas-day-service-2/
LOCATION:The Marian Room\, 24 New Street\, Dandenong\, Victoria\, Australia
CATEGORIES:Worship
ATTACH;FMTTYPE=image/png:https://mdlc.lca.org.au/wp-content/uploads/sites/2422/2024/12/baby-in-manger.png
GEO:-37.9903107;145.2214213
X-APPLE-STRUCTURED-LOCATION;VALUE=URI;X-ADDRESS=The Marian Room 24 New Street Dandenong Victoria Australia;X-APPLE-RADIUS=500;X-TITLE=24 New Street:geo:145.2214213,-37.9903107
END:VEVENT
END:VCALENDAR